BEGIN:VCALENDAR
VERSION:2.0
PRODID:-//Dream Machine Classics Auto Club Eastern CT - ECPv6.15.20//NONSGML v1.0//EN
CALSCALE:GREGORIAN
METHOD:PUBLISH
X-WR-CALNAME:Dream Machine Classics Auto Club Eastern CT
X-ORIGINAL-URL:https://dreammachineclassics.org
X-WR-CALDESC:Events for Dream Machine Classics Auto Club Eastern CT
REFRESH-INTERVAL;VALUE=DURATION:PT1H
X-Robots-Tag:noindex
X-PUBLISHED-TTL:PT1H
BEGIN:VTIMEZONE
TZID:America/New_York
BEGIN:DAYLIGHT
TZOFFSETFROM:-0500
TZOFFSETTO:-0400
TZNAME:EDT
DTSTART:20250309T070000
END:DAYLIGHT
BEGIN:STANDARD
TZOFFSETFROM:-0400
TZOFFSETTO:-0500
TZNAME:EST
DTSTART:20251102T060000
END:STANDARD
BEGIN:DAYLIGHT
TZOFFSETFROM:-0500
TZOFFSETTO:-0400
TZNAME:EDT
DTSTART:20260308T070000
END:DAYLIGHT
BEGIN:STANDARD
TZOFFSETFROM:-0400
TZOFFSETTO:-0500
TZNAME:EST
DTSTART:20261101T060000
END:STANDARD
BEGIN:DAYLIGHT
TZOFFSETFROM:-0500
TZOFFSETTO:-0400
TZNAME:EDT
DTSTART:20270314T070000
END:DAYLIGHT
BEGIN:STANDARD
TZOFFSETFROM:-0400
TZOFFSETTO:-0500
TZNAME:EST
DTSTART:20271107T060000
END:STANDARD
END:VTIMEZONE
BEGIN:VEVENT
DTSTART;TZID=America/New_York:20260901T170000
DTEND;TZID=America/New_York:20260901T200000
DTSTAMP:20260422T184936
CREATED:20250327T161148Z
LAST-MODIFIED:20260405T140754Z
UID:1173-1788282000-1788292800@dreammachineclassics.org
SUMMARY:Hank's Dairy Bar Car Cruise
DESCRIPTION:Rain date following Tuesday\, \nMonthly Car Cruise on the Lawn \n\n\n\n\n\n\n\nEvent is free and open to all car enthusiasts. Parking will be on the back lawn\, unless the ground is too soft and then other accommodations will be made. Live Music on the Stage\, along with some event only specials.
URL:https://dreammachineclassics.org/event/hanks-dairy-bar-car-cruise-5/
LOCATION:Hank’s Dairy Bar\, 1006 Norwich Road (Route 12)\, Plainfield\, CT\, 06354
CATEGORIES:Cruise Night
END:VEVENT
BEGIN:VEVENT
DTSTART;TZID=America/New_York:20260901T170000
DTEND;TZID=America/New_York:20260901T200000
DTSTAMP:20260422T184936
CREATED:20260326T005429Z
LAST-MODIFIED:20260326T005429Z
UID:4921-1788282000-1788292800@dreammachineclassics.org
SUMMARY:Hank’s Dairy Bar Car Cruise
DESCRIPTION:monthly Car Cruise on the Lawn \n\n\n\n\n\n\n\nEvent is free and open to all car enthusiasts. Parking will be on the back lawn\, unless the ground is too soft and then other accommodations will be made. Live Music on the Stage\, along with some event only specials. \nFirst Tuesday Each Month Rain Date Following Tuesday. \nclick for flyer
URL:https://dreammachineclassics.org/event/hanks-dairy-bar-car-cruise-8/
LOCATION:Hank’s Dairy Bar\, 1006 Norwich Road (Route 12)\, Plainfield\, CT\, 06354
CATEGORIES:Cruise Night
END:VEVENT
BEGIN:VEVENT
DTSTART;TZID=America/New_York:20260901T180000
DTEND;TZID=America/New_York:20260901T200000
DTSTAMP:20260422T184936
CREATED:20260325T155335Z
LAST-MODIFIED:20260325T155335Z
UID:4906-1788285600-1788292800@dreammachineclassics.org
SUMMARY:Natures Art (The Dinosaur Place) Cruise Night 2026 by Yesteryear Auto Club.
DESCRIPTION:First Tuesday of each month May thru September Rain Date following Thursday. \nPre 1978 Classics and Antiques Car and Trucks. \nConcession: Food\, Beverages\, Ice-cream\, Trophies\, Live DJ\, and Fantastic Raffle Prizes\,
URL:https://dreammachineclassics.org/event/natures-art-the-dinosaur-place-cruise-night-2026-by-yesteryear-auto-club-5/
LOCATION:Nature’s Art Cruise Nights 2026 at the (Dinosaurs Place)\, 1650 Hartford-New London Turnpike\, Rt 85\, Oakdale\, CT\, 06370\, United States
CATEGORIES:Cruise Night
END:VEVENT
BEGIN:VEVENT
DTSTART;TZID=America/New_York:20260902T043000
DTEND;TZID=America/New_York:20260902T200000
DTSTAMP:20260422T184936
CREATED:20260317T225351Z
LAST-MODIFIED:20260405T140739Z
UID:4299-1788323400-1788379200@dreammachineclassics.org
SUMMARY:29th Annual Cruise Night on Main Street Middletown Ct.
DESCRIPTION:Wednesday\, September 2\, 2026 • 4:30 PM – 8:00 PM\nMain Street • Middletown\, CT \nA beloved Middletown tradition returns for its 29th year—now with a new date! Enjoy an evening packed with classic cars\, community energy\, and family‑friendly fun right in the heart of downtown. \n$10.00 per show Vehicle   Free to Spectators \ninfo at Middlesex chamber of commerce    860 347 6924 \nclick here for flyer
URL:https://dreammachineclassics.org/event/29-th-annual-cruise-night-on-main-street-middle-town/
LOCATION:Middletown-Main Street\, Main Street\, Middletown\, CT
CATEGORIES:Cruise Night
END:VEVENT
BEGIN:VEVENT
DTSTART;TZID=America/New_York:20260902T170000
DTEND;TZID=America/New_York:20260902T190000
DTSTAMP:20260422T184936
CREATED:20260403T145051Z
LAST-MODIFIED:20260403T145051Z
UID:5098-1788368400-1788375600@dreammachineclassics.org
SUMMARY:Moose Lodge 950 2026 Cruise
DESCRIPTION:New Date 1st Wednesday Each Month Starting May 6th .  5PM till 7PM \nRods / Customs / Antiques / Muscle Cars / Special Interest \nFood Services and Beverages Available at the Moose Club Bozrah CT \nFor more info call (860) 889-6856 \nclick for flyers
URL:https://dreammachineclassics.org/event/moose-lodge-950-2026-cruise/
LOCATION:Bozrah Moose Lodge 950\, 115 Fitchville Rd\, Bozrah\, CT
CATEGORIES:Cruise Night
END:VEVENT
BEGIN:VEVENT
DTSTART;TZID=America/New_York:20260903T160000
DTEND;TZID=America/New_York:20260903T210000
DTSTAMP:20260422T184936
CREATED:20260226T154516Z
LAST-MODIFIED:20260405T140703Z
UID:3986-1788451200-1788469200@dreammachineclassics.org
SUMMARY:Bass Pro Shops Cruise Night at Patriot Place
DESCRIPTION:Widely considered “New England’s Premier Cruise Night”. \nHosted by the Mass Cruisers\, this bi-weekly event transforms the parking lots around Gillette Stadium into one of the largest automotive gatherings in the region\, often featuring hundreds of classic and unique vehicles.  \n\n\nLocation: Patriot Place (specifically Lots 14A\, 14B\, and 16; enter via P8).\nAdmission: Free for both owners and spectators.
URL:https://dreammachineclassics.org/event/bass-pro-shops-cruise-night-at-patriot-place-7/
LOCATION:Bass Pro Shops\, 1 Bass Pro Drive\, Foxboro\, MA
CATEGORIES:Cruise Night
END:VEVENT
BEGIN:VEVENT
DTSTART;TZID=America/New_York:20260904T170000
DTEND;TZID=America/New_York:20260904T193000
DTSTAMP:20260422T184936
CREATED:20260323T230510Z
LAST-MODIFIED:20260323T230510Z
UID:4801-1788541200-1788550200@dreammachineclassics.org
SUMMARY:Cruisin’ @ CT Golf Land 2026
DESCRIPTION:Every Friday\, 5pm – Dark \nWeekly Trophy \nCar Show at Golf Land in Vernon\, CT on Rte. 30 / 83 \nBrought to you by: Rocking Horse Bar & Grill \nclick for flyer
URL:https://dreammachineclassics.org/event/cruisin-ct-golf-land-2026-18/
LOCATION:CT Golf Land\, 95 Hartford Turnpike\, Vernon\, CT\, 06066
CATEGORIES:Cruise Night
END:VEVENT
BEGIN:VEVENT
DTSTART;TZID=America/New_York:20260905T070000
DTEND;TZID=America/New_York:20260905T120000
DTSTAMP:20260422T184936
CREATED:20260202T205436Z
LAST-MODIFIED:20260405T143439Z
UID:3705-1788591600-1788609600@dreammachineclassics.org
SUMMARY:Hot Rods On The Hill - 11th Annual
DESCRIPTION:Pre 1979 Car Show \nFood Trucks\, Pinup Pageant\, Pinstripe Competition\, Live Band \n$10 Per Car
URL:https://dreammachineclassics.org/event/hot-rods-on-the-hill-11th-annual/
LOCATION:Diamond Hill State Park\, 4097 Diamond Hill Rd.\, Cumberland\, RI\, 02864
CATEGORIES:Car Show
END:VEVENT
BEGIN:VEVENT
DTSTART;TZID=America/New_York:20260905T090000
DTEND;TZID=America/New_York:20260905T140000
DTSTAMP:20260422T184936
CREATED:20260324T141056Z
LAST-MODIFIED:20260405T140651Z
UID:4825-1788598800-1788616800@dreammachineclassics.org
SUMMARY:Swap Meet Saturdays at National Speed Center 1st Saturday of Each Month.
DESCRIPTION:Starting the Spring of 2026 1st Saturday of each month. \n9AM till 2PM \n115 Park Ave East Hartford Ct. 06108 \nFree gen Admission for Spectators for Vendor see Flyer \nclick for flyer
URL:https://dreammachineclassics.org/event/swap-meet-saturdays-at-national-speed-center-1st-saturday-of-each-month-5/
LOCATION:National Speed Center\, 115 Park Ave\, East Hartford\, 06108\, United States
CATEGORIES:Swap Meet
END:VEVENT
BEGIN:VEVENT
DTSTART;TZID=America/New_York:20260905T140000
DTEND;TZID=America/New_York:20260905T190000
DTSTAMP:20260422T184936
CREATED:20260316T204625Z
LAST-MODIFIED:20260405T140633Z
UID:4275-1788616800-1788634800@dreammachineclassics.org
SUMMARY:Pomfret Cruise Season 2026 by Tri State Cruisers
DESCRIPTION:Every Saturday Night April thru September 2026 \nAt the corner of Rt. 169 & Rt.101 Pomfret Center. \nEnter Cruise from behind pizza 101. \nclick here for flyer
URL:https://dreammachineclassics.org/event/pomfret-cruise-season-2026-by-tri-state-cruisers-15/
LOCATION:Pizza 101\, 16 Mashamoquct Rd.#A\, Pomfret\, CT\, 06259\, United States
CATEGORIES:Cruise Night
END:VEVENT
BEGIN:VEVENT
DTSTART;TZID=America/New_York:20260905T150000
DTEND;TZID=America/New_York:20260905T190000
DTSTAMP:20260422T184936
CREATED:20250428T191712Z
LAST-MODIFIED:20260405T140613Z
UID:2069-1788620400-1788634800@dreammachineclassics.org
SUMMARY:Bristol Auto Club-Cruise Nights
DESCRIPTION:No Rain Dates \nEvery 1st & 3rd Saturday Nights May 2nd through October 3rd \nFree Admission\, No Cut-Off\, 3 Awards Each Night\, Raffle Prizes\, Oldies Music \nSpecial Thanks to The D’Amato Family \nclick here for flyer \n 
URL:https://dreammachineclassics.org/event/bristol-auto-club-cruise-nights-8/
LOCATION:Bristol Auto Club\, 10 Main Street\, Bristol\, CT
CATEGORIES:Cruise Night
END:VEVENT
BEGIN:VEVENT
DTSTART;TZID=America/New_York:20260907T170000
DTEND;TZID=America/New_York:20260907T190000
DTSTAMP:20260422T184936
CREATED:20260323T165043Z
LAST-MODIFIED:20260323T172713Z
UID:4685-1788800400-1788807600@dreammachineclassics.org
SUMMARY:Fish Family Farm Creamery and Dairy Car Cruise Every Monday Night 2026
DESCRIPTION:Every Monday\, weather permitting\, 5pm till 7 pm \nAll Makes and Models Welcome\, \nRaising Money for Lymphoma doing a 50/50 \nFood Truck\, Ice Cream \nclick for flyer
URL:https://dreammachineclassics.org/event/fish-family-farm-creamery-and-dairy-car-cruise-every-monday-night-2026-18/
LOCATION:Fish Family Farm Creamery\, 20 Dimock Ln\, Bolton\, CT\, 06043\, United States
CATEGORIES:Cruise Night
END:VEVENT
BEGIN:VEVENT
DTSTART;TZID=America/New_York:20260907T170000
DTEND;TZID=America/New_York:20260907T200000
DTSTAMP:20260422T184936
CREATED:20260322T185328Z
LAST-MODIFIED:20260322T185328Z
UID:4589-1788800400-1788811200@dreammachineclassics.org
SUMMARY:Ocean Beach Park every Monday Cruise Nite New London Ct.
DESCRIPTION:Admission is Free to all after 5pm
URL:https://dreammachineclassics.org/event/ocean-beach-park-every-monday-cruise-nite-new-london-ct-16/
LOCATION:Ocean Beach Park Monday night Cruise 2026\, 98 Neptune Avenue\, New London\, CT\, 06320
CATEGORIES:Cruise Night
END:VEVENT
BEGIN:VEVENT
DTSTART;TZID=America/New_York:20260908T170000
DTEND;TZID=America/New_York:20260908T190000
DTSTAMP:20260422T184936
CREATED:20260228T144013Z
LAST-MODIFIED:20260415T131712Z
UID:4032-1788886800-1788894000@dreammachineclassics.org
SUMMARY:Square Peg Pizzeria Cruise
DESCRIPTION:Sponsored By Flemings Feed And Hardware\,   Preston General Store \nFood And Beverages Available \nRain Date 2nd Thursday Each Month \nclick for flyer
URL:https://dreammachineclassics.org/event/square-peg-pizzeria-cruise-5/
LOCATION:Square Peg Pizzeria at Flemings Field\, 353 CT\, Route 165\, Preston\, CT\, 06365\, United States
CATEGORIES:Cruise Night
END:VEVENT
BEGIN:VEVENT
DTSTART;TZID=America/New_York:20260910T170000
DTEND;TZID=America/New_York:20260910T190000
DTSTAMP:20260422T184936
CREATED:20260401T004845Z
LAST-MODIFIED:20260401T005218Z
UID:5056-1789059600-1789066800@dreammachineclassics.org
SUMMARY:Douglas Manor Car Cruise Night 2026
DESCRIPTION:All Years Welcome \nMusic by The P’OM and Paul \nFree Hot Dogs and Ice Cream
URL:https://dreammachineclassics.org/event/douglas-manor-car-cruise-night-2026/
LOCATION:Douglas Manor\, 103 North Road\, Windham\, CT
CATEGORIES:Cruise Night
END:VEVENT
BEGIN:VEVENT
DTSTART;TZID=America/New_York:20260911T170000
DTEND;TZID=America/New_York:20260911T190000
DTSTAMP:20260422T184936
CREATED:20260319T184104Z
LAST-MODIFIED:20260410T123015Z
UID:4499-1789146000-1789153200@dreammachineclassics.org
SUMMARY:Aero Diner Cruise Rt 6 North Windham CT.
DESCRIPTION:Aero Diner Cruise 2026 5PM till 7PM \nMusic By the Pom \n  \nclick for flyer
URL:https://dreammachineclassics.org/event/aero-diner-cruise-rt-6-north-windham-ct/
LOCATION:Aero Diner\, 361 Boston Post Rd # 13\, North Windham\, CT\, 06256
CATEGORIES:Cruise Night
END:VEVENT
BEGIN:VEVENT
DTSTART;TZID=America/New_York:20260911T170000
DTEND;TZID=America/New_York:20260911T193000
DTSTAMP:20260422T184936
CREATED:20260323T230808Z
LAST-MODIFIED:20260323T230808Z
UID:4804-1789146000-1789155000@dreammachineclassics.org
SUMMARY:Cruisin’ @ CT Golf Land 2026
DESCRIPTION:Every Friday\, 5pm – Dark \nWeekly Trophy \nCar Show at Golf Land in Vernon\, CT on Rte. 30 / 83 \nBrought to you by: Rocking Horse Bar & Grill \nclick for flyer
URL:https://dreammachineclassics.org/event/cruisin-ct-golf-land-2026-19/
LOCATION:CT Golf Land\, 95 Hartford Turnpike\, Vernon\, CT\, 06066
CATEGORIES:Cruise Night
END:VEVENT
BEGIN:VEVENT
DTSTART;TZID=America/New_York:20260912T100000
DTEND;TZID=America/New_York:20260912T150000
DTSTAMP:20260422T184936
CREATED:20260215T164112Z
LAST-MODIFIED:20260329T164026Z
UID:3824-1789207200-1789225200@dreammachineclassics.org
SUMMARY:Cindy's Show
DESCRIPTION:One Day Benefit Fun Run \nAdmission is $10 Per Head Donation\, Kids under 12 Free \nAll Nurses Enter Free \nAll Donations Go To The Cynthia M. Rouquie RN Memorial Scholarship Fund To Support Future Nurses \nFor More Info Contact Phil Rouquie 860-841-0340 or philroq31@aol.com
URL:https://dreammachineclassics.org/event/cindys-show/
LOCATION:Glastonbury Elks Lodge\, 98 Woodland Street\, Glastonbury\, CT\, United States
CATEGORIES:Cruise Night
END:VEVENT
BEGIN:VEVENT
DTSTART;TZID=America/New_York:20260912T140000
DTEND;TZID=America/New_York:20260912T190000
DTSTAMP:20260422T184936
CREATED:20260316T235211Z
LAST-MODIFIED:20260329T164005Z
UID:4221-1789221600-1789239600@dreammachineclassics.org
SUMMARY:Pomfret Cruise Season 2026 by Tri State Cruisers
DESCRIPTION:Every Saturday Night April thru September 2026 \nAt the corner of Rt.169 & Rt.101 \nEnter from behind pizza 101 \nclick here for flyer
URL:https://dreammachineclassics.org/event/pomfret-cruise-season-2026-by-tri-state-cruisers-19/
LOCATION:Pizza 101\, 16 Mashamoquct Rd.#A\, Pomfret\, CT\, 06259\, United States
CATEGORIES:Cruise Night
END:VEVENT
BEGIN:VEVENT
DTSTART;TZID=America/New_York:20260914T170000
DTEND;TZID=America/New_York:20260914T190000
DTSTAMP:20260422T184936
CREATED:20260323T165230Z
LAST-MODIFIED:20260323T165921Z
UID:4687-1789405200-1789412400@dreammachineclassics.org
SUMMARY:Fish Family Farm Creamery and Dairy Car Cruise Every Monday Night 2026
DESCRIPTION:Every Monday\, weather permitting\, 5pm till 7 pm \nAll Makes and Models Welcome\, \nRaising Money for Lymphoma doing a 50/50 \nFood Truck\, Ice Cream \nclick for flyer
URL:https://dreammachineclassics.org/event/fish-family-farm-creamery-and-dairy-car-cruise-every-monday-night-2026-19/
LOCATION:Fish Family Farm Creamery\, 20 Dimock Ln\, Bolton\, CT\, 06043\, United States
CATEGORIES:Cruise Night
END:VEVENT
BEGIN:VEVENT
DTSTART;TZID=America/New_York:20260914T170000
DTEND;TZID=America/New_York:20260914T200000
DTSTAMP:20260422T184936
CREATED:20260322T185518Z
LAST-MODIFIED:20260322T185518Z
UID:4591-1789405200-1789416000@dreammachineclassics.org
SUMMARY:Ocean Beach Park every Monday Cruise Nite New London Ct.
DESCRIPTION:Admission is Free to all after 5pm
URL:https://dreammachineclassics.org/event/ocean-beach-park-every-monday-cruise-nite-new-london-ct-17/
LOCATION:Ocean Beach Park Monday night Cruise 2026\, 98 Neptune Avenue\, New London\, CT\, 06320
CATEGORIES:Cruise Night
END:VEVENT
BEGIN:VEVENT
DTSTART;TZID=America/New_York:20260914T180000
DTEND;TZID=America/New_York:20260914T200000
DTSTAMP:20260422T184936
CREATED:20250321T191956Z
LAST-MODIFIED:20260405T144247Z
UID:943-1789408800-1789416000@dreammachineclassics.org
SUMMARY:Dream Machine Classics Club Meeting
DESCRIPTION:
URL:https://dreammachineclassics.org/event/dream-machine-classics-club-meeting-5/
LOCATION:Bozrah Moose Lodge 950\, 115 Fitchville Rd\, Bozrah\, CT
CATEGORIES:DMC Meeting
END:VEVENT
BEGIN:VEVENT
DTSTART;TZID=America/New_York:20260916T170000
DTEND;TZID=America/New_York:20260916T200000
DTSTAMP:20260422T184936
CREATED:20260331T004822Z
LAST-MODIFIED:20260410T144820Z
UID:4998-1789578000-1789588800@dreammachineclassics.org
SUMMARY:Colchester Cruise On the Green by Good Time Motoring Club
DESCRIPTION:third Wednesday of each month Rain Date 4th Wednesday of each month May thru September. \nNo 1988 or newer Vehicles allowed on the Show Field Due to lack of Room. \nPlease No Burn outs and No Alcohol \nDue to limited space on the green GTMC reserves the right to deny any vehicle admission to the Green. Personnel on duty at the entrance have the final decision to grant or deny access. \nClick to view flyer
URL:https://dreammachineclassics.org/event/colchester-cruise-on-the-green-by-good-time-motoring-club-5/
LOCATION:Colchester on the Green\, 98 Hayward Avenue\, Colchester\, CT\, 06415
CATEGORIES:Cruise Night
END:VEVENT
BEGIN:VEVENT
DTSTART;TZID=America/New_York:20260917T160000
DTEND;TZID=America/New_York:20260917T210000
DTSTAMP:20260422T184936
CREATED:20260226T154850Z
LAST-MODIFIED:20260329T153022Z
UID:3987-1789660800-1789678800@dreammachineclassics.org
SUMMARY:Bass Pro Shops Cruise Night at Patriot Place
DESCRIPTION:Widely considered “New England’s Premier Cruise Night”. \nHosted by the Mass Cruisers\, this bi-weekly event transforms the parking lots around Gillette Stadium into one of the largest automotive gatherings in the region\, often featuring hundreds of classic and unique vehicles.  \n\n\nLocation: Patriot Place (specifically Lots 14A\, 14B\, and 16; enter via P8).\nAdmission: Free for both owners and spectators.
URL:https://dreammachineclassics.org/event/bass-pro-shops-cruise-night-at-patriot-place-13/
LOCATION:Bass Pro Shops\, 1 Bass Pro Drive\, Foxboro\, MA
CATEGORIES:Cruise Night
END:VEVENT
BEGIN:VEVENT
DTSTART;TZID=America/New_York:20260918T000000
DTEND;TZID=America/New_York:20260919T235959
DTSTAMP:20260422T184936
CREATED:20260215T170404Z
LAST-MODIFIED:20260215T170404Z
UID:3826-1789689600-1789862399@dreammachineclassics.org
SUMMARY:NSRA Northeast Nationals
DESCRIPTION:Burlington\, Vt. \nHeld At The Champlain Valley Exposition Fairgrounds \nOnly Vehicles Of 1996 Or Earlier Manufacture Are Accepted For Participation And Entry \nNo Mail in Entries Accepted After Friday August 28th \nDiscount Available Through Friday August 28th \nContact NSRA Website  www.nsra-usa.com For Prices or Call 901-452-4030 \n  \n  \n 
URL:https://dreammachineclassics.org/event/nsra-northeast-nationals/
LOCATION:Champlain Valley Exposition Center\, Burlington\, VT
END:VEVENT
BEGIN:VEVENT
DTSTART;TZID=America/New_York:20260918T163000
DTEND;TZID=America/New_York:20260918T190000
DTSTAMP:20260422T184936
CREATED:20260401T002328Z
LAST-MODIFIED:20260405T140451Z
UID:5047-1789749000-1789758000@dreammachineclassics.org
SUMMARY:Bozrah Farmer Market Cruise Night 2026
DESCRIPTION:Bozrah Farmers Market Cruise Night \nMusic by the Pom\, Food and Drinks\, Ice cream \nDirections: \nExit 23 off Rt 2\, follow Sheep signs to Maples Farm Park\, for more info visit www.bozrahfarmersmarket.org
URL:https://dreammachineclassics.org/event/bozrah-farmer-market-cruise-night-2026-2/
LOCATION:Bozrah Farmers Market\, 45 Bozrah Street (Rt 163)\, Bozrah\, CT
CATEGORIES:Cruise Night
END:VEVENT
BEGIN:VEVENT
DTSTART;TZID=America/New_York:20260918T170000
DTEND;TZID=America/New_York:20260918T200000
DTSTAMP:20260422T184936
CREATED:20260323T221024Z
LAST-MODIFIED:20260323T232527Z
UID:4760-1789750800-1789761600@dreammachineclassics.org
SUMMARY:Cruisin’ @ CT Golf Land 2026
DESCRIPTION:Every Friday\, 5pm – Dark \nWeekly Trophy \nCar Show at Golf Land in Vernon\, CT on Rte. 30 / 83 \nBrought to you by: Rocking Horse Bar & Grill \nclick for flyer
URL:https://dreammachineclassics.org/event/cruisin-ct-golf-land-2026-9/
LOCATION:CT Golf Land\, 95 Hartford Turnpike\, Vernon\, CT\, 06066
CATEGORIES:Cruise Night
END:VEVENT
BEGIN:VEVENT
DTSTART;TZID=America/New_York:20260919T150000
DTEND;TZID=America/New_York:20260919T190000
DTSTAMP:20260422T184936
CREATED:20250428T191749Z
LAST-MODIFIED:20260329T163850Z
UID:2071-1789830000-1789844400@dreammachineclassics.org
SUMMARY:Bristol Auto Club-Cruise Nights
DESCRIPTION:No Rain Dates \nEvery 1st & 3rd Saturday Nights May 2nd through October 3rd \nFree Admission\, No Cut-Off\, 3 Awards Each Night\, Raffle Prizes\, Oldies Music \nSpecial Thanks to The D’Amato Family \nclick here for flyer
URL:https://dreammachineclassics.org/event/bristol-auto-club-cruise-nights-9/
LOCATION:Bristol Auto Club\, 10 Main Street\, Bristol\, CT
CATEGORIES:Cruise Night
END:VEVENT
BEGIN:VEVENT
DTSTART;TZID=America/New_York:20260919T160000
DTEND;TZID=America/New_York:20260919T190000
DTSTAMP:20260422T184936
CREATED:20260326T014412Z
LAST-MODIFIED:20260326T014412Z
UID:4940-1789833600-1789844400@dreammachineclassics.org
SUMMARY:Southeastern Connecticut Mustang Club Cruise Night 2026 at The Center of Montville.
DESCRIPTION:2026 May thru September 3Rd Saturday of each Month. \nRain Date Following Saturday. \nPlease No Alcohol & No Burn Outs Booze. \n  \nclick for flyer
URL:https://dreammachineclassics.org/event/southeastern-connecticut-mustang-club-cruise-night-2026-at-the-center-of-montville-4/
LOCATION:South Eastern Connecticut Mustang Club\, 601 Rt. 32\, Uncasville\, Ct.\, 06382
CATEGORIES:Cruise Night
END:VEVENT
BEGIN:VEVENT
DTSTART;TZID=America/New_York:20260921T163000
DTEND;TZID=America/New_York:20260921T183000
DTSTAMP:20260422T184936
CREATED:20260411T214959Z
LAST-MODIFIED:20260411T214959Z
UID:5250-1790008200-1790015400@dreammachineclassics.org
SUMMARY:Cruise Nights at Elks of Willimantic 2026
DESCRIPTION:Open to all Classic Cars\, Awards\, Free to participants and Spectators\, Music by Gary Pomo: THE P’OM \nNo animals Allowed Except Registered Service Dogs \nQuestions Call Dan Arnini at 860 428 1420 \n  \nclick for flyer
URL:https://dreammachineclassics.org/event/cruise-nights-at-elks-of-willimantic-2026-2/
LOCATION:Elks of Willimantic\, 198 Pleasant Street\, Willimantic\, CT
CATEGORIES:Cruise Night
END:VEVENT
END:VCALENDAR