BEGIN:VCALENDAR
VERSION:2.0
PRODID:-//Dream Machine Classics Auto Club Eastern CT - ECPv6.15.20//NONSGML v1.0//EN
CALSCALE:GREGORIAN
METHOD:PUBLISH
X-WR-CALNAME:Dream Machine Classics Auto Club Eastern CT
X-ORIGINAL-URL:https://dreammachineclassics.org
X-WR-CALDESC:Events for Dream Machine Classics Auto Club Eastern CT
REFRESH-INTERVAL;VALUE=DURATION:PT1H
X-Robots-Tag:noindex
X-PUBLISHED-TTL:PT1H
BEGIN:VTIMEZONE
TZID:America/New_York
BEGIN:DAYLIGHT
TZOFFSETFROM:-0500
TZOFFSETTO:-0400
TZNAME:EDT
DTSTART:20250309T070000
END:DAYLIGHT
BEGIN:STANDARD
TZOFFSETFROM:-0400
TZOFFSETTO:-0500
TZNAME:EST
DTSTART:20251102T060000
END:STANDARD
BEGIN:DAYLIGHT
TZOFFSETFROM:-0500
TZOFFSETTO:-0400
TZNAME:EDT
DTSTART:20260308T070000
END:DAYLIGHT
BEGIN:STANDARD
TZOFFSETFROM:-0400
TZOFFSETTO:-0500
TZNAME:EST
DTSTART:20261101T060000
END:STANDARD
BEGIN:DAYLIGHT
TZOFFSETFROM:-0500
TZOFFSETTO:-0400
TZNAME:EDT
DTSTART:20270314T070000
END:DAYLIGHT
BEGIN:STANDARD
TZOFFSETFROM:-0400
TZOFFSETTO:-0500
TZNAME:EST
DTSTART:20271107T060000
END:STANDARD
END:VTIMEZONE
BEGIN:VEVENT
DTSTART;TZID=America/New_York:20260517T070000
DTEND;TZID=America/New_York:20260517T140000
DTSTAMP:20260422T175116
CREATED:20260324T214525Z
LAST-MODIFIED:20260405T142732Z
UID:4871-1779001200-1779026400@dreammachineclassics.org
SUMMARY:Carter Hill Farms Antique Auto Parts Swap Meet
DESCRIPTION:Sunday May 17th 2026 (7:00Am till 2:00Pm.\n86 East Hampton Road Marlborough Ct. \n\nJoin the Others! CC for our 3rd annual Antique Auto Swap & Sell.\nEarly Ford & Hot Rod* Automotive & Petrol Collectables * Speed Parts\n~Show Car Parking Available~\nAdmission is free for spectators; Vendor Space is $30 per spot. Vendors must preregister. Call Keith 860 543-9979\n\nBreakfast & Lunch available at the farm \nclick here for flyer
URL:https://dreammachineclassics.org/event/carter-hill-farms-antique-auto-parts-swap-meet/
LOCATION:Carter Hill Swap Meet 2026\, 86 East Hampton Rd.\, Malbrough\, Ct.\, 06477
CATEGORIES:Swap Meet
END:VEVENT
BEGIN:VEVENT
DTSTART;TZID=America/New_York:20260518T053000
DTEND;TZID=America/New_York:20260518T073000
DTSTAMP:20260422T175116
CREATED:20250405T230615Z
LAST-MODIFIED:20260411T212011Z
UID:1545-1779082200-1779089400@dreammachineclassics.org
SUMMARY:Cruise Nights at Elks of Willimantic
DESCRIPTION:5:30pm ’til Dark \nOpen to all Classic Cars\, Awards\, Free to participants and Spectators\, Music by Gary Pomo: THE P’OM \nNo animals Allowed Except Registered Service Dogs \nFor info Call Dan Armini at 860 428 1420 \nclick for flyer
URL:https://dreammachineclassics.org/event/cruise-nights-at-elks-of-willimantic/
LOCATION:Elks of Willimantic\, 198 Pleasant Street\, Willimantic\, CT
CATEGORIES:Cruise Night
END:VEVENT
BEGIN:VEVENT
DTSTART;TZID=America/New_York:20260518T163000
DTEND;TZID=America/New_York:20260518T193000
DTSTAMP:20260422T175116
CREATED:20260318T202905Z
LAST-MODIFIED:20260414T014622Z
UID:4345-1779121800-1779132600@dreammachineclassics.org
SUMMARY:Monday Night Weekly Cruise Thompson Ct.
DESCRIPTION:  \nWhere: River Side Park Across from Thompson Town Hall . 315 River side Drive Tompson Ct. \nA Weekly Classic Car Cruise Open to the Public. \nStarting April 20\, 2026\, and every Monday 4:30 till Dark \nclick for flyer
URL:https://dreammachineclassics.org/event/monday-night-weekly-cruise-thompson-ct-4/
LOCATION:Thompson Riverside Park\, 315 Riverside drive Park\, Thompson\, CT\, United States
CATEGORIES:Cruise Night
END:VEVENT
BEGIN:VEVENT
DTSTART;TZID=America/New_York:20260518T170000
DTEND;TZID=America/New_York:20260518T190000
DTSTAMP:20260422T175116
CREATED:20260323T011429Z
LAST-MODIFIED:20260323T011429Z
UID:4642-1779123600-1779130800@dreammachineclassics.org
SUMMARY:Fish Family Farm Creamery and Dairy Car Cruise Every Monday Night 2026
DESCRIPTION:Every Monday\, weather permitting\, 5pm till 7 pm \nAll Makes and Models Welcome\, \nRaising Money for Lymphoma doing a 50/50 \nFood Truck\, Ice Cream \nclick here for flyer
URL:https://dreammachineclassics.org/event/fish-family-farm-creamery-and-dairy-car-cruise-every-monday-night-2026-3/
LOCATION:Fish Family Farm Creamery\, 20 Dimock Ln\, Bolton\, CT\, 06043\, United States
CATEGORIES:Cruise Night
END:VEVENT
BEGIN:VEVENT
DTSTART;TZID=America/New_York:20260518T170000
DTEND;TZID=America/New_York:20260518T200000
DTSTAMP:20260422T175116
CREATED:20260322T171356Z
LAST-MODIFIED:20260322T171356Z
UID:4552-1779123600-1779134400@dreammachineclassics.org
SUMMARY:Ocean Beach Park every Monday Cruise Nite New London Ct.
DESCRIPTION:Admission is Free to all after 5pm
URL:https://dreammachineclassics.org/event/ocean-beach-park-every-monday-cruise-nite-new-london-ct-2/
LOCATION:Ocean Beach Park Monday night Cruise 2026\, 98 Neptune Avenue\, New London\, CT\, 06320
CATEGORIES:Car Show
END:VEVENT
BEGIN:VEVENT
DTSTART;TZID=America/New_York:20260520T170000
DTEND;TZID=America/New_York:20260520T200000
DTSTAMP:20260422T175116
CREATED:20260331T003159Z
LAST-MODIFIED:20260410T145144Z
UID:4979-1779296400-1779307200@dreammachineclassics.org
SUMMARY:Colchester Cruise On the Green by Good Time Motoring Club
DESCRIPTION:Third Wednesday of each month Rain Date 4th Wednesday of each month May thru September. \nNo 1988 or newer Vehicles allowed on the Show Field Due to lack of Room. \nPlease No Burn outs and No Alcohol \nDue to limited space on the green GTMC reserves the right to deny any vehicle admission to the Green. Personnel on duty at the entrance have the final decision to grant or deny access. \nClick to view flyer
URL:https://dreammachineclassics.org/event/colchester-cruise-on-the-green-by-good-time-motoring-club/
LOCATION:Colchester on the Green\, 98 Hayward Avenue\, Colchester\, CT\, 06415
CATEGORIES:Cruise Night
END:VEVENT
BEGIN:VEVENT
DTSTART;TZID=America/New_York:20260522T170000
DTEND;TZID=America/New_York:20260522T200000
DTSTAMP:20260422T175116
CREATED:20260323T214645Z
LAST-MODIFIED:20260323T214645Z
UID:4739-1779469200-1779480000@dreammachineclassics.org
SUMMARY:Cruisin' @ CT Golf Land 2026
DESCRIPTION:Every Friday\, 5pm – Dark \nWeekly Trophy \nCar Show at Golf Land in Vernon\, CT on Rte. 30 / 83 \nBrought to you by: Rocking Horse Bar & Grill \nclick for flyer
URL:https://dreammachineclassics.org/event/cruisin-ct-golf-land-2026-3/
LOCATION:CT Golf Land\, 95 Hartford Turnpike\, Vernon\, CT\, 06066
CATEGORIES:Cruise Night
END:VEVENT
BEGIN:VEVENT
DTSTART;TZID=America/New_York:20260523T090000
DTEND;TZID=America/New_York:20260523T130000
DTSTAMP:20260422T175116
CREATED:20260226T184019Z
LAST-MODIFIED:20260226T184019Z
UID:4014-1779526800-1779541200@dreammachineclassics.org
SUMMARY:Gathering Of The Rides
DESCRIPTION:Any Vintage/Classic Car Lover Is Invited.  Vintage Cars Not Required To Attend \nMorning Coffee And Donuts \nAfternoon Pizza And Snacks \nPlease Bring A Non-Perishable Food Donation To Help The Shoreline Soup Kitchen \nRain Date Sunday\, May 24\, 2026
URL:https://dreammachineclassics.org/event/gathering-of-the-rides/
LOCATION:Cardone And Daughter Automotive\, 4 Custom Dr.\, Old Saybrook\, CT\, 06475\, United States
END:VEVENT
BEGIN:VEVENT
DTSTART;TZID=America/New_York:20260523T140000
DTEND;TZID=America/New_York:20260523T190000
DTSTAMP:20260422T175116
CREATED:20260316T021146Z
LAST-MODIFIED:20260405T142813Z
UID:4225-1779544800-1779562800@dreammachineclassics.org
SUMMARY:Pomfret Cruise Season 2026 by Tri State Cruisers
DESCRIPTION:Every Saturday Night April thru September 2026 \nAt the corner of Rt.169 & Rt.101 Pomfret Center \nEnter Cruise from behind Pizza 101 \nclick here for flyer \n 
URL:https://dreammachineclassics.org/event/pomfret-cruise-season-2026-by-tri-state-cruisers-5/
LOCATION:Pizza 101\, 16 Mashamoquct Rd.#A\, Pomfret\, CT\, 06259\, United States
CATEGORIES:Cruise Night
END:VEVENT
BEGIN:VEVENT
DTSTART;TZID=America/New_York:20260524T080000
DTEND;TZID=America/New_York:20260524T170000
DTSTAMP:20260422T175116
CREATED:20260331T214056Z
LAST-MODIFIED:20260331T214254Z
UID:5022-1779609600-1779642000@dreammachineclassics.org
SUMMARY:Musclemania Car show And Drag Racing at Lebanon Valley Dragway NY.
DESCRIPTION:Gates open at 8Am Drag racing begins at 9:30 Am \nSpectators $15.00 Child 6 years to 10 years $5.00. \nFor Show car and Drag race Car entry see Flyer below \nclick here for flyer
URL:https://dreammachineclassics.org/event/musclemania-car-show-and-drag-racing-at-lebanon-valley-dragway-ny/
LOCATION:Lebanon Valley Raceway\, 1746 US Route 20\, West Lebanon\, NY
CATEGORIES:Car Show
END:VEVENT
BEGIN:VEVENT
DTSTART;TZID=America/New_York:20260525T000000
DTEND;TZID=America/New_York:20260525T170000
DTSTAMP:20260422T175116
CREATED:20260409T002727Z
LAST-MODIFIED:20260411T222532Z
UID:5185-1779667200-1779728400@dreammachineclassics.org
SUMMARY:Ocean Beach Park Cruise (NO CRUISE MAY 25 Due to Memorial Day
DESCRIPTION:(NO CRUISE DUE TO MEMORIAL DAY ) \n  \n  \n  \n  \n  \n  \n  \n  \n  \n  \n  \n  \n  \n  \n  \n  \n  \n  \n 
URL:https://dreammachineclassics.org/event/ocean-beach-park-cruise-no-cruise-may-25/
LOCATION:CT
CATEGORIES:Cruise Night
END:VEVENT
BEGIN:VEVENT
DTSTART;TZID=America/New_York:20260525T090000
DTEND;TZID=America/New_York:20260525T090000
DTSTAMP:20260422T175116
CREATED:20260215T174208Z
LAST-MODIFIED:20260405T142829Z
UID:3830-1779699600-1779699600@dreammachineclassics.org
SUMMARY:RISRA Memorial Day 35th Annual Automotive Extravaganza Car Show
DESCRIPTION:All Cars Welcome \n75 Pick Awards \nDash Plaques For The First 200 Vehicles \nBenefit For The Johnston Little League \nVideo Of 2022’s Show \nAwards Presented at 2pm \nRegistration Time Is 9am to 12pm \nFor More Information Contact Joe @ 401-499-9877 \nclick here for flyer
URL:https://dreammachineclassics.org/event/risra-memorial-day-35th-annual-automotive-extravaganza-car-show/
LOCATION:Masonic Youth Center\, 116 Long Street\, Warwick\, RI
CATEGORIES:Car Show
END:VEVENT
BEGIN:VEVENT
DTSTART;TZID=America/New_York:20260525T163000
DTEND;TZID=America/New_York:20260525T193000
DTSTAMP:20260422T175116
CREATED:20260318T203148Z
LAST-MODIFIED:20260414T014840Z
UID:4347-1779726600-1779737400@dreammachineclassics.org
SUMMARY:Monday Night Weekly Cruise Thompson Ct.
DESCRIPTION:Where: River Side Park Across from Thompson Town Hall. 315 River side Drive Tompson Ct. \nA Weekly Classic Car Cruise Open to the Public. \nStarting April 20\, 2026\, and every Monday 4:30 till Dark \nclick for flyer
URL:https://dreammachineclassics.org/event/monday-night-weekly-cruise-thompson-ct-5/
LOCATION:Thompson Riverside Park\, 315 Riverside drive Park\, Thompson\, CT\, United States
CATEGORIES:Cruise Night
END:VEVENT
BEGIN:VEVENT
DTSTART;TZID=America/New_York:20260525T170000
DTEND;TZID=America/New_York:20260525T190000
DTSTAMP:20260422T175116
CREATED:20260323T010938Z
LAST-MODIFIED:20260323T010938Z
UID:4638-1779728400-1779735600@dreammachineclassics.org
SUMMARY:Fish Family Farm Creamery and Dairy Car Cruise Every Monday Night 2026
DESCRIPTION:Every Monday\, weather permitting\, 5pm till 7 pm \nAll Makes and Models Welcome\, \nRaising Money for Lymphoma doing a 50/50 \nFood Truck\, Ice Cream \nclick here for flyer
URL:https://dreammachineclassics.org/event/fish-family-farm-creamery-and-dairy-car-cruise-every-monday-night-2026-2/
LOCATION:Fish Family Farm Creamery\, 20 Dimock Ln\, Bolton\, CT\, 06043\, United States
CATEGORIES:Cruise Night
END:VEVENT
BEGIN:VEVENT
DTSTART;TZID=America/New_York:20260525T170000
DTEND;TZID=America/New_York:20260525T190000
DTSTAMP:20260422T175116
CREATED:20260323T233424Z
LAST-MODIFIED:20260331T214410Z
UID:4635-1779728400-1779735600@dreammachineclassics.org
SUMMARY:Fish Family Farm Creamery and Dairy Car Cruise Every Monday Night 2026
DESCRIPTION:Every Monday\, weather permitting\, 5pm till 7 pm \nAll Makes and Models Welcome\, \nRaising Money for Lymphoma doing a 50/50 \nFood Truck\, Ice Cream \nclick here for flyer
URL:https://dreammachineclassics.org/event/fish-family-farm-creamery-and-dairy-car-cruise-every-monday-night-2026-22/
LOCATION:Fish Family Farm Creamery\, 20 Dimock Ln\, Bolton\, CT\, 06043\, United States
CATEGORIES:Cruise Night
END:VEVENT
BEGIN:VEVENT
DTSTART;TZID=America/New_York:20260528T160000
DTEND;TZID=America/New_York:20260528T210000
DTSTAMP:20260422T175116
CREATED:20260226T154713Z
LAST-MODIFIED:20260405T142857Z
UID:3980-1779984000-1780002000@dreammachineclassics.org
SUMMARY:Bass Pro Shops Cruise Night at Patriot Place
DESCRIPTION:Widely considered “New England’s Premier Cruise Night”. \nHosted by the Mass Cruisers\, this bi-weekly event transforms the parking lots around Gillette Stadium into one of the largest automotive gatherings in the region\, often featuring hundreds of classic and unique vehicles.  \n\n\nLocation: Patriot Place (specifically Lots 14A\, 14B\, and 16; enter via P8).\nAdmission: Free for both owners and spectators.
URL:https://dreammachineclassics.org/event/bass-pro-shops-cruise-night-at-patriot-place-10/
LOCATION:Bass Pro Shops\, 1 Bass Pro Drive\, Foxboro\, MA
CATEGORIES:Cruise Night
END:VEVENT
BEGIN:VEVENT
DTSTART;TZID=America/New_York:20260528T170000
DTEND;TZID=America/New_York:20260528T190000
DTSTAMP:20260422T175116
CREATED:20260331T203541Z
LAST-MODIFIED:20260331T205352Z
UID:5003-1779987600-1779994800@dreammachineclassics.org
SUMMARY:Ashford Fire Dept Cruise Night Ashford Ct.
DESCRIPTION:Last Thursday of each month May thru September \nMusic & Food Available Music by the Pom \n46 Westford Rd. Ashford Fire Dept. 06278
URL:https://dreammachineclassics.org/event/ashford-fire-dept-cruise-night-ashford-ct/
LOCATION:Ashford Volunteer Fire Department\, 46 Westford Road\, Ashford\, CT\, 06278
CATEGORIES:Cruise Night
END:VEVENT
BEGIN:VEVENT
DTSTART;TZID=America/New_York:20260529T170000
DTEND;TZID=America/New_York:20260529T200000
DTSTAMP:20260422T175116
CREATED:20260323T215042Z
LAST-MODIFIED:20260323T215042Z
UID:4742-1780074000-1780084800@dreammachineclassics.org
SUMMARY:Cruisin' @ CT Golf Land 2026
DESCRIPTION:Every Friday\, 5pm – Dark \nWeekly Trophy \nCar Show at Golf Land in Vernon\, CT on Rte. 30 / 83 \nBrought to you by: Rocking Horse Bar & Grill \nclick for flyer
URL:https://dreammachineclassics.org/event/cruisin-ct-golf-land-2026-4/
LOCATION:CT Golf Land\, 95 Hartford Turnpike\, Vernon\, CT\, 06066
CATEGORIES:Cruise Night
END:VEVENT
BEGIN:VEVENT
DTSTART;TZID=America/New_York:20260530T140000
DTEND;TZID=America/New_York:20260530T190000
DTSTAMP:20260422T175116
CREATED:20260316T023034Z
LAST-MODIFIED:20260405T142907Z
UID:4235-1780149600-1780167600@dreammachineclassics.org
SUMMARY:Pomfret Cruise Season 2026 by Tri State Cruisers.
DESCRIPTION:Every Saturday Night April thru September 2026 \nAt the corner of Rt. 169 & Rt. 101 Pomfret Center. \nEnter from behind Pizza 101. \nclick here for flyer
URL:https://dreammachineclassics.org/event/pomfret-cruise-season-2026-by-tri-state-cruisers-7/
LOCATION:Pizza 101\, 16 Mashamoquct Rd.#A\, Pomfret\, CT\, 06259\, United States
CATEGORIES:Cruise Night
END:VEVENT
BEGIN:VEVENT
DTSTART;TZID=America/New_York:20260531T100000
DTEND;TZID=America/New_York:20260531T140000
DTSTAMP:20260422T175116
CREATED:20260401T151256Z
LAST-MODIFIED:20260401T151925Z
UID:5068-1780221600-1780236000@dreammachineclassics.org
SUMMARY:Car Show 2026 by Italian Society of Middletown Ct.
DESCRIPTION:$15.00 per Show Car \nSunday May 31st 2026  10 Am till 2Pm . \nHotdogs /  Hamburgers  /  Sausages & Peppers at the Grill . \nClick here for flyer
URL:https://dreammachineclassics.org/event/car-show-2026-by-italian-society-of-middletown-ct/
LOCATION:Italion Society of Middletown\, Palmer Street\, Middletown\, Ct.
CATEGORIES:Car Show
END:VEVENT
BEGIN:VEVENT
DTSTART;TZID=America/New_York:20260601T163000
DTEND;TZID=America/New_York:20260601T193000
DTSTAMP:20260422T175116
CREATED:20260318T203529Z
LAST-MODIFIED:20260414T015136Z
UID:4349-1780331400-1780342200@dreammachineclassics.org
SUMMARY:Monday Night Weekly Cruise Thompson Ct.
DESCRIPTION:Where: River Side Park Across from Thompson Town Hall. 315 River side Drive Tompson Ct. \nA Weekly Classic Car Cruise Open to the Public. \nStarting April 20\, 2026\, and every Monday 4:30 till Dark \nclick for flyer
URL:https://dreammachineclassics.org/event/monday-night-weekly-cruise-thompson-ct-6/
LOCATION:Thompson Riverside Park\, 315 Riverside drive Park\, Thompson\, CT\, United States
CATEGORIES:Cruise Night
END:VEVENT
BEGIN:VEVENT
DTSTART;TZID=America/New_York:20260601T170000
DTEND;TZID=America/New_York:20260601T190000
DTSTAMP:20260422T175116
CREATED:20260323T011813Z
LAST-MODIFIED:20260323T011813Z
UID:4644-1780333200-1780340400@dreammachineclassics.org
SUMMARY:Fish Family Farm Creamery and Dairy Car Cruise Every Monday Night 2026
DESCRIPTION:Every Monday\, weather permitting\, 5pm till 7 pm \nAll Makes and Models Welcome\, \nRaising Money for Lymphoma doing a 50/50 \nFood Truck\, Ice Cream \n  \nclick here for flyer
URL:https://dreammachineclassics.org/event/fish-family-farm-creamery-and-dairy-car-cruise-every-monday-night-2026-4/
LOCATION:Fish Family Farm Creamery\, 20 Dimock Ln\, Bolton\, CT\, 06043\, United States
CATEGORIES:Cruise Night
END:VEVENT
BEGIN:VEVENT
DTSTART;TZID=America/New_York:20260601T170000
DTEND;TZID=America/New_York:20260601T200000
DTSTAMP:20260422T175116
CREATED:20260322T172151Z
LAST-MODIFIED:20260322T172151Z
UID:4557-1780333200-1780344000@dreammachineclassics.org
SUMMARY:Ocean Beach Park every Monday Cruise Nite New London Ct.
DESCRIPTION:Admission is Free to all after 5pm
URL:https://dreammachineclassics.org/event/ocean-beach-park-every-monday-cruise-nite-new-london-ct-4/
LOCATION:Ocean Beach Park Monday night Cruise 2026\, 98 Neptune Avenue\, New London\, CT\, 06320
CATEGORIES:Cruise Night
END:VEVENT
BEGIN:VEVENT
DTSTART;TZID=America/New_York:20260602T170000
DTEND;TZID=America/New_York:20260602T200000
DTSTAMP:20260422T175116
CREATED:20250327T160529Z
LAST-MODIFIED:20260326T003831Z
UID:1167-1780419600-1780430400@dreammachineclassics.org
SUMMARY:Hank's Dairy Bar Car Cruise
DESCRIPTION:Rain date following Tuesday\, \nMonthly Car Cruise on the Lawn \n\n\n\n\n\n\n\nEvent is free and open to all car enthusiasts. Parking will be on the back lawn\, unless the ground is too soft and then other accommodations will be made. Live Music on the Stage\, along with some event only specials. \nclick for flyer
URL:https://dreammachineclassics.org/event/hanks-dairy-bar-car-cruise-2/
LOCATION:Hank’s Dairy Bar\, 1006 Norwich Road (Route 12)\, Plainfield\, CT\, 06354
CATEGORIES:Cruise Night
END:VEVENT
BEGIN:VEVENT
DTSTART;TZID=America/New_York:20260602T180000
DTEND;TZID=America/New_York:20260602T200000
DTSTAMP:20260422T175116
CREATED:20260325T154609Z
LAST-MODIFIED:20260325T154609Z
UID:4897-1780423200-1780430400@dreammachineclassics.org
SUMMARY:Natures Art (The Dinosaur Place) Cruise Night 2026 by Yesteryear Auto Club.
DESCRIPTION:First Tuesday of each month May thru September Rain Date following Thursday. \nPre 1978 Classics and Antiques Car and Trucks. \nConcession: Food\, Beverages\, Ice-cream\, Trophies\, Live DJ\, and Fantastic Raffle Prizes\,
URL:https://dreammachineclassics.org/event/natures-art-the-dinosaur-place-cruise-night-2026-by-yesteryear-auto-club-2/
LOCATION:Nature’s Art Cruise Nights 2026 at the (Dinosaurs Place)\, 1650 Hartford-New London Turnpike\, Rt 85\, Oakdale\, CT\, 06370\, United States
CATEGORIES:Cruise Night
END:VEVENT
BEGIN:VEVENT
DTSTART;TZID=America/New_York:20260603T170000
DTEND;TZID=America/New_York:20260603T190000
DTSTAMP:20260422T175116
CREATED:20260403T143830Z
LAST-MODIFIED:20260403T143830Z
UID:5088-1780506000-1780513200@dreammachineclassics.org
SUMMARY:Bozrah Moose Lodge 950 2026 Cruise
DESCRIPTION:New Date 1st Wednesday Each Month Starting May 6th .  5PM till 7PM \nRods / Customs / Antiques / Muscle Cars / Special Interest \nFood Services and Beverages Available at the Moose Club Bozrah CT \nFor more info call (860) 889-6856 \nclick for flyer
URL:https://dreammachineclassics.org/event/bozrah-moose-lodge-950-2026-cruise-2/
LOCATION:Bozrah Moose Lodge 950\, 115 Fitchville Rd\, Bozrah\, CT
CATEGORIES:Cruise Night
END:VEVENT
BEGIN:VEVENT
DTSTART;TZID=America/New_York:20260604T160000
DTEND;TZID=America/New_York:20260604T210000
DTSTAMP:20260422T175116
CREATED:20260226T154239Z
LAST-MODIFIED:20260405T142932Z
UID:3981-1780588800-1780606800@dreammachineclassics.org
SUMMARY:Bass Pro Shops Cruise Night at Patriot Place
DESCRIPTION:Widely considered “New England’s Premier Cruise Night”. \nHosted by the Mass Cruisers\, this bi-weekly event transforms the parking lots around Gillette Stadium into one of the largest automotive gatherings in the region\, often featuring hundreds of classic and unique vehicles.  \n\n\nLocation: Patriot Place (specifically Lots 14A\, 14B\, and 16; enter via P8).\nAdmission: Free for both owners and spectators.
URL:https://dreammachineclassics.org/event/bass-pro-shops-cruise-night-at-patriot-place-4/
LOCATION:Bass Pro Shops\, 1 Bass Pro Drive\, Foxboro\, MA
CATEGORIES:Cruise Night
END:VEVENT
BEGIN:VEVENT
DTSTART;TZID=America/New_York:20260604T170000
DTEND;TZID=America/New_York:20260604T190000
DTSTAMP:20260422T175116
CREATED:20260401T004647Z
LAST-MODIFIED:20260401T005504Z
UID:5054-1780592400-1780599600@dreammachineclassics.org
SUMMARY:Douglas Manor Cruise
DESCRIPTION:All Years Welcome \nMusic by The P’OM and Paul \nFree Hot Dogs and Ice Cream
URL:https://dreammachineclassics.org/event/douglas-manor-cruise/
LOCATION:Douglas Manor\, 103 North Road\, Windham\, CT
CATEGORIES:Cruise Night
END:VEVENT
BEGIN:VEVENT
DTSTART;TZID=America/New_York:20260605T170000
DTEND;TZID=America/New_York:20260605T200000
DTSTAMP:20260422T175116
CREATED:20260323T215445Z
LAST-MODIFIED:20260329T152047Z
UID:4745-1780678800-1780689600@dreammachineclassics.org
SUMMARY:Cruisin' @ CT Golf Land 2026
DESCRIPTION:Every Friday\, 5pm – Dark \nWeekly Trophy \nCar Show at Golf Land in Vernon\, CT on Rte. 30 / 83 \nBrought to you by: Rocking Horse Bar & Grill \nclick for flyer \n 
URL:https://dreammachineclassics.org/event/cruisin-ct-golf-land-2026-5/
LOCATION:CT Golf Land\, 95 Hartford Turnpike\, Vernon\, CT\, 06066
CATEGORIES:Cruise Night
END:VEVENT
BEGIN:VEVENT
DTSTART;TZID=America/New_York:20260606T090000
DTEND;TZID=America/New_York:20260606T140000
DTSTAMP:20260422T175116
CREATED:20260324T140630Z
LAST-MODIFIED:20260405T142945Z
UID:4819-1780736400-1780754400@dreammachineclassics.org
SUMMARY:Swap Meet Saturdays at National Speed Center 1st Saturday of Each Month.
DESCRIPTION:Starting the Spring of 2026 1st Saturday of each month. \n9AM till 2PM \n115 Park Ave East Hartford Ct. 06108 \nFree gen Admission for Spectators for Vendor see Flyer \nclick for flyer
URL:https://dreammachineclassics.org/event/swap-meet-saturdays-at-national-speed-center-1st-saturday-of-each-month-2/
LOCATION:National Speed Center\, 115 Park Ave\, East Hartford\, 06108\, United States
CATEGORIES:Swap Meet
END:VEVENT
END:VCALENDAR