BEGIN:VCALENDAR
VERSION:2.0
PRODID:-//Dream Machine Classics Auto Club Eastern CT - ECPv6.15.20//NONSGML v1.0//EN
CALSCALE:GREGORIAN
METHOD:PUBLISH
X-WR-CALNAME:Dream Machine Classics Auto Club Eastern CT
X-ORIGINAL-URL:https://dreammachineclassics.org
X-WR-CALDESC:Events for Dream Machine Classics Auto Club Eastern CT
REFRESH-INTERVAL;VALUE=DURATION:PT1H
X-Robots-Tag:noindex
X-PUBLISHED-TTL:PT1H
BEGIN:VTIMEZONE
TZID:America/New_York
BEGIN:DAYLIGHT
TZOFFSETFROM:-0500
TZOFFSETTO:-0400
TZNAME:EDT
DTSTART:20250309T070000
END:DAYLIGHT
BEGIN:STANDARD
TZOFFSETFROM:-0400
TZOFFSETTO:-0500
TZNAME:EST
DTSTART:20251102T060000
END:STANDARD
BEGIN:DAYLIGHT
TZOFFSETFROM:-0500
TZOFFSETTO:-0400
TZNAME:EDT
DTSTART:20260308T070000
END:DAYLIGHT
BEGIN:STANDARD
TZOFFSETFROM:-0400
TZOFFSETTO:-0500
TZNAME:EST
DTSTART:20261101T060000
END:STANDARD
BEGIN:DAYLIGHT
TZOFFSETFROM:-0500
TZOFFSETTO:-0400
TZNAME:EDT
DTSTART:20270314T070000
END:DAYLIGHT
BEGIN:STANDARD
TZOFFSETFROM:-0400
TZOFFSETTO:-0500
TZNAME:EST
DTSTART:20271107T060000
END:STANDARD
END:VTIMEZONE
BEGIN:VEVENT
DTSTART;TZID=America/New_York:20260515T170000
DTEND;TZID=America/New_York:20260515T200000
DTSTAMP:20260422T190215
CREATED:20260323T214145Z
LAST-MODIFIED:20260323T214347Z
UID:4735-1778864400-1778875200@dreammachineclassics.org
SUMMARY:Cruisin' @ CT Golf Land 2026
DESCRIPTION:Every Friday\, 5pm – Dark \nWeekly Trophy \nCar Show at Golf Land in Vernon\, CT on Rte. 30 / 83 \nBrought to you by: Rocking Horse Bar & Grill \nClick for flyer
URL:https://dreammachineclassics.org/event/cruisin-ct-golf-land-2026-2/
LOCATION:CT
CATEGORIES:Cruise Night
END:VEVENT
BEGIN:VEVENT
DTSTART;TZID=America/New_York:20260514T160000
DTEND;TZID=America/New_York:20260514T210000
DTSTAMP:20260422T190215
CREATED:20260226T153920Z
LAST-MODIFIED:20260405T142240Z
UID:3655-1778774400-1778792400@dreammachineclassics.org
SUMMARY:Bass Pro Shops Cruise Night at Patriot Place
DESCRIPTION:Widely considered “New England’s Premier Cruise Night”. \nHosted by the Mass Cruisers\, this bi-weekly event transforms the parking lots around Gillette Stadium into one of the largest automotive gatherings in the region\, often featuring hundreds of classic and unique vehicles.  \n\n\nLocation: Patriot Place (specifically Lots 14A\, 14B\, and 16; enter via P8).\nAdmission: Free for both owners and spectators.
URL:https://dreammachineclassics.org/event/bass-pro-shops-cruise-night-at-patriot-place-2/
LOCATION:Bass Pro Shops\, 1 Bass Pro Drive\, Foxboro\, MA
CATEGORIES:Cruise Night
END:VEVENT
BEGIN:VEVENT
DTSTART;TZID=America/New_York:20260512T170000
DTEND;TZID=America/New_York:20260512T190000
DTSTAMP:20260422T190215
CREATED:20260228T141841Z
LAST-MODIFIED:20260415T130815Z
UID:4023-1778605200-1778612400@dreammachineclassics.org
SUMMARY:Square Peg Pizzeria Cruise
DESCRIPTION:Sponsored By Flemings Feed And Hardware\,  Preston General Store \nFood And Beverages Available \nRain Date 2nd Thursday Each Month \nclick for flyer \n  \n 
URL:https://dreammachineclassics.org/event/square-peg-pizzeria-cruise/
LOCATION:Square Peg Pizzeria at Flemings Field\, 353 CT\, Route 165\, Preston\, CT\, 06365\, United States
CATEGORIES:Cruise Night
END:VEVENT
BEGIN:VEVENT
DTSTART;TZID=America/New_York:20260511T180000
DTEND;TZID=America/New_York:20260511T200000
DTSTAMP:20260422T190215
CREATED:20250319T223142Z
LAST-MODIFIED:20260221T195522Z
UID:885-1778522400-1778529600@dreammachineclassics.org
SUMMARY:Dream Machine Classics Club Meeting
DESCRIPTION:
URL:https://dreammachineclassics.org/event/dmc-club-meeting/
LOCATION:Bozrah Moose Lodge 950\, 115 Fitchville Rd\, Bozrah\, CT
CATEGORIES:DMC Meeting
END:VEVENT
BEGIN:VEVENT
DTSTART;TZID=America/New_York:20260511T170000
DTEND;TZID=America/New_York:20260511T200000
DTSTAMP:20260422T190215
CREATED:20260322T170918Z
LAST-MODIFIED:20260405T142119Z
UID:4548-1778518800-1778529600@dreammachineclassics.org
SUMMARY:Ocean Beach Park every Monday Cruise Nite New London Ct.
DESCRIPTION:Admission is Free to all after 5pm
URL:https://dreammachineclassics.org/event/ocean-beach-park-every-monday-cruise-nite-new-london-ct/
LOCATION:Ocean Beach Park Monday night Cruise 2026\, 98 Neptune Avenue\, New London\, CT\, 06320
CATEGORIES:Cruise Night
END:VEVENT
BEGIN:VEVENT
DTSTART;TZID=America/New_York:20260511T170000
DTEND;TZID=America/New_York:20260511T190000
DTSTAMP:20260422T190215
CREATED:20260323T010048Z
LAST-MODIFIED:20260323T010048Z
UID:4624-1778518800-1778526000@dreammachineclassics.org
SUMMARY:Fish Family Farm Creamery and Dairy Car Cruise Every Monday Night 2026
DESCRIPTION:Every Monday\, weather permitting\, 5pm till 7 pm \nAll Makes and Models Welcome\, \nRaising Money for Lymphoma doing a 50/50 \nFood Truck\, Ice Cream \nclick here for flyer
URL:https://dreammachineclassics.org/event/fish-family-farm-creamery-and-dairy-car-cruise-every-monday-night-2026/
LOCATION:Fish Family Farm Creamery\, 20 Dimock Ln\, Bolton\, CT\, 06043\, United States
CATEGORIES:Cruise Night
END:VEVENT
BEGIN:VEVENT
DTSTART;TZID=America/New_York:20260509T140000
DTEND;TZID=America/New_York:20260509T190000
DTSTAMP:20260422T190215
CREATED:20260316T015919Z
LAST-MODIFIED:20260405T142059Z
UID:4218-1778335200-1778353200@dreammachineclassics.org
SUMMARY:Pomfret Cruise Season 2026 by Tri State Cruisers
DESCRIPTION:Every Saturday Night April Thru September 2026 \nAt the corner of Rt. 169 & Rt.101 Pomfret Center \nEnter From Behind Pizza 101 \nClick here for flyer
URL:https://dreammachineclassics.org/event/pomfret-cruise-season-2026-by-tri-state-cruisers-4/
LOCATION:Pizza 101\, 16 Mashamoquct Rd.#A\, Pomfret\, CT\, 06259\, United States
CATEGORIES:Cruise Night
END:VEVENT
BEGIN:VEVENT
DTSTART;TZID=America/New_York:20260508T170000
DTEND;TZID=America/New_York:20260508T190000
DTSTAMP:20260422T190215
CREATED:20260319T182419Z
LAST-MODIFIED:20260410T122258Z
UID:4487-1778259600-1778266800@dreammachineclassics.org
SUMMARY:Aero Diner Cruise Rt 6 North Windham.
DESCRIPTION:Aero Diner Cruise 2026 5PM till 7PM \nMusic By the Pom \n  \nclick for flyer
URL:https://dreammachineclassics.org/event/aero-diner-cruise-rt-6-north-windham/
LOCATION:Aero Diner\, 361 Boston Post Rd # 13\, North Windham\, CT\, 06256
CATEGORIES:Cruise Night
END:VEVENT
BEGIN:VEVENT
DTSTART;TZID=America/New_York:20260508T050000
DTEND;TZID=America/New_York:20260508T050000
DTSTAMP:20260422T190215
CREATED:20250512T020305Z
LAST-MODIFIED:20260401T144411Z
UID:2556-1778216400-1778216400@dreammachineclassics.org
SUMMARY:Cruisin' @ CT Golf Land 2026
DESCRIPTION:Every Friday\, 5pm – Dark \nWeekly Trophy \nCar Show at Golf Land in Vernon\, CT on Rte. 30 / 83 \nBrought to you by: Rocking Horse Bar & Grill \nclick for flyer
URL:https://dreammachineclassics.org/event/cruise-night-at-rocking-horse-smokehouse-3/
LOCATION:CT Golf Land\, 95 Hartford Turnpike\, Vernon\, CT\, 06066
CATEGORIES:Cruise Night
END:VEVENT
BEGIN:VEVENT
DTSTART;TZID=America/New_York:20260506T170000
DTEND;TZID=America/New_York:20260506T190000
DTSTAMP:20260422T190215
CREATED:20260403T143439Z
LAST-MODIFIED:20260403T143439Z
UID:5084-1778086800-1778094000@dreammachineclassics.org
SUMMARY:Bozrah Moose Lodge 950 2026 Cruise
DESCRIPTION:New Date 1st Wednesday Each Month Starting May 6th .  5PM till 7PM \nRods / Customs / Antiques / Muscle Cars / Special Interest \nFood Services and Beverages Available at the Moose Club Bozrah CT \nFor more info call (860) 889-6856 \nclick for flyer
URL:https://dreammachineclassics.org/event/bozrah-moose-lodge-950-2026-cruise/
LOCATION:Bozrah Moose Lodge 950\, 115 Fitchville Rd\, Bozrah\, CT
CATEGORIES:Cruise Night
END:VEVENT
BEGIN:VEVENT
DTSTART;TZID=America/New_York:20260505T180000
DTEND;TZID=America/New_York:20260505T200000
DTSTAMP:20260422T190215
CREATED:20260325T154056Z
LAST-MODIFIED:20260325T154056Z
UID:4892-1778004000-1778011200@dreammachineclassics.org
SUMMARY:Natures Art (The Dinosaur Place) Cruise Night 2026 by Yesteryear Auto Club.
DESCRIPTION:First Tuesday of each month May thru September Rain Date following Thursday. \nPre 1978 Classics and Antiques Car and Trucks. \nConcession: Food\, Beverages\, Ice-cream\, Trophies\, Live DJ\, and Fantastic Raffle Prizes\, \n 
URL:https://dreammachineclassics.org/event/natures-art-the-dinosaur-place-cruise-night-2026-by-yesteryear-auto-club/
LOCATION:Nature’s Art Cruise Nights 2026 at the (Dinosaurs Place)\, 1650 Hartford-New London Turnpike\, Rt 85\, Oakdale\, CT\, 06370\, United States
CATEGORIES:Cruise Night
END:VEVENT
BEGIN:VEVENT
DTSTART;TZID=America/New_York:20260505T170000
DTEND;TZID=America/New_York:20260505T200000
DTSTAMP:20260422T190215
CREATED:20250327T155404Z
LAST-MODIFIED:20260405T142637Z
UID:1159-1778000400-1778011200@dreammachineclassics.org
SUMMARY:Hank's Dairy Bar Car Cruise
DESCRIPTION:monthly Car Cruise on the Lawn \n\n\n\n\n\n\n\nEvent is free and open to all car enthusiasts. Parking will be on the back lawn\, unless the ground is too soft and then other accommodations will be made. Live Music on the Stage\, along with some event only specials. \nFirst Tuesday Each Month Rain Date Following Tuesday. \nclick for flyer
URL:https://dreammachineclassics.org/event/hanks-dairy-bar-car-cruise/
LOCATION:Hank’s Dairy Bar\, 1006 Norwich Road (Route 12)\, Plainfield\, CT\, 06354
CATEGORIES:Cruise Night
END:VEVENT
BEGIN:VEVENT
DTSTART;TZID=America/New_York:20260504T163000
DTEND;TZID=America/New_York:20260504T193000
DTSTAMP:20260422T190215
CREATED:20260318T172514Z
LAST-MODIFIED:20260414T013523Z
UID:4335-1777912200-1777923000@dreammachineclassics.org
SUMMARY:Monday Night Weekly Cruise Thompson Ct.
DESCRIPTION:Where: River Side Park Across from Thompson Town Hall. 315 River side Drive Tompson Ct. \nA Weekly Classic Car Cruise Open to the Public. \nStarting April 20\, 2026\, and every Monday 4:30 till Dark \n  \nclick for flyer
URL:https://dreammachineclassics.org/event/monday-night-weekly-cruise-thompson-ct-3/
LOCATION:Thompson Riverside Park\, 315 Riverside drive Park\, Thompson\, CT\, United States
CATEGORIES:Cruise Night
END:VEVENT
BEGIN:VEVENT
DTSTART;TZID=America/New_York:20260504T050000
DTEND;TZID=America/New_York:20260504T070000
DTSTAMP:20260422T190215
CREATED:20250327T171326Z
LAST-MODIFIED:20260329T165150Z
UID:1205-1777870800-1777878000@dreammachineclassics.org
SUMMARY:Fish Family Farm Creamery and Dairy Car Cruise Every Monday Night 2026
DESCRIPTION:Every Monday\, weather permitting\, 5pm till 7 pm \nAll Makes and Models Welcome\, \nRaising Money for Lymphoma doing a 50/50 \nFood Truck\, Ice Cream \nclick here for flyer
URL:https://dreammachineclassics.org/event/fish-family-farm-creamery-and-dairy-car-cruise-8/
LOCATION:Fish Family Farm Creamery\, 20 Dimock Ln\, Bolton\, CT\, 06043\, United States
CATEGORIES:Cruise Night
END:VEVENT
BEGIN:VEVENT
DTSTART;TZID=America/New_York:20260503T080000
DTEND;TZID=America/New_York:20260503T150000
DTSTAMP:20260422T190215
CREATED:20260302T204357Z
LAST-MODIFIED:20260329T165133Z
UID:4035-1777795200-1777820400@dreammachineclassics.org
SUMMARY:CSRA 56th Annual Swap Meet
DESCRIPTION:New Location Bethany Airport \nVendor Gate Open 6am To 3pm \nSpectator Gate Open 8am To 3pm \n$10 Each  (Kids Under 12 Free) \nThere Is No Pre-registration \nFood Vendors On Site \nEarly Set-up Sat. May 2nd 1pm To 4pm \nVendor Fees: $40 Per Space  Oversize Vehicles & Vehicles With Trailers Must Purchase Additional Spaces \nCall Dave For More Info   203-506-1210 \nclick for flyer
URL:https://dreammachineclassics.org/event/csra-56th-annual-swap-meet/
LOCATION:Bethany Airport\, 695 Amity Rd\, Bethany\, CT\, 06524\, United States
CATEGORIES:Swap Meet
END:VEVENT
BEGIN:VEVENT
DTSTART;TZID=America/New_York:20260502T150000
DTEND;TZID=America/New_York:20260502T190000
DTSTAMP:20260422T190215
CREATED:20250428T185856Z
LAST-MODIFIED:20260329T165123Z
UID:2052-1777734000-1777748400@dreammachineclassics.org
SUMMARY:Bristol Auto Club-Cruise Nights
DESCRIPTION:No Rain Dates \nEvery 1st & 3rd Saturday Nights May 2nd through October 3rd \nFree Admission\, No Cut-Off\, 3 Awards Each Night\, Raffle Prizes\, Oldies Music \nSpecial Thanks to The D’Amato Family \nclick here for flyer
URL:https://dreammachineclassics.org/event/bristol-auto-club-cruise-nights/
LOCATION:Bristol Auto Club\, 10 Main Street\, Bristol\, CT
CATEGORIES:Cruise Night
END:VEVENT
BEGIN:VEVENT
DTSTART;TZID=America/New_York:20260502T140000
DTEND;TZID=America/New_York:20260502T190000
DTSTAMP:20260422T190215
CREATED:20260316T002942Z
LAST-MODIFIED:20260405T142032Z
UID:4181-1777730400-1777748400@dreammachineclassics.org
SUMMARY:Pomfret Cruise Season 2026 by Tri State Cruisers
DESCRIPTION:Every Saturday Night thru September \nCorner of Rt.169 & Rt. 101 Pomfret Center \nEnter cruise from behind Pizza 101 \nclick here for flyer \n  \n  \n 
URL:https://dreammachineclassics.org/event/pomfret-cruise-season-2026-by-tri-state-cruisers-2/
LOCATION:Pizza 101\, 16 Mashamoquct Rd.#A\, Pomfret\, CT\, 06259\, United States
CATEGORIES:Cruise Night
END:VEVENT
BEGIN:VEVENT
DTSTART;TZID=America/New_York:20260502T100000
DTEND;TZID=America/New_York:20260502T140000
DTSTAMP:20260422T190215
CREATED:20260407T222249Z
LAST-MODIFIED:20260411T130930Z
UID:5175-1777716000-1777730400@dreammachineclassics.org
SUMMARY:Xavier High School Car Show in Middletown Ct.
DESCRIPTION:Saturday May 2nd\, 2026. \nSpectators $1.00 Show Vehicles $15.00. \nAll Proceeds Benefit the Eric J Kalber Scholarship Fund. \nclick for flyer
URL:https://dreammachineclassics.org/event/xavier-high-school-car-show-in-middletown-ct/
LOCATION:Xavier High School\, 181 Randolph Road\, Middletown\, CT
CATEGORIES:Car Show
END:VEVENT
BEGIN:VEVENT
DTSTART;TZID=America/New_York:20260502T090000
DTEND;TZID=America/New_York:20260502T140000
DTSTAMP:20260422T190215
CREATED:20260324T140236Z
LAST-MODIFIED:20260329T165108Z
UID:4810-1777712400-1777730400@dreammachineclassics.org
SUMMARY:Swap Meet Saturdays at National Speed Center 1st Saturday of Each Month.
DESCRIPTION:Starting the Spring of 2026 1st Saturday of each month. \n9AM till 2PM \n115 Park Ave East Hartford Ct. 06108 \nFree gen Admission for Spectators for Vendor see Flyer \nclick for flyer
URL:https://dreammachineclassics.org/event/swap-meet-saturdays-at-national-speed-center-1st-saturday-of-each-month/
LOCATION:National Speed Center\, 115 Park Ave\, East Hartford\, 06108\, United States
CATEGORIES:Swap Meet
END:VEVENT
BEGIN:VEVENT
DTSTART;TZID=America/New_York:20260501T170000
DTEND;TZID=America/New_York:20260501T200000
DTSTAMP:20260422T190215
CREATED:20260323T213933Z
LAST-MODIFIED:20260403T121306Z
UID:4733-1777654800-1777665600@dreammachineclassics.org
SUMMARY:Cruisin' @ CT Golf Land 2026
DESCRIPTION:Every Friday\, 5pm – Dark \nWeekly Trophy \nCar Show at Golf Land in Vernon\, CT on Rte. 30 / 83 \nBrought to you by: Rocking Horse Bar & Grill \nclick here for flyer
URL:https://dreammachineclassics.org/event/cruisin-ct-golf-land-2026/
LOCATION:CT Golf Land\, 95 Hartford Turnpike\, Vernon\, CT\, 06066
CATEGORIES:Cruise Night
END:VEVENT
BEGIN:VEVENT
DTSTART;TZID=America/New_York:20260430T160000
DTEND;TZID=America/New_York:20260430T210000
DTSTAMP:20260422T190215
CREATED:20260226T154129Z
LAST-MODIFIED:20260329T165058Z
UID:3979-1777564800-1777582800@dreammachineclassics.org
SUMMARY:Bass Pro Shops Cruise Night at Patriot Place
DESCRIPTION:Widely considered “New England’s Premier Cruise Night”. \nHosted by the Mass Cruisers\, this bi-weekly event transforms the parking lots around Gillette Stadium into one of the largest automotive gatherings in the region\, often featuring hundreds of classic and unique vehicles.  \n\n\nLocation: Patriot Place (specifically Lots 14A\, 14B\, and 16; enter via P8).\nAdmission: Free for both owners and spectators.
URL:https://dreammachineclassics.org/event/bass-pro-shops-cruise-night-at-patriot-place-3/
LOCATION:Bass Pro Shops\, 1 Bass Pro Drive\, Foxboro\, MA
CATEGORIES:Cruise Night
END:VEVENT
BEGIN:VEVENT
DTSTART;TZID=America/New_York:20260428T120000
DTEND;TZID=America/New_York:20260428T160000
DTSTAMP:20260422T190215
CREATED:20250326T005644Z
LAST-MODIFIED:20260329T213835Z
UID:1002-1777377600-1777392000@dreammachineclassics.org
SUMMARY:Trumbull Classic Car Show
DESCRIPTION:Trumbull Classic Car Shows are Dedicated to Julius Who Loved Hotrods \nEvery Tuesday night at Crown Pizza \nclick here for link to event
URL:https://dreammachineclassics.org/event/trumbull-classic-car-show/
LOCATION:Crown Pizza of Trumbull\, 5663 Main Street\, Trumbull\, CT\, 06611
CATEGORIES:Cruise Night
END:VEVENT
BEGIN:VEVENT
DTSTART;TZID=America/New_York:20260427T163000
DTEND;TZID=America/New_York:20260427T193000
DTSTAMP:20260422T190215
CREATED:20260318T171131Z
LAST-MODIFIED:20260414T013757Z
UID:4330-1777307400-1777318200@dreammachineclassics.org
SUMMARY:Monday Night Weekly Cruise Thompson Ct.
DESCRIPTION:Where: River Side Park Across from Thompson Town Hall . 315 River side Drive Tompson Ct. \nA Weekly Classic Car Cruise Open to the Public. \nStarting April 20\, 2026\, and every Monday 4:30 till Dark \nclick for flyer
URL:https://dreammachineclassics.org/event/monday-night-weekly-cruise-thompson-ct-2/
LOCATION:Thompson Riverside Park\, 315 Riverside drive Park\, Thompson\, CT\, United States
CATEGORIES:Cruise Night
END:VEVENT
BEGIN:VEVENT
DTSTART;TZID=America/New_York:20260426T080000
DTEND;TZID=America/New_York:20260426T130000
DTSTAMP:20260422T190215
CREATED:20260215T161542Z
LAST-MODIFIED:20260215T161542Z
UID:3820-1777190400-1777208400@dreammachineclassics.org
SUMMARY:CSRA Spring Dust Off - NSRA Appreciation Day & Early Inspections
DESCRIPTION:All Street Rods\, Hot Rods\, Customs\, And Classics Are Welcome \nFree NSRA Safety Inspection \nPins For NSRA Members \nCome And Meet John Kolasa\, the New Ct NSRA Representative \nLight Refreshments Available
URL:https://dreammachineclassics.org/event/csra-spring-dust-off-nsra-appreciation-day-early-inspections/
LOCATION:CSRA Clubhouse\, 316 Woodhouse Ave\, Wallingford\, CT\, 06492\, United States
END:VEVENT
BEGIN:VEVENT
DTSTART;TZID=America/New_York:20260426T080000
DTEND;TZID=America/New_York:20260426T130000
DTSTAMP:20260422T190215
CREATED:20250319T020612Z
LAST-MODIFIED:20260306T124134Z
UID:819-1777190400-1777208400@dreammachineclassics.org
SUMMARY:NSRA Appreciation Day\, Connecticut Street Rod Association
DESCRIPTION:Rain or Shine \nExit 14 off I-91
URL:https://dreammachineclassics.org/event/nsra-appreciation-day-connecticut-street-rod-association/
LOCATION:Connecticut Street Rod Association\, 316 Woodhouse Avenue\, Wallingford\, CT
CATEGORIES:Car Show
END:VEVENT
BEGIN:VEVENT
DTSTART;TZID=America/New_York:20260425T140000
DTEND;TZID=America/New_York:20260425T193000
DTSTAMP:20260422T190215
CREATED:20260316T000400Z
LAST-MODIFIED:20260329T165013Z
UID:4161-1777125600-1777145400@dreammachineclassics.org
SUMMARY:Pomfret Cruise Season 2026 by Tri State Cruisers
DESCRIPTION:Season Starts April 25th\, 2pm till dusk every Saturday thru September \nLocation Corner of Rt.169 and Rt.101 next to Pizza 101 Pomfret Center. \nEnter Cruise Behind Pizza 101 \nclick here for flyer \n  \n 
URL:https://dreammachineclassics.org/event/pomfret-cruise-season-2026-by-tri-state-cruisers/
LOCATION:Pizza 101\, 16 Mashamoquct Rd.#A\, Pomfret\, CT\, 06259\, United States
CATEGORIES:Cruise Night
END:VEVENT
BEGIN:VEVENT
DTSTART;TZID=America/New_York:20260425T120000
DTEND;TZID=America/New_York:20260425T200000
DTSTAMP:20260422T190215
CREATED:20260317T200412Z
LAST-MODIFIED:20260411T181140Z
UID:4288-1777118400-1777147200@dreammachineclassics.org
SUMMARY:Northeast Truck Fest
DESCRIPTION:Dyno\,  Show n Shine \nSled Pulls\,  Vendors \nInfo Call (860) 458-9942 \nClick for Flyer
URL:https://dreammachineclassics.org/event/northeast-truck-fest-3/
LOCATION:Brooklyn Fairgrounds\, Rt. 169/15 Fairgrounds Road\, Brooklyn\, CT
CATEGORIES:Car Show
END:VEVENT
BEGIN:VEVENT
DTSTART;TZID=America/New_York:20260425T100000
DTEND;TZID=America/New_York:20260425T140000
DTSTAMP:20260422T190215
CREATED:20260404T173336Z
LAST-MODIFIED:20260404T173336Z
UID:5135-1777111200-1777125600@dreammachineclassics.org
SUMMARY:Thompson Ct. Daytime Car Cruise Fund Raiser.
DESCRIPTION:10AM till 2Pm Saturday April 25 th 2026. \nProceeds going to the Noble Community Fire Dept. \nFood & Music.
URL:https://dreammachineclassics.org/event/thompson-ct-daytime-car-cruise-fund-raiser/
LOCATION:Thompson Car Cruise\, 815 River side Dr.\, North Grosvenor\, Ct.\, 06255
CATEGORIES:Cruise Night
END:VEVENT
BEGIN:VEVENT
DTSTART;TZID=America/New_York:20260422T200000
DTEND;TZID=America/New_York:20260427T200000
DTSTAMP:20260422T190215
CREATED:20260212T210930Z
LAST-MODIFIED:20260407T222502Z
UID:3644-1776888000-1777320000@dreammachineclassics.org
SUMMARY:Spring Carlisle Car Show
DESCRIPTION:Event Hours \nWed- Sat: 7 AM – 6 PM\nSunday: 7 AM – 12 PM \nAdmission: \nDaily Admission: $13 (Free on Sunday)\nEvent Pass: $38\nKids 12 & Under: Free\nStudent & Military Discounts Available\nGeneral Parking: $10 \nEvent Highlights:\nFlea Market: One of the largest automotive flea markets in the world with 8\,100 vendor spaces. \nCar Corral: A place to buy and sell classic and late-model vehicles directly from owners. \nAuction: A two-day collector car auction powered by Carlisle Auctions at the Carlisle Expo Center on April 23-24. \nManufacturers Midway: Features the latest automotive products and services \nARMO Hot Products Showcase: Showcases restoration products from industry leaders \nKid’s Goody Bag: Available at Guest Services for kids 12 and under
URL:https://dreammachineclassics.org/event/spring-carlisle-car-show-2/
LOCATION:CT
CATEGORIES:Swap Meet
END:VEVENT
BEGIN:VEVENT
DTSTART;TZID=America/New_York:20260420T163000
DTEND;TZID=America/New_York:20260420T193000
DTSTAMP:20260422T190215
CREATED:20260318T170128Z
LAST-MODIFIED:20260414T014010Z
UID:4316-1776702600-1776713400@dreammachineclassics.org
SUMMARY:Monday Night Weekly Cruise Thompson Ct.
DESCRIPTION:Where: River Side Park Across from Thompson Town Hall . 315 River side Drive Tompson Ct. \nA Weekly Classic Car Cruise Open to the Public. \nStarting April 20\, 2026\, and every Monday 4:30 till Dar \nclick for flyer \n 
URL:https://dreammachineclassics.org/event/monday-night-weekly-cruise-thompson-ct/
LOCATION:Thompson Riverside Park\, 315 Riverside drive Park\, Thompson\, CT\, United States
CATEGORIES:Cruise Night
END:VEVENT
END:VCALENDAR