BEGIN:VCALENDAR
VERSION:2.0
PRODID:-//Dream Machine Classics Auto Club Eastern CT - ECPv6.15.20//NONSGML v1.0//EN
CALSCALE:GREGORIAN
METHOD:PUBLISH
X-WR-CALNAME:Dream Machine Classics Auto Club Eastern CT
X-ORIGINAL-URL:https://dreammachineclassics.org
X-WR-CALDESC:Events for Dream Machine Classics Auto Club Eastern CT
REFRESH-INTERVAL;VALUE=DURATION:PT1H
X-Robots-Tag:noindex
X-PUBLISHED-TTL:PT1H
BEGIN:VTIMEZONE
TZID:America/New_York
BEGIN:DAYLIGHT
TZOFFSETFROM:-0500
TZOFFSETTO:-0400
TZNAME:EDT
DTSTART:20250309T070000
END:DAYLIGHT
BEGIN:STANDARD
TZOFFSETFROM:-0400
TZOFFSETTO:-0500
TZNAME:EST
DTSTART:20251102T060000
END:STANDARD
BEGIN:DAYLIGHT
TZOFFSETFROM:-0500
TZOFFSETTO:-0400
TZNAME:EDT
DTSTART:20260308T070000
END:DAYLIGHT
BEGIN:STANDARD
TZOFFSETFROM:-0400
TZOFFSETTO:-0500
TZNAME:EST
DTSTART:20261101T060000
END:STANDARD
BEGIN:DAYLIGHT
TZOFFSETFROM:-0500
TZOFFSETTO:-0400
TZNAME:EDT
DTSTART:20270314T070000
END:DAYLIGHT
BEGIN:STANDARD
TZOFFSETFROM:-0400
TZOFFSETTO:-0500
TZNAME:EST
DTSTART:20271107T060000
END:STANDARD
END:VTIMEZONE
BEGIN:VEVENT
DTSTART;TZID=America/New_York:20261011T090000
DTEND;TZID=America/New_York:20261011T090000
DTSTAMP:20260422T232348
CREATED:20260215T172954Z
LAST-MODIFIED:20260329T163746Z
UID:3828-1791709200-1791709200@dreammachineclassics.org
SUMMARY:50th Annual Toys For Tots
DESCRIPTION:Registration Fee is 1 New Unwrapped Toy and  2 Cans Of Food \nDash Plaques For First 150 Vehicles \nHand Built Trophies Are Awarded \nEach Registrant & Guest Receives A Voucher For A Free Lunch \nClam Cakes Will Be For Sale \nEarly Bird Coffee And Doughnuts Will Be Available ( Donations Appreciated) \nWomen’s Baskets Featured At The Silent Auction Tables \nFree Giveaways \nAll Cars Welcome \nFor More Information Call 401-499-9877
URL:https://dreammachineclassics.org/event/50th-annual-toys-for-tots/
LOCATION:Masonic Youth Center\, 116 Long Street\, Warwick\, RI
CATEGORIES:Cruise Night
END:VEVENT
BEGIN:VEVENT
DTSTART;TZID=America/New_York:20261012T180000
DTEND;TZID=America/New_York:20261012T200000
DTSTAMP:20260422T232348
CREATED:20260202T214530Z
LAST-MODIFIED:20260215T002524Z
UID:3721-1791828000-1791835200@dreammachineclassics.org
SUMMARY:Dream Machine Classics Club Meeting
DESCRIPTION:
URL:https://dreammachineclassics.org/event/dream-machine-classics-club-meeting-19/
LOCATION:Bozrah Moose Lodge 950\, 115 Fitchville Rd\, Bozrah\, CT
CATEGORIES:DMC Meeting
END:VEVENT
BEGIN:VEVENT
DTSTART;TZID=America/New_York:20261015T160000
DTEND;TZID=America/New_York:20261015T210000
DTSTAMP:20260422T232348
CREATED:20260226T152353Z
LAST-MODIFIED:20260329T163726Z
UID:3989-1792080000-1792098000@dreammachineclassics.org
SUMMARY:Bass Pro Shops Cruise Night at Patriot Place
DESCRIPTION:Widely considered “New England’s Premier Cruise Night”. \nHosted by the Mass Cruisers\, this bi-weekly event transforms the parking lots around Gillette Stadium into one of the largest automotive gatherings in the region\, often featuring hundreds of classic and unique vehicles.  \n\n\nLocation: Patriot Place (specifically Lots 14A\, 14B\, and 16; enter via P8).\nAdmission: Free for both owners and spectators.
URL:https://dreammachineclassics.org/event/bass-pro-shops-cruise-night-at-patriot-place/
LOCATION:Bass Pro Shops\, 1 Bass Pro Drive\, Foxboro\, MA
CATEGORIES:Cruise Night
END:VEVENT
BEGIN:VEVENT
DTSTART;TZID=America/New_York:20261109T180000
DTEND;TZID=America/New_York:20261109T200000
DTSTAMP:20260422T232348
CREATED:20260206T173424Z
LAST-MODIFIED:20260206T173424Z
UID:3722-1794247200-1794254400@dreammachineclassics.org
SUMMARY:Dream Machine Classics Club Meeting
DESCRIPTION:
URL:https://dreammachineclassics.org/event/dream-machine-classics-club-meeting-20/
LOCATION:Bozrah Moose Lodge 950\, 115 Fitchville Rd\, Bozrah\, CT
CATEGORIES:DMC Meeting
END:VEVENT
BEGIN:VEVENT
DTSTART;TZID=America/New_York:20261214T180000
DTEND;TZID=America/New_York:20261214T200000
DTSTAMP:20260422T232348
CREATED:20260202T211526Z
LAST-MODIFIED:20260410T162125Z
UID:3723-1797271200-1797278400@dreammachineclassics.org
SUMMARY:Dream Machine Classics Club Meeting
DESCRIPTION:
URL:https://dreammachineclassics.org/event/dream-machine-classics-club-meeting-12/
LOCATION:Bozrah Moose Lodge 950\, 115 Fitchville Rd\, Bozrah\, CT
CATEGORIES:DMC Meeting
END:VEVENT
END:VCALENDAR