BEGIN:VCALENDAR
VERSION:2.0
PRODID:-//Dream Machine Classics Auto Club Eastern CT - ECPv6.15.20//NONSGML v1.0//EN
CALSCALE:GREGORIAN
METHOD:PUBLISH
X-WR-CALNAME:Dream Machine Classics Auto Club Eastern CT
X-ORIGINAL-URL:https://dreammachineclassics.org
X-WR-CALDESC:Events for Dream Machine Classics Auto Club Eastern CT
REFRESH-INTERVAL;VALUE=DURATION:PT1H
X-Robots-Tag:noindex
X-PUBLISHED-TTL:PT1H
BEGIN:VTIMEZONE
TZID:America/New_York
BEGIN:DAYLIGHT
TZOFFSETFROM:-0500
TZOFFSETTO:-0400
TZNAME:EDT
DTSTART:20250309T070000
END:DAYLIGHT
BEGIN:STANDARD
TZOFFSETFROM:-0400
TZOFFSETTO:-0500
TZNAME:EST
DTSTART:20251102T060000
END:STANDARD
BEGIN:DAYLIGHT
TZOFFSETFROM:-0500
TZOFFSETTO:-0400
TZNAME:EDT
DTSTART:20260308T070000
END:DAYLIGHT
BEGIN:STANDARD
TZOFFSETFROM:-0400
TZOFFSETTO:-0500
TZNAME:EST
DTSTART:20261101T060000
END:STANDARD
BEGIN:DAYLIGHT
TZOFFSETFROM:-0500
TZOFFSETTO:-0400
TZNAME:EDT
DTSTART:20270314T070000
END:DAYLIGHT
BEGIN:STANDARD
TZOFFSETFROM:-0400
TZOFFSETTO:-0500
TZNAME:EST
DTSTART:20271107T060000
END:STANDARD
END:VTIMEZONE
BEGIN:VEVENT
DTSTART;TZID=America/New_York:20260728T173000
DTEND;TZID=America/New_York:20260728T203000
DTSTAMP:20260422T185232
CREATED:20260324T145417Z
LAST-MODIFIED:20260324T145655Z
UID:4843-1785259800-1785270600@dreammachineclassics.org
SUMMARY:Misquamicut RI. 2026 Classic Car Cruise Nights
DESCRIPTION:Held At the Drive -In Movie Lot. \nEvery Tuesday Night July thru August.     5:30 PM till Dusk \nMusic by DJ the Doc \nclick for flyer
URL:https://dreammachineclassics.org/event/misquamicut-ri-2026-classic-car-cruise-nights-3/
LOCATION:Misquamicut-316 Atlantic Ave the Pond Lot\, 316 Atlantic Avenue the Pond Lot\, Westerly\, RI
CATEGORIES:Cruise Night
END:VEVENT
BEGIN:VEVENT
DTSTART;TZID=America/New_York:20260730T160000
DTEND;TZID=America/New_York:20260730T210000
DTSTAMP:20260422T185232
CREATED:20260226T154823Z
LAST-MODIFIED:20260405T143233Z
UID:3983-1785427200-1785445200@dreammachineclassics.org
SUMMARY:Bass Pro Shops Cruise Night at Patriot Place
DESCRIPTION:Widely considered “New England’s Premier Cruise Night”. \nHosted by the Mass Cruisers\, this bi-weekly event transforms the parking lots around Gillette Stadium into one of the largest automotive gatherings in the region\, often featuring hundreds of classic and unique vehicles.  \n\n\nLocation: Patriot Place (specifically Lots 14A\, 14B\, and 16; enter via P8).\nAdmission: Free for both owners and spectators.
URL:https://dreammachineclassics.org/event/bass-pro-shops-cruise-night-at-patriot-place-12/
LOCATION:Bass Pro Shops\, 1 Bass Pro Drive\, Foxboro\, MA
CATEGORIES:Cruise Night
END:VEVENT
BEGIN:VEVENT
DTSTART;TZID=America/New_York:20260730T170000
DTEND;TZID=America/New_York:20260730T190000
DTSTAMP:20260422T185232
CREATED:20260331T205924Z
LAST-MODIFIED:20260331T205924Z
UID:5013-1785430800-1785438000@dreammachineclassics.org
SUMMARY:Ashford Fire Dept Cruise Night Ashford Ct.
DESCRIPTION:Last Thursday of each month May thru September \nMusic & Food Available Music by the Pom \n46 Westford Rd. Ashford Fire Dept. 06278
URL:https://dreammachineclassics.org/event/ashford-fire-dept-cruise-night-ashford-ct-3/
LOCATION:Ashford Volunteer Fire Department\, 46 Westford Road\, Ashford\, CT\, 06278
CATEGORIES:Cruise Night
END:VEVENT
BEGIN:VEVENT
DTSTART;TZID=America/New_York:20260731T170000
DTEND;TZID=America/New_York:20260731T200000
DTSTAMP:20260422T185232
CREATED:20260323T223215Z
LAST-MODIFIED:20260323T223332Z
UID:4775-1785517200-1785528000@dreammachineclassics.org
SUMMARY:Cruisin’ @ CT Golf Land 2026
DESCRIPTION:Every Friday\, 5pm – Dark \nWeekly Trophy \nCar Show at Golf Land in Vernon\, CT on Rte. 30 / 83 \nBrought to you by: Rocking Horse Bar & Grill \nclick for flyer
URL:https://dreammachineclassics.org/event/https-dreammachineclassics-org-wp-content-uploads-2026-03-cipart-pdf-jpg/
LOCATION:CT Golf Land\, 95 Hartford Turnpike\, Vernon\, CT\, 06066
CATEGORIES:Cruise Night
END:VEVENT
BEGIN:VEVENT
DTSTART;TZID=America/New_York:20260801T090000
DTEND;TZID=America/New_York:20260801T140000
DTSTAMP:20260422T185232
CREATED:20260324T140924Z
LAST-MODIFIED:20260405T143248Z
UID:4823-1785574800-1785592800@dreammachineclassics.org
SUMMARY:Swap Meet Saturdays at National Speed Center 1st Saturday of Each Month.
DESCRIPTION:Starting the Spring of 2026 1st Saturday of each month. \n9AM till 2PM \n115 Park Ave East Hartford Ct. 06108 \nFree gen Admission for Spectators for Vendor see Flyer \nclick for flyer
URL:https://dreammachineclassics.org/event/swap-meet-saturdays-at-national-speed-center-1st-saturday-of-each-month-4/
LOCATION:National Speed Center\, 115 Park Ave\, East Hartford\, 06108\, United States
CATEGORIES:Swap Meet
END:VEVENT
BEGIN:VEVENT
DTSTART;TZID=America/New_York:20260801T140000
DTEND;TZID=America/New_York:20260801T190000
DTSTAMP:20260422T185232
CREATED:20260316T210832Z
LAST-MODIFIED:20260405T143306Z
UID:4282-1785592800-1785610800@dreammachineclassics.org
SUMMARY:Pomfret Cruise Season 2026 by Tri State Cruisers
DESCRIPTION:Every Saturday from April thru September 2026. \nAt the corner of Rt.169 & Rt. 101 Pomfret Center. \nEnter Cruise from behind Pizza 101. \nclick here for flyer
URL:https://dreammachineclassics.org/event/pomfret-cruise-season-2026-by-tri-state-cruisers-18/
LOCATION:Pizza 101\, 16 Mashamoquct Rd.#A\, Pomfret\, CT\, 06259\, United States
CATEGORIES:Cruise Night
END:VEVENT
BEGIN:VEVENT
DTSTART;TZID=America/New_York:20260801T150000
DTEND;TZID=America/New_York:20260801T190000
DTSTAMP:20260422T185232
CREATED:20250428T191440Z
LAST-MODIFIED:20260405T143323Z
UID:2064-1785596400-1785610800@dreammachineclassics.org
SUMMARY:Bristol Auto Club-Cruise Nights
DESCRIPTION:No Rain Dates \nEvery 1st & 3rd Saturday Nights May 2nd through October 3rd \nFree Admission\, No Cut-Off\, 3 Awards Each Night\, Raffle Prizes\, Oldies Music \nSpecial Thanks to The D’Amato Family \nclick here for flyer \n 
URL:https://dreammachineclassics.org/event/bristol-auto-club-cruise-nights-6/
LOCATION:Bristol Auto Club\, 10 Main Street\, Bristol\, CT
CATEGORIES:Cruise Night
END:VEVENT
BEGIN:VEVENT
DTSTART;TZID=America/New_York:20260803T163000
DTEND;TZID=America/New_York:20260803T193000
DTSTAMP:20260422T185232
CREATED:20260318T230914Z
LAST-MODIFIED:20260414T021225Z
UID:4407-1785774600-1785785400@dreammachineclassics.org
SUMMARY:Monday Night Weekly Cruise Thompson Ct.
DESCRIPTION:Where: River Side Park Across from Thompson Town Hall . 315 River side Drive Tompson Ct. \nA Weekly Classic Car Cruise Open to the Public. \nStarting April 20\, 2026\, and every Monday 4:30 till Dark \nclick for flyer
URL:https://dreammachineclassics.org/event/monday-night-weekly-cruise-thompson-ct-18/
LOCATION:Thompson Riverside Park\, 315 Riverside drive Park\, Thompson\, CT\, United States
CATEGORIES:Cruise Night
END:VEVENT
BEGIN:VEVENT
DTSTART;TZID=America/New_York:20260803T170000
DTEND;TZID=America/New_York:20260803T190000
DTSTAMP:20260422T185232
CREATED:20260323T020348Z
LAST-MODIFIED:20260323T020348Z
UID:4672-1785776400-1785783600@dreammachineclassics.org
SUMMARY:Fish Family Farm Creamery and Dairy Car Cruise Every Monday Night 2026
DESCRIPTION:Every Monday\, weather permitting\, 5pm till 7 pm \nAll Makes and Models Welcome\, \nRaising Money for Lymphoma doing a 50/50 \nFood Truck\, Ice Cream \nclick here for flyer
URL:https://dreammachineclassics.org/event/fish-family-farm-creamery-and-dairy-car-cruise-every-monday-night-2026-13/
LOCATION:Fish Family Farm Creamery\, 20 Dimock Ln\, Bolton\, CT\, 06043\, United States
CATEGORIES:Cruise Night
END:VEVENT
BEGIN:VEVENT
DTSTART;TZID=America/New_York:20260803T170000
DTEND;TZID=America/New_York:20260803T200000
DTSTAMP:20260422T185232
CREATED:20260322T184004Z
LAST-MODIFIED:20260322T184039Z
UID:4580-1785776400-1785787200@dreammachineclassics.org
SUMMARY:Ocean Beach Park every Monday Cruise Nite New London Ct.
DESCRIPTION:Admission is Free to all after 5pm
URL:https://dreammachineclassics.org/event/ocean-beach-park-every-monday-cruise-nite-new-london-ct-12/
LOCATION:Ocean Beach Park Monday night Cruise 2026\, 98 Neptune Avenue\, New London\, CT\, 06320
CATEGORIES:Cruise Night
END:VEVENT
BEGIN:VEVENT
DTSTART;TZID=America/New_York:20260804T170000
DTEND;TZID=America/New_York:20260804T200000
DTSTAMP:20260422T185232
CREATED:20250327T161008Z
LAST-MODIFIED:20260405T143333Z
UID:1171-1785862800-1785873600@dreammachineclassics.org
SUMMARY:Hank's Dairy Bar Car Cruise
DESCRIPTION:Rain date following Tuesday\, \nMonthly Car Cruise on the Lawn \n\n\n\n\n\n\n\nEvent is free and open to all car enthusiasts. Parking will be on the back lawn\, unless the ground is too soft and then other accommodations will be made. Live Music on the Stage\, along with some event only specials.
URL:https://dreammachineclassics.org/event/hanks-dairy-bar-car-cruise-4/
LOCATION:Hank’s Dairy Bar\, 1006 Norwich Road (Route 12)\, Plainfield\, CT\, 06354
CATEGORIES:Cruise Night
END:VEVENT
BEGIN:VEVENT
DTSTART;TZID=America/New_York:20260804T170000
DTEND;TZID=America/New_York:20260804T200000
DTSTAMP:20260422T185232
CREATED:20260326T005101Z
LAST-MODIFIED:20260326T005101Z
UID:4919-1785862800-1785873600@dreammachineclassics.org
SUMMARY:Hank’s Dairy Bar Car Cruise
DESCRIPTION:monthly Car Cruise on the Lawn \n\n\n\n\n\n\n\nEvent is free and open to all car enthusiasts. Parking will be on the back lawn\, unless the ground is too soft and then other accommodations will be made. Live Music on the Stage\, along with some event only specials. \nFirst Tuesday Each Month Rain Date Following Tuesday. \n\nclick for flyer
URL:https://dreammachineclassics.org/event/hanks-dairy-bar-car-cruise-7/
LOCATION:Hank’s Dairy Bar\, 1006 Norwich Road (Route 12)\, Plainfield\, CT\, 06354
CATEGORIES:Cruise Night
END:VEVENT
BEGIN:VEVENT
DTSTART;TZID=America/New_York:20260804T173000
DTEND;TZID=America/New_York:20260804T200000
DTSTAMP:20260422T185232
CREATED:20260324T150021Z
LAST-MODIFIED:20260324T150021Z
UID:4849-1785864600-1785873600@dreammachineclassics.org
SUMMARY:Misquamicut RI. 2026 Classic Car Cruise Nights
DESCRIPTION:Held At the Drive -In Movie Lot. \nEvery Tuesday Night July thru August.     5:30 PM till Dusk \nMusic by DJ the Doc \nclick for flyer
URL:https://dreammachineclassics.org/event/misquamicut-ri-2026-classic-car-cruise-nights-4/
LOCATION:Misquamicut-316 Atlantic Ave the Pond Lot\, 316 Atlantic Avenue the Pond Lot\, Westerly\, RI
CATEGORIES:Cruise Night
END:VEVENT
BEGIN:VEVENT
DTSTART;TZID=America/New_York:20260804T180000
DTEND;TZID=America/New_York:20260804T200000
DTSTAMP:20260422T185232
CREATED:20260325T155128Z
LAST-MODIFIED:20260325T155128Z
UID:4903-1785866400-1785873600@dreammachineclassics.org
SUMMARY:Natures Art (The Dinosaur Place) Cruise Night 2026 by Yesteryear Auto Club.
DESCRIPTION:First Tuesday of each month May thru September Rain Date following Thursday. \nPre 1978 Classics and Antiques Car and Trucks. \nConcession: Food\, Beverages\, Ice-cream\, Trophies\, Live DJ\, and Fantastic Raffle Prizes\,
URL:https://dreammachineclassics.org/event/natures-art-the-dinosaur-place-cruise-night-2026-by-yesteryear-auto-club-4/
LOCATION:Nature’s Art Cruise Nights 2026 at the (Dinosaurs Place)\, 1650 Hartford-New London Turnpike\, Rt 85\, Oakdale\, CT\, 06370\, United States
CATEGORIES:Cruise Night
END:VEVENT
BEGIN:VEVENT
DTSTART;TZID=America/New_York:20260805T170000
DTEND;TZID=America/New_York:20260805T190000
DTSTAMP:20260422T185232
CREATED:20260403T144536Z
LAST-MODIFIED:20260403T144620Z
UID:5094-1785949200-1785956400@dreammachineclassics.org
SUMMARY:Bozrah Moose Lodge 950 2026 Cruise
DESCRIPTION:New Date 1st Wednesday Each Month Starting May 6th .  5PM till 7PM \nRods / Customs / Antiques / Muscle Cars / Special Interest \nFood Services and Beverages Available at the Moose Club Bozrah CT \nFor more info call (860) 889-6856 \nclick for flyer
URL:https://dreammachineclassics.org/event/bozrah-moose-lodge-950-2026-cruise-3/
LOCATION:Bozrah Moose Lodge 950\, 115 Fitchville Rd\, Bozrah\, CT
CATEGORIES:Cruise Night
END:VEVENT
BEGIN:VEVENT
DTSTART;TZID=America/New_York:20260807T170000
DTEND;TZID=America/New_York:20260807T200000
DTSTAMP:20260422T185232
CREATED:20260323T224515Z
LAST-MODIFIED:20260323T224639Z
UID:4783-1786122000-1786132800@dreammachineclassics.org
SUMMARY:Cruisin’ @ CT Golf Land 2026
DESCRIPTION:Every Friday\, 5pm – Dark \nWeekly Trophy \nCar Show at Golf Land in Vernon\, CT on Rte. 30 / 83 \nBrought to you by: Rocking Horse Bar & Grill \nclick for flyer
URL:https://dreammachineclassics.org/event/cruisin-ct-golf-land-2026-14/
LOCATION:CT Golf Land\, 95 Hartford Turnpike\, Vernon\, CT\, 06066
CATEGORIES:Cruise Night
END:VEVENT
BEGIN:VEVENT
DTSTART;TZID=America/New_York:20260808T140000
DTEND;TZID=America/New_York:20260808T193000
DTSTAMP:20260422T185232
CREATED:20260316T205841Z
LAST-MODIFIED:20260405T141159Z
UID:4280-1786197600-1786217400@dreammachineclassics.org
SUMMARY:Pomfret Cruise Season 2026 by Tri State Cruisers
DESCRIPTION:Every Saturday Night April thru September 2026. \nAt the corner of Rt. 169 & Rt. 101 Pomfret center. \nEnter Cruise from behind Pizza 101. \nClick here for flyer
URL:https://dreammachineclassics.org/event/pomfret-cruise-season-2026-by-tri-state-cruisers-17/
LOCATION:Pizza 101\, 16 Mashamoquct Rd.#A\, Pomfret\, CT\, 06259\, United States
CATEGORIES:Cruise Night
END:VEVENT
BEGIN:VEVENT
DTSTART;TZID=America/New_York:20260809T090000
DTEND;TZID=America/New_York:20260809T090000
DTSTAMP:20260422T185232
CREATED:20260215T175349Z
LAST-MODIFIED:20260405T141143Z
UID:3832-1786266000-1786266000@dreammachineclassics.org
SUMMARY:Seafood Festival Car And Bike Show
DESCRIPTION:$20 Admission Fee For Car And One Passenger – Additional Passengers Are Subject to $12 Entrance Fee \nAll Cars And Bikes Are Welcome \nMusical Entertainment \, Rides\, And Many Other Events \nWide Variety Of Foods \nWide Variety Of Arts And Crafts \nFor More Information Call Joe @ 401-499-9877 or visit www.ristreetrodding.org
URL:https://dreammachineclassics.org/event/seafood-festival-car-and-bike-show/
LOCATION:Ninigret Park\, Charlestown\, RI\, 02813
CATEGORIES:Car Show
END:VEVENT
BEGIN:VEVENT
DTSTART;TZID=America/New_York:20260810T080000
DTEND;TZID=America/New_York:20260810T170000
DTSTAMP:20260422T185232
CREATED:20260323T164333Z
LAST-MODIFIED:20260323T170133Z
UID:4675-1786348800-1786381200@dreammachineclassics.org
SUMMARY:Fish Family Farm Creamery and Dairy Car Cruise Every Monday Night 2026
DESCRIPTION:Every Monday\, weather permitting\, 5pm till 7 pm \nAll Makes and Models Welcome\, \nRaising Money for Lymphoma doing a 50/50 \nFood Truck\, Ice Cream \nclick for flyer
URL:https://dreammachineclassics.org/event/fish-family-farm-creamery-and-dairy-car-cruise-every-monday-night-2026-14/
LOCATION:Fish Family Farm Creamery\, 20 Dimock Ln\, Bolton\, CT\, 06043\, United States
CATEGORIES:Cruise Night
END:VEVENT
BEGIN:VEVENT
DTSTART;TZID=America/New_York:20260810T163000
DTEND;TZID=America/New_York:20260810T193000
DTSTAMP:20260422T185232
CREATED:20260318T223831Z
LAST-MODIFIED:20260414T021406Z
UID:4412-1786379400-1786390200@dreammachineclassics.org
SUMMARY:Monday Night Weekly Cruise Thompson Ct.
DESCRIPTION:Where: River Side Park Across from Thompson Town Hall . 315 River side Drive Tompson Ct. \nA Weekly Classic Car Cruise Open to the Public. \nStarting April 20\, 2026\, and every Monday 4:30 till Dark \n  \nclick for flyer \n 
URL:https://dreammachineclassics.org/event/monday-night-weekly-cruise-thompson-ct-14/
LOCATION:Thompson Riverside Park\, 315 Riverside drive Park\, Thompson\, CT\, United States
CATEGORIES:Cruise Night
END:VEVENT
BEGIN:VEVENT
DTSTART;TZID=America/New_York:20260810T170000
DTEND;TZID=America/New_York:20260810T200000
DTSTAMP:20260422T185232
CREATED:20260322T174204Z
LAST-MODIFIED:20260322T174204Z
UID:4572-1786381200-1786392000@dreammachineclassics.org
SUMMARY:Ocean Beach Park every Monday Cruise Nite New London Ct.
DESCRIPTION:Admission is Free to all after 5pm
URL:https://dreammachineclassics.org/event/ocean-beach-park-every-monday-cruise-nite-new-london-ct-10/
LOCATION:Ocean Beach Park Monday night Cruise 2026\, 98 Neptune Avenue\, New London\, CT\, 06320
CATEGORIES:Cruise Night
END:VEVENT
BEGIN:VEVENT
DTSTART;TZID=America/New_York:20260810T180000
DTEND;TZID=America/New_York:20260810T200000
DTSTAMP:20260422T185232
CREATED:20260202T214121Z
LAST-MODIFIED:20260226T153544Z
UID:3719-1786384800-1786392000@dreammachineclassics.org
SUMMARY:Dream Machine Classics Club Meeting
DESCRIPTION:
URL:https://dreammachineclassics.org/event/dream-machine-classics-club-meeting-17/
LOCATION:Bozrah Moose Lodge 950\, 115 Fitchville Rd\, Bozrah\, CT
CATEGORIES:DMC Meeting
END:VEVENT
BEGIN:VEVENT
DTSTART;TZID=America/New_York:20260811T170000
DTEND;TZID=America/New_York:20260811T190000
DTSTAMP:20260422T185232
CREATED:20260228T143705Z
LAST-MODIFIED:20260415T131539Z
UID:4030-1786467600-1786474800@dreammachineclassics.org
SUMMARY:Square Peg Pizzeria Cruise at Flemmings Field
DESCRIPTION:Sponsored By Flemings Feed And Hardware\,  Preston General Store \nFood And Beverages Available \nRain Date 2nd Thursday Each Month \nclick for flyer
URL:https://dreammachineclassics.org/event/square-peg-pizzeria-cruise-4/
LOCATION:Square Peg Pizzeria at Flemings Field\, 353 CT\, Route 165\, Preston\, CT\, 06365\, United States
CATEGORIES:Cruise Night
END:VEVENT
BEGIN:VEVENT
DTSTART;TZID=America/New_York:20260813T160000
DTEND;TZID=America/New_York:20260813T190000
DTSTAMP:20260422T185232
CREATED:20260407T213836Z
LAST-MODIFIED:20260407T213836Z
UID:5172-1786636800-1786647600@dreammachineclassics.org
SUMMARY:Camp Oakdale Farmer Market 2026 Cruise Night
DESCRIPTION:Music by Don Watson. \nLocal Farm Foods/ Craft Vendors/ Kids Activities. \nFood Trucks \nclick for flyer
URL:https://dreammachineclassics.org/event/camp-oakdale-farmer-market-2026-cruise-night/
LOCATION:Camp Oakdale Large Pavillion\, 75 Oxoboxo Dam Road\, Oakdale\, CT
CATEGORIES:Cruise Night
END:VEVENT
BEGIN:VEVENT
DTSTART;TZID=America/New_York:20260813T160000
DTEND;TZID=America/New_York:20260813T210000
DTSTAMP:20260422T185232
CREATED:20260226T154736Z
LAST-MODIFIED:20260405T141027Z
UID:3984-1786636800-1786654800@dreammachineclassics.org
SUMMARY:Bass Pro Shops Cruise Night at Patriot Place
DESCRIPTION:Widely considered “New England’s Premier Cruise Night”. \nHosted by the Mass Cruisers\, this bi-weekly event transforms the parking lots around Gillette Stadium into one of the largest automotive gatherings in the region\, often featuring hundreds of classic and unique vehicles.  \n\n\nLocation: Patriot Place (specifically Lots 14A\, 14B\, and 16; enter via P8).\nAdmission: Free for both owners and spectators.
URL:https://dreammachineclassics.org/event/bass-pro-shops-cruise-night-at-patriot-place-11/
LOCATION:Bass Pro Shops\, 1 Bass Pro Drive\, Foxboro\, MA
CATEGORIES:Cruise Night
END:VEVENT
BEGIN:VEVENT
DTSTART;TZID=America/New_York:20260814T170000
DTEND;TZID=America/New_York:20260814T190000
DTSTAMP:20260422T185232
CREATED:20260319T183703Z
LAST-MODIFIED:20260410T122830Z
UID:4495-1786726800-1786734000@dreammachineclassics.org
SUMMARY:Aero Diner Cruise Rt 6 North Windham Ct.
DESCRIPTION:Aero Diner Cruise 2026 5PM till 7PM \nMusic By the Pom. \n  \nclick for flyer
URL:https://dreammachineclassics.org/event/aero-diner-cruise-rt-6-north-windham-4/
LOCATION:Aero Diner\, 361 Boston Post Rd # 13\, North Windham\, CT\, 06256
CATEGORIES:Cruise Night
END:VEVENT
BEGIN:VEVENT
DTSTART;TZID=America/New_York:20260814T170000
DTEND;TZID=America/New_York:20260814T200000
DTSTAMP:20260422T185232
CREATED:20260323T225130Z
LAST-MODIFIED:20260323T225130Z
UID:4787-1786726800-1786737600@dreammachineclassics.org
SUMMARY:Cruisin’ @ CT Golf Land 2026
DESCRIPTION:Every Friday\, 5pm – Dark \nWeekly Trophy \nCar Show at Golf Land in Vernon\, CT on Rte. 30 / 83 \nBrought to you by: Rocking Horse Bar & Grill \nclick for flyer
URL:https://dreammachineclassics.org/event/cruisin-ct-golf-land-2026-15/
LOCATION:CT Golf Land\, 95 Hartford Turnpike\, Vernon\, CT\, 06066
CATEGORIES:Cruise Night
END:VEVENT
BEGIN:VEVENT
DTSTART;TZID=America/New_York:20260815T100000
DTEND;TZID=America/New_York:20260815T140000
DTSTAMP:20260422T185232
CREATED:20260401T003700Z
LAST-MODIFIED:20260422T222656Z
UID:5050-1786788000-1786802400@dreammachineclassics.org
SUMMARY:Annual Community Fundraiser Car Show-Cruise for a Cause
DESCRIPTION:Free Admission       No Rain Date \n\nDonations welcome\, all proceeds go to local families in critical need \nDoor Prizes & Refreshments \nOpen to all years of cars\, trucks\, race cars and vintage stock cars \nPlease no motorcycles – The Staff has the right to refuse any entry – Please no alcohol or burnouts \nFor more info contact Ted Grey (860) 608-1089\, Al Wlodarczyk (959) 239-1598 or Don Smith (860) 443-7837 \n\nclick here for flyer
URL:https://dreammachineclassics.org/event/annual-community-fundraiser-car-show-cruise-for-a-cause/
LOCATION:Salem Town Green\, 244 Hartford Road\, Salem\, CT
CATEGORIES:Car Show
END:VEVENT
BEGIN:VEVENT
DTSTART;TZID=America/New_York:20260815T140000
DTEND;TZID=America/New_York:20260815T190000
DTSTAMP:20260422T185232
CREATED:20260316T205326Z
LAST-MODIFIED:20260405T140958Z
UID:4277-1786802400-1786820400@dreammachineclassics.org
SUMMARY:Pomfret Cruise Season 2026 by Tri State Cruisers
DESCRIPTION:Every Saturday Night from April thru September 2026 \nAt the corner of Rt. 169 & Rt. 101 Pomfret Center. \nEnter Cruise From behind Pizza 101 . \nclick here for flyer \n 
URL:https://dreammachineclassics.org/event/pomfret-cruise-season-2026-by-tri-state-cruisers-16/
LOCATION:Pizza 101\, 16 Mashamoquct Rd.#A\, Pomfret\, CT\, 06259\, United States
CATEGORIES:Cruise Night
END:VEVENT
BEGIN:VEVENT
DTSTART;TZID=America/New_York:20260815T150000
DTEND;TZID=America/New_York:20260815T190000
DTSTAMP:20260422T185232
CREATED:20250428T191517Z
LAST-MODIFIED:20260405T143342Z
UID:2066-1786806000-1786820400@dreammachineclassics.org
SUMMARY:Bristol Auto Club-Cruise Nights
DESCRIPTION:No Rain Dates \nEvery 1st & 3rd Saturday Nights May 2nd through October 3rd \nFree Admission\, No Cut-Off\, 3 Awards Each Night\, Raffle Prizes\, Oldies Music \nSpecial Thanks to The D’Amato Family \nclick here for flyer \n 
URL:https://dreammachineclassics.org/event/bristol-auto-club-cruise-nights-7/
LOCATION:Bristol Auto Club\, 10 Main Street\, Bristol\, CT
CATEGORIES:Cruise Night
END:VEVENT
END:VCALENDAR