BEGIN:VCALENDAR
VERSION:2.0
PRODID:-//Dream Machine Classics Auto Club Eastern CT - ECPv6.15.20//NONSGML v1.0//EN
CALSCALE:GREGORIAN
METHOD:PUBLISH
X-ORIGINAL-URL:https://dreammachineclassics.org
X-WR-CALDESC:Events for Dream Machine Classics Auto Club Eastern CT
REFRESH-INTERVAL;VALUE=DURATION:PT1H
X-Robots-Tag:noindex
X-PUBLISHED-TTL:PT1H
BEGIN:VTIMEZONE
TZID:America/New_York
BEGIN:DAYLIGHT
TZOFFSETFROM:-0500
TZOFFSETTO:-0400
TZNAME:EDT
DTSTART:20240310T070000
END:DAYLIGHT
BEGIN:STANDARD
TZOFFSETFROM:-0400
TZOFFSETTO:-0500
TZNAME:EST
DTSTART:20241103T060000
END:STANDARD
BEGIN:DAYLIGHT
TZOFFSETFROM:-0500
TZOFFSETTO:-0400
TZNAME:EDT
DTSTART:20250309T070000
END:DAYLIGHT
BEGIN:STANDARD
TZOFFSETFROM:-0400
TZOFFSETTO:-0500
TZNAME:EST
DTSTART:20251102T060000
END:STANDARD
BEGIN:DAYLIGHT
TZOFFSETFROM:-0500
TZOFFSETTO:-0400
TZNAME:EDT
DTSTART:20260308T070000
END:DAYLIGHT
BEGIN:STANDARD
TZOFFSETFROM:-0400
TZOFFSETTO:-0500
TZNAME:EST
DTSTART:20261101T060000
END:STANDARD
BEGIN:DAYLIGHT
TZOFFSETFROM:-0500
TZOFFSETTO:-0400
TZNAME:EDT
DTSTART:20270314T070000
END:DAYLIGHT
BEGIN:STANDARD
TZOFFSETFROM:-0400
TZOFFSETTO:-0500
TZNAME:EST
DTSTART:20271107T060000
END:STANDARD
END:VTIMEZONE
BEGIN:VEVENT
DTSTART;TZID=America/New_York:20260418T070000
DTEND;TZID=America/New_York:20260419T170000
DTSTAMP:20260422T163008
CREATED:20260215T004025Z
LAST-MODIFIED:20260329T164913Z
UID:3737-1776495600-1776618000@dreammachineclassics.org
SUMMARY:BROOKLYN CT. Automotive SWAP MEET 2026
DESCRIPTION:Brooklyn Fair Ground Automotive Swap meet. \nAPRIL 18TH & APRIL 19TH 2026 \nRt169 Brooklyn Ct. \nSpectator Gate opens 7:00 Am till 5:00Pm \nAdmission Spectators $5.00 per person. \nVendors Information $20.00 for outside spot\, $30.00 for inside spot. \nVendor Gate opens 6:00 Am \nVendors Friday setup Available 12:00 Pm till 8:00 Pm \n click here for flyer
URL:https://dreammachineclassics.org/event/brooklyn-ct-automotive-swap-meet-2026/
LOCATION:Brooklyn Fairgrounds\, Rt. 169/15 Fairgrounds Road\, Brooklyn\, CT
CATEGORIES:Swap Meet
ORGANIZER;CN="wasco":MAILTO:brooklynctswapmeet@gmail.com
END:VEVENT
BEGIN:VEVENT
DTSTART;TZID=America/New_York:20260412T073000
DTEND;TZID=America/New_York:20260412T180000
DTSTAMP:20260422T163008
CREATED:20260314T004750Z
LAST-MODIFIED:20260329T164851Z
UID:4097-1775979000-1776016800@dreammachineclassics.org
SUMMARY:The Ty Rods 38th all Automotive Swap Meet
DESCRIPTION:April 12TH 2026 Gates open 7am for public\, admission $15.00 per person \nNo Pets Allowed   No Campfires or outdoor Burning \nFor Vendors fees see Face Book.com Ty Rods Auto Club of Ct. \nClick here for Flyer
URL:https://dreammachineclassics.org/event/the-ty-rods-38th-all-automotive-swap-meet/
LOCATION:Stafford Motor Speedway\, 55 West Street\, Route 140\, Stafford Springs\, CT\, 06076
CATEGORIES:Swap Meet
END:VEVENT
BEGIN:VEVENT
DTSTART;TZID=America/New_York:20260116T190000
DTEND;TZID=America/New_York:20260118T185959
DTSTAMP:20260422T163008
CREATED:20260110T041750Z
LAST-MODIFIED:20260405T142004Z
UID:3662-1768590000-1768762799@dreammachineclassics.org
SUMMARY:AutoParts Swap N Sell- Automotive Swap Meet
DESCRIPTION:Admission $15/day\,  12 and under free with paid adult \nIndoors-Vendors-Eastern States Exposition Complex \nSaturday 8am-5pm\, Sunday 8am-5pm \nFor more info call (860) 871-6376  or (860) 268-1787
URL:https://dreammachineclassics.org/event/autoparts-swap-n-sell-automotive-swap-meet/
LOCATION:Eastern States Exposition Complex\, 1305 Memorial Ave\, W. Springfield\, MA
CATEGORIES:Swap Meet
END:VEVENT
BEGIN:VEVENT
DTSTART;TZID=America/New_York:20250502T030000
DTEND;TZID=America/New_York:20250504T140000
DTSTAMP:20260422T163008
CREATED:20250319T210603Z
LAST-MODIFIED:20260329T164436Z
UID:859-1746154800-1746367200@dreammachineclassics.org
SUMMARY:43rd Swap Meet and Auto Shows
DESCRIPTION:Rain or Shine \nCar show registration 8am – 11:30am\, enter thru Gate #4 \nGeneral Admission Gates open at 7am and close at 6pm
URL:https://dreammachineclassics.org/event/43rd-swap-meet-and-auto-shows/
LOCATION:Old Bridge Township Raceway Park\, 230 Pension Road\, English Town\, NJ\, 07726
CATEGORIES:Car Show,Swap Meet
END:VEVENT
BEGIN:VEVENT
DTSTART;TZID=America/New_York:20250427T040000
DTEND;TZID=America/New_York:20250427T090000
DTSTAMP:20260422T163008
CREATED:20250326T164256Z
LAST-MODIFIED:20260329T164342Z
UID:1041-1745726400-1745744400@dreammachineclassics.org
SUMMARY:53rd Annual Swap Meet & Car Show
DESCRIPTION:All Automotive Makes\, Free dash plaque to first 500 Show Cars \n$10 General Admission Per Person (Children under 12 Free) \nClick or copy link for flyer: \nhttps://www.facebook.com/photo?fbid=1046444054186968&set=a.557047946459917
URL:https://dreammachineclassics.org/event/53rd-annual-swap-meet-car-show/
LOCATION:Fitchburg Airport\, 567 Crawford Street\, Fitchburg\, MA\, 01420
CATEGORIES:Cruise Night,Swap Meet
END:VEVENT
BEGIN:VEVENT
DTSTART;TZID=America/New_York:20250427T040000
DTEND;TZID=America/New_York:20250427T040000
DTSTAMP:20260422T163008
CREATED:20250326T170647Z
LAST-MODIFIED:20260329T164325Z
UID:1064-1745726400-1745726400@dreammachineclassics.org
SUMMARY:Spring Swap Meet
DESCRIPTION:
URL:https://dreammachineclassics.org/event/spring-swap-meet/
LOCATION:Lebanon Valley Dragway-Updated\, 1746 US-20\, West Lebanon\, NY\, 12195
CATEGORIES:Swap Meet
END:VEVENT
BEGIN:VEVENT
DTSTART;TZID=America/New_York:20250412T030000
DTEND;TZID=America/New_York:20250413T150000
DTSTAMP:20260422T163008
CREATED:20250319T220952Z
LAST-MODIFIED:20260329T164148Z
UID:869-1744426800-1744556400@dreammachineclassics.org
SUMMARY:Brooklyn Swap Meet
DESCRIPTION:Rain or Shine
URL:https://dreammachineclassics.org/event/brooklyn-swap-meet/
LOCATION:Brooklyn Fairgrounds\, Rt. 169/15 Fairgrounds Road\, Brooklyn\, CT
CATEGORIES:Swap Meet
END:VEVENT
BEGIN:VEVENT
DTSTART;TZID=America/New_York:20250406T030000
DTEND;TZID=America/New_York:20250406T030000
DTSTAMP:20260422T163008
CREATED:20250319T014703Z
LAST-MODIFIED:20260329T164140Z
UID:845-1743908400-1743908400@dreammachineclassics.org
SUMMARY:Annual Spring Ty-Rods Swap Meet
DESCRIPTION:Rain or Shine
URL:https://dreammachineclassics.org/event/annual-spring-ty-rods-swap-meet/
LOCATION:Stafford Motor Speedway\, 55 West Street\, Route 140\, Stafford Springs\, CT\, 06076
CATEGORIES:Swap Meet
END:VEVENT
END:VCALENDAR