BEGIN:VCALENDAR
VERSION:2.0
PRODID:-//Dream Machine Classics Auto Club Eastern CT - ECPv6.15.20//NONSGML v1.0//EN
CALSCALE:GREGORIAN
METHOD:PUBLISH
X-WR-CALNAME:Dream Machine Classics Auto Club Eastern CT
X-ORIGINAL-URL:https://dreammachineclassics.org
X-WR-CALDESC:Events for Dream Machine Classics Auto Club Eastern CT
REFRESH-INTERVAL;VALUE=DURATION:PT1H
X-Robots-Tag:noindex
X-PUBLISHED-TTL:PT1H
BEGIN:VTIMEZONE
TZID:America/New_York
BEGIN:DAYLIGHT
TZOFFSETFROM:-0500
TZOFFSETTO:-0400
TZNAME:EDT
DTSTART:20250309T070000
END:DAYLIGHT
BEGIN:STANDARD
TZOFFSETFROM:-0400
TZOFFSETTO:-0500
TZNAME:EST
DTSTART:20251102T060000
END:STANDARD
BEGIN:DAYLIGHT
TZOFFSETFROM:-0500
TZOFFSETTO:-0400
TZNAME:EDT
DTSTART:20260308T070000
END:DAYLIGHT
BEGIN:STANDARD
TZOFFSETFROM:-0400
TZOFFSETTO:-0500
TZNAME:EST
DTSTART:20261101T060000
END:STANDARD
BEGIN:DAYLIGHT
TZOFFSETFROM:-0500
TZOFFSETTO:-0400
TZNAME:EDT
DTSTART:20270314T070000
END:DAYLIGHT
BEGIN:STANDARD
TZOFFSETFROM:-0400
TZOFFSETTO:-0500
TZNAME:EST
DTSTART:20271107T060000
END:STANDARD
END:VTIMEZONE
BEGIN:VEVENT
DTSTART;TZID=America/New_York:20260530T140000
DTEND;TZID=America/New_York:20260530T190000
DTSTAMP:20260422T184126
CREATED:20260316T023034Z
LAST-MODIFIED:20260405T142907Z
UID:4235-1780149600-1780167600@dreammachineclassics.org
SUMMARY:Pomfret Cruise Season 2026 by Tri State Cruisers.
DESCRIPTION:Every Saturday Night April thru September 2026 \nAt the corner of Rt. 169 & Rt. 101 Pomfret Center. \nEnter from behind Pizza 101. \nclick here for flyer
URL:https://dreammachineclassics.org/event/pomfret-cruise-season-2026-by-tri-state-cruisers-7/
LOCATION:Pizza 101\, 16 Mashamoquct Rd.#A\, Pomfret\, CT\, 06259\, United States
CATEGORIES:Cruise Night
END:VEVENT
BEGIN:VEVENT
DTSTART;TZID=America/New_York:20260601T163000
DTEND;TZID=America/New_York:20260601T193000
DTSTAMP:20260422T184126
CREATED:20260318T203529Z
LAST-MODIFIED:20260414T015136Z
UID:4349-1780331400-1780342200@dreammachineclassics.org
SUMMARY:Monday Night Weekly Cruise Thompson Ct.
DESCRIPTION:Where: River Side Park Across from Thompson Town Hall. 315 River side Drive Tompson Ct. \nA Weekly Classic Car Cruise Open to the Public. \nStarting April 20\, 2026\, and every Monday 4:30 till Dark \nclick for flyer
URL:https://dreammachineclassics.org/event/monday-night-weekly-cruise-thompson-ct-6/
LOCATION:Thompson Riverside Park\, 315 Riverside drive Park\, Thompson\, CT\, United States
CATEGORIES:Cruise Night
END:VEVENT
BEGIN:VEVENT
DTSTART;TZID=America/New_York:20260601T170000
DTEND;TZID=America/New_York:20260601T190000
DTSTAMP:20260422T184126
CREATED:20260323T011813Z
LAST-MODIFIED:20260323T011813Z
UID:4644-1780333200-1780340400@dreammachineclassics.org
SUMMARY:Fish Family Farm Creamery and Dairy Car Cruise Every Monday Night 2026
DESCRIPTION:Every Monday\, weather permitting\, 5pm till 7 pm \nAll Makes and Models Welcome\, \nRaising Money for Lymphoma doing a 50/50 \nFood Truck\, Ice Cream \n  \nclick here for flyer
URL:https://dreammachineclassics.org/event/fish-family-farm-creamery-and-dairy-car-cruise-every-monday-night-2026-4/
LOCATION:Fish Family Farm Creamery\, 20 Dimock Ln\, Bolton\, CT\, 06043\, United States
CATEGORIES:Cruise Night
END:VEVENT
BEGIN:VEVENT
DTSTART;TZID=America/New_York:20260601T170000
DTEND;TZID=America/New_York:20260601T200000
DTSTAMP:20260422T184126
CREATED:20260322T172151Z
LAST-MODIFIED:20260322T172151Z
UID:4557-1780333200-1780344000@dreammachineclassics.org
SUMMARY:Ocean Beach Park every Monday Cruise Nite New London Ct.
DESCRIPTION:Admission is Free to all after 5pm
URL:https://dreammachineclassics.org/event/ocean-beach-park-every-monday-cruise-nite-new-london-ct-4/
LOCATION:Ocean Beach Park Monday night Cruise 2026\, 98 Neptune Avenue\, New London\, CT\, 06320
CATEGORIES:Cruise Night
END:VEVENT
BEGIN:VEVENT
DTSTART;TZID=America/New_York:20260602T170000
DTEND;TZID=America/New_York:20260602T200000
DTSTAMP:20260422T184126
CREATED:20250327T160529Z
LAST-MODIFIED:20260326T003831Z
UID:1167-1780419600-1780430400@dreammachineclassics.org
SUMMARY:Hank's Dairy Bar Car Cruise
DESCRIPTION:Rain date following Tuesday\, \nMonthly Car Cruise on the Lawn \n\n\n\n\n\n\n\nEvent is free and open to all car enthusiasts. Parking will be on the back lawn\, unless the ground is too soft and then other accommodations will be made. Live Music on the Stage\, along with some event only specials. \nclick for flyer
URL:https://dreammachineclassics.org/event/hanks-dairy-bar-car-cruise-2/
LOCATION:Hank’s Dairy Bar\, 1006 Norwich Road (Route 12)\, Plainfield\, CT\, 06354
CATEGORIES:Cruise Night
END:VEVENT
BEGIN:VEVENT
DTSTART;TZID=America/New_York:20260602T180000
DTEND;TZID=America/New_York:20260602T200000
DTSTAMP:20260422T184126
CREATED:20260325T154609Z
LAST-MODIFIED:20260325T154609Z
UID:4897-1780423200-1780430400@dreammachineclassics.org
SUMMARY:Natures Art (The Dinosaur Place) Cruise Night 2026 by Yesteryear Auto Club.
DESCRIPTION:First Tuesday of each month May thru September Rain Date following Thursday. \nPre 1978 Classics and Antiques Car and Trucks. \nConcession: Food\, Beverages\, Ice-cream\, Trophies\, Live DJ\, and Fantastic Raffle Prizes\,
URL:https://dreammachineclassics.org/event/natures-art-the-dinosaur-place-cruise-night-2026-by-yesteryear-auto-club-2/
LOCATION:Nature’s Art Cruise Nights 2026 at the (Dinosaurs Place)\, 1650 Hartford-New London Turnpike\, Rt 85\, Oakdale\, CT\, 06370\, United States
CATEGORIES:Cruise Night
END:VEVENT
BEGIN:VEVENT
DTSTART;TZID=America/New_York:20260603T170000
DTEND;TZID=America/New_York:20260603T190000
DTSTAMP:20260422T184126
CREATED:20260403T143830Z
LAST-MODIFIED:20260403T143830Z
UID:5088-1780506000-1780513200@dreammachineclassics.org
SUMMARY:Bozrah Moose Lodge 950 2026 Cruise
DESCRIPTION:New Date 1st Wednesday Each Month Starting May 6th .  5PM till 7PM \nRods / Customs / Antiques / Muscle Cars / Special Interest \nFood Services and Beverages Available at the Moose Club Bozrah CT \nFor more info call (860) 889-6856 \nclick for flyer
URL:https://dreammachineclassics.org/event/bozrah-moose-lodge-950-2026-cruise-2/
LOCATION:Bozrah Moose Lodge 950\, 115 Fitchville Rd\, Bozrah\, CT
CATEGORIES:Cruise Night
END:VEVENT
BEGIN:VEVENT
DTSTART;TZID=America/New_York:20260604T160000
DTEND;TZID=America/New_York:20260604T210000
DTSTAMP:20260422T184126
CREATED:20260226T154239Z
LAST-MODIFIED:20260405T142932Z
UID:3981-1780588800-1780606800@dreammachineclassics.org
SUMMARY:Bass Pro Shops Cruise Night at Patriot Place
DESCRIPTION:Widely considered “New England’s Premier Cruise Night”. \nHosted by the Mass Cruisers\, this bi-weekly event transforms the parking lots around Gillette Stadium into one of the largest automotive gatherings in the region\, often featuring hundreds of classic and unique vehicles.  \n\n\nLocation: Patriot Place (specifically Lots 14A\, 14B\, and 16; enter via P8).\nAdmission: Free for both owners and spectators.
URL:https://dreammachineclassics.org/event/bass-pro-shops-cruise-night-at-patriot-place-4/
LOCATION:Bass Pro Shops\, 1 Bass Pro Drive\, Foxboro\, MA
CATEGORIES:Cruise Night
END:VEVENT
BEGIN:VEVENT
DTSTART;TZID=America/New_York:20260604T170000
DTEND;TZID=America/New_York:20260604T190000
DTSTAMP:20260422T184126
CREATED:20260401T004647Z
LAST-MODIFIED:20260401T005504Z
UID:5054-1780592400-1780599600@dreammachineclassics.org
SUMMARY:Douglas Manor Cruise
DESCRIPTION:All Years Welcome \nMusic by The P’OM and Paul \nFree Hot Dogs and Ice Cream
URL:https://dreammachineclassics.org/event/douglas-manor-cruise/
LOCATION:Douglas Manor\, 103 North Road\, Windham\, CT
CATEGORIES:Cruise Night
END:VEVENT
BEGIN:VEVENT
DTSTART;TZID=America/New_York:20260605T170000
DTEND;TZID=America/New_York:20260605T200000
DTSTAMP:20260422T184126
CREATED:20260323T215445Z
LAST-MODIFIED:20260329T152047Z
UID:4745-1780678800-1780689600@dreammachineclassics.org
SUMMARY:Cruisin' @ CT Golf Land 2026
DESCRIPTION:Every Friday\, 5pm – Dark \nWeekly Trophy \nCar Show at Golf Land in Vernon\, CT on Rte. 30 / 83 \nBrought to you by: Rocking Horse Bar & Grill \nclick for flyer \n 
URL:https://dreammachineclassics.org/event/cruisin-ct-golf-land-2026-5/
LOCATION:CT Golf Land\, 95 Hartford Turnpike\, Vernon\, CT\, 06066
CATEGORIES:Cruise Night
END:VEVENT
BEGIN:VEVENT
DTSTART;TZID=America/New_York:20260606T140000
DTEND;TZID=America/New_York:20260606T190000
DTSTAMP:20260422T184126
CREATED:20260316T022005Z
LAST-MODIFIED:20260405T142955Z
UID:4230-1780754400-1780772400@dreammachineclassics.org
SUMMARY:Pomfret Cruise Season 2026 By Tri State Cruisers
DESCRIPTION:Every Saturday Night April thru September 2026 \nAt the corner of Rt. 169 & Rt.101 Pomfret Center. \nEnter Cruise from behind Pizza 101 \nclick here for flyer
URL:https://dreammachineclassics.org/event/pomfret-cruise-season-2026-by-tri-state-cruisers-6/
LOCATION:Pizza 101\, 16 Mashamoquct Rd.#A\, Pomfret\, CT\, 06259\, United States
CATEGORIES:Cruise Night
END:VEVENT
BEGIN:VEVENT
DTSTART;TZID=America/New_York:20260606T150000
DTEND;TZID=America/New_York:20260606T190000
DTSTAMP:20260422T184126
CREATED:20250428T191143Z
LAST-MODIFIED:20260405T143004Z
UID:2058-1780758000-1780772400@dreammachineclassics.org
SUMMARY:Bristol Auto Club-Cruise Nights
DESCRIPTION:No Rain Dates \nEvery 1st & 3rd Saturday Nights May 2nd through October 3rd \nFree Admission\, No Cut-Off\, 3 Awards Each Night\, Raffle Prizes\, Oldies Music \nSpecial Thanks to The D’Amato Family \nclick here for flyer
URL:https://dreammachineclassics.org/event/bristol-auto-club-cruise-nights-3/
LOCATION:Bristol Auto Club\, 10 Main Street\, Bristol\, CT
CATEGORIES:Cruise Night
END:VEVENT
BEGIN:VEVENT
DTSTART;TZID=America/New_York:20260608T170000
DTEND;TZID=America/New_York:20260608T190000
DTSTAMP:20260422T184126
CREATED:20260323T012130Z
LAST-MODIFIED:20260323T012130Z
UID:4647-1780938000-1780945200@dreammachineclassics.org
SUMMARY:Fish Family Farm Creamery and Dairy Car Cruise Every Monday Night 2026
DESCRIPTION:Every Monday\, weather permitting\, 5pm till 7 pm \nAll Makes and Models Welcome\, \nRaising Money for Lymphoma doing a 50/50 \nFood Truck\, Ice Cream \nclick here for flyer \n 
URL:https://dreammachineclassics.org/event/fish-family-farm-creamery-and-dairy-car-cruise-every-monday-night-2026-5/
LOCATION:Fish Family Farm Creamery\, 20 Dimock Ln\, Bolton\, CT\, 06043\, United States
CATEGORIES:Cruise Night
END:VEVENT
BEGIN:VEVENT
DTSTART;TZID=America/New_York:20260608T170000
DTEND;TZID=America/New_York:20260608T200000
DTSTAMP:20260422T184126
CREATED:20260322T172455Z
LAST-MODIFIED:20260322T172455Z
UID:4559-1780938000-1780948800@dreammachineclassics.org
SUMMARY:Ocean Beach Park every Monday Cruise Nite New London Ct.
DESCRIPTION:Admission is Free to all after 5pm
URL:https://dreammachineclassics.org/event/ocean-beach-park-every-monday-cruise-nite-new-london-ct-5/
LOCATION:Ocean Beach Park Monday night Cruise 2026\, 98 Neptune Avenue\, New London\, CT\, 06320
CATEGORIES:Cruise Night
END:VEVENT
BEGIN:VEVENT
DTSTART;TZID=America/New_York:20260609T170000
DTEND;TZID=America/New_York:20260609T190000
DTSTAMP:20260422T184126
CREATED:20260314T234627Z
LAST-MODIFIED:20260415T131142Z
UID:3872-1781024400-1781031600@dreammachineclassics.org
SUMMARY:Square Peg Pizzeria Cruise Nights 2026
DESCRIPTION:June 9th 2026 @ 5:00 pm – 7:00 pm 5pm till 7pm Rain Date Following Thursday\n\n\n\n353 CT- Rt 165 Preston Ct \nFood & Beverage Available \nPlease No Burn Outs \nSponsored by Dream Machine Classics Club \nclick for flyer
URL:https://dreammachineclassics.org/event/square-peg-pizzeria-cruise-nights-2026/
LOCATION:squarepegpizzeria\, 353 CT -Rt 165 Preston Ct\, Preston\, United States
CATEGORIES:Cruise Night
END:VEVENT
BEGIN:VEVENT
DTSTART;TZID=America/New_York:20260612T170000
DTEND;TZID=America/New_York:20260612T190000
DTSTAMP:20260422T184126
CREATED:20260319T182852Z
LAST-MODIFIED:20260410T122504Z
UID:4490-1781283600-1781290800@dreammachineclassics.org
SUMMARY:Aero Diner Cruise Rt 6 North Windham Ct.
DESCRIPTION:Aero Diner Cruise 2026 5PM till 7PM \nMusic By the Pom \n  \nclick for flyer
URL:https://dreammachineclassics.org/event/aero-diner-cruise-rt-6-north-windham-2/
LOCATION:Aero Diner\, 361 Boston Post Rd # 13\, North Windham\, CT\, 06256
CATEGORIES:Cruise Night
END:VEVENT
BEGIN:VEVENT
DTSTART;TZID=America/New_York:20260612T170000
DTEND;TZID=America/New_York:20260612T200000
DTSTAMP:20260422T184126
CREATED:20260323T222101Z
LAST-MODIFIED:20260323T223413Z
UID:4765-1781283600-1781294400@dreammachineclassics.org
SUMMARY:Cruisin’ @ CT Golf Land 2026
DESCRIPTION:Every Friday\, 5pm – Dark \nWeekly Trophy \nCar Show at Golf Land in Vernon\, CT on Rte. 30 / 83 \nBrought to you by: Rocking Horse Bar & Grill \nclick for flyer
URL:https://dreammachineclassics.org/event/cruisin-ct-golf-land-2026-11/
LOCATION:CT Golf Land\, 95 Hartford Turnpike\, Vernon\, CT\, 06066
CATEGORIES:Cruise Night
END:VEVENT
BEGIN:VEVENT
DTSTART;TZID=America/New_York:20260613T140000
DTEND;TZID=America/New_York:20260613T190000
DTSTAMP:20260422T184126
CREATED:20260316T183502Z
LAST-MODIFIED:20260405T143049Z
UID:4237-1781359200-1781377200@dreammachineclassics.org
SUMMARY:Pomfret Cruise Season 2026 by Tri State Cruisers
DESCRIPTION:Every Sat Night April thru September \nAt the corner of Rt.169 & Rt.101 Pomfret Center. \nEnter cruise from behind Pizza 101 \nclick her for flyer
URL:https://dreammachineclassics.org/event/pomfret-cruise-season-2026-by-tir-state-cruisers/
LOCATION:Pizza 101\, 16 Mashamoquct Rd.#A\, Pomfret\, CT\, 06259\, United States
CATEGORIES:Cruise Night
END:VEVENT
BEGIN:VEVENT
DTSTART;TZID=America/New_York:20260615T163000
DTEND;TZID=America/New_York:20260615T193000
DTSTAMP:20260422T184126
CREATED:20260318T203657Z
LAST-MODIFIED:20260414T015502Z
UID:4351-1781541000-1781551800@dreammachineclassics.org
SUMMARY:Monday Night Weekly Cruise Thompson Ct.
DESCRIPTION:Where: River Side Park Across from Thompson Town Hall. 315 River side Drive Tompson Ct. \nA Weekly Classic Car Cruise Open to the Public. \nStarting April 20\, 2026\, and every Monday 4:30 till Dark \nclick for flyer
URL:https://dreammachineclassics.org/event/monday-night-weekly-cruise-thompson-ct-7/
LOCATION:Thompson Riverside Park\, 315 Riverside drive Park\, Thompson\, CT\, United States
CATEGORIES:Cruise Night
END:VEVENT
BEGIN:VEVENT
DTSTART;TZID=America/New_York:20260615T163000
DTEND;TZID=America/New_York:20260615T193000
DTSTAMP:20260422T184126
CREATED:20260319T165415Z
LAST-MODIFIED:20260411T211222Z
UID:4480-1781541000-1781551800@dreammachineclassics.org
SUMMARY:Cruise Nights at Elks of Willimantic
DESCRIPTION:5:30pm ’til Dark \nOpen to all Classic Cars\, Awards\, Free to participants and Spectators\, Music by Gary Pomo: THE P’OM \nNo animals Allowed Except Registered Service Dogs \nQuestions Call Dan Arnini at 860 428 1420 \nclick for flyer
URL:https://dreammachineclassics.org/event/cruise-nights-at-elks-of-willimantic-9/
LOCATION:Elks of Willimantic\, 198 Pleasant Street\, Willimantic\, CT
CATEGORIES:Cruise Night
END:VEVENT
BEGIN:VEVENT
DTSTART;TZID=America/New_York:20260615T170000
DTEND;TZID=America/New_York:20260615T190000
DTSTAMP:20260422T184126
CREATED:20260323T012332Z
LAST-MODIFIED:20260323T012501Z
UID:4649-1781542800-1781550000@dreammachineclassics.org
SUMMARY:Fish Family Farm Creamery and Dairy Car Cruise Every Monday Night 2026
DESCRIPTION:Every Monday\, weather permitting\, 5pm till 7 pm \nAll Makes and Models Welcome\, \nRaising Money for Lymphoma doing a 50/50 \nFood Truck\, Ice Cream \nclick here for flyer
URL:https://dreammachineclassics.org/event/fish-family-farm-creamery-and-dairy-car-cruise-every-monday-night-2026-6/
LOCATION:Fish Family Farm Creamery\, 20 Dimock Ln\, Bolton\, CT\, 06043\, United States
CATEGORIES:Cruise Night
END:VEVENT
BEGIN:VEVENT
DTSTART;TZID=America/New_York:20260615T170000
DTEND;TZID=America/New_York:20260615T200000
DTSTAMP:20260422T184126
CREATED:20260322T172716Z
LAST-MODIFIED:20260322T172716Z
UID:4562-1781542800-1781553600@dreammachineclassics.org
SUMMARY:Ocean Beach Park every Monday Cruise Nite New London Ct.
DESCRIPTION:Admission is Free to all after 5pm
URL:https://dreammachineclassics.org/event/ocean-beach-park-every-monday-cruise-nite-new-london-ct-6/
LOCATION:CT
CATEGORIES:Cruise Night
END:VEVENT
BEGIN:VEVENT
DTSTART;TZID=America/New_York:20260617T170000
DTEND;TZID=America/New_York:20260617T200000
DTSTAMP:20260422T184126
CREATED:20260331T004010Z
LAST-MODIFIED:20260410T145210Z
UID:4990-1781715600-1781726400@dreammachineclassics.org
SUMMARY:Colchester Cruise On the Green by Good Time Motoring Club
DESCRIPTION:third Wednesday of each month Rain Date 4th Wednesday of each month May thru September. \nNo 1988 or newer Vehicles allowed on the Show Field Due to lack of Room. \nPlease No Burn outs and No Alcohol \nDue to limited space on the green GTMC reserves the right to deny any vehicle admission to the Green. Personnel on duty at the entrance have the final decision to grant or deny access. \nClick to view flyer
URL:https://dreammachineclassics.org/event/colchester-cruise-on-the-green-by-good-time-motoring-club-2/
LOCATION:Colchester on the Green\, 98 Hayward Avenue\, Colchester\, CT\, 06415
CATEGORIES:Cruise Night
END:VEVENT
BEGIN:VEVENT
DTSTART;TZID=America/New_York:20260619T170000
DTEND;TZID=America/New_York:20260619T200000
DTSTAMP:20260422T184126
CREATED:20260323T215848Z
LAST-MODIFIED:20260403T121653Z
UID:4749-1781888400-1781899200@dreammachineclassics.org
SUMMARY:Cruisin’ @ CT Golf Land 2026
DESCRIPTION:Every Friday\, 5pm – Dark \nWeekly Trophy \nCar Show at Golf Land in Vernon\, CT on Rte. 30 / 83 \nBrought to you by: Rocking Horse Bar & Grill \nclick here for flyer
URL:https://dreammachineclassics.org/event/cruisin-ct-golf-land-2026-6/
LOCATION:CT Golf Land\, 95 Hartford Turnpike\, Vernon\, CT\, 06066
CATEGORIES:Cruise Night
END:VEVENT
BEGIN:VEVENT
DTSTART;TZID=America/New_York:20260620T140000
DTEND;TZID=America/New_York:20260620T190000
DTSTAMP:20260422T184126
CREATED:20260316T191032Z
LAST-MODIFIED:20260405T143931Z
UID:4251-1781964000-1781982000@dreammachineclassics.org
SUMMARY:Pomfret Cruise Season 2026 by Tri State Cruisers
DESCRIPTION:Every Saturday Night April Thru Sept 2026 \nAt The corner of Rt. 169 & Rt. 101 Pomfret Center. \nEnter Cruise from behind Pizza 101 \nclick here for flyer
URL:https://dreammachineclassics.org/event/pomfret-cruise-season-2026-by-tri-state-cruisers-8/
LOCATION:Pizza 101\, 16 Mashamoquct Rd.#A\, Pomfret\, CT\, 06259\, United States
CATEGORIES:Cruise Night
END:VEVENT
BEGIN:VEVENT
DTSTART;TZID=America/New_York:20260620T150000
DTEND;TZID=America/New_York:20260620T190000
DTSTAMP:20260422T184126
CREATED:20250428T191226Z
LAST-MODIFIED:20260405T143941Z
UID:2060-1781967600-1781982000@dreammachineclassics.org
SUMMARY:Bristol Auto Club-Cruise Nights
DESCRIPTION:No Rain Dates \nEvery 1st & 3rd Saturday Nights May 2nd through October 3rd \nFree Admission\, No Cut-Off\, 3 Awards Each Night\, Raffle Prizes\, Oldies Music \nSpecial Thanks to The D’Amato Family \nclick here for flyer
URL:https://dreammachineclassics.org/event/bristol-auto-club-cruise-nights-4/
LOCATION:Bristol Auto Club\, 10 Main Street\, Bristol\, CT
CATEGORIES:Cruise Night
END:VEVENT
BEGIN:VEVENT
DTSTART;TZID=America/New_York:20260620T160000
DTEND;TZID=America/New_York:20260620T190000
DTSTAMP:20260422T184126
CREATED:20260326T013430Z
LAST-MODIFIED:20260326T021413Z
UID:4934-1781971200-1781982000@dreammachineclassics.org
SUMMARY:Southeastern Connecticut Mustang Club Cruise Night 2026 at The Center of Montville.
DESCRIPTION:2026 May thru September 3Rd Saturday of each Month. \nRain Date Following Saturday. \nPlease No Alcohol & No Burn Outs Booze. \n  \nclick for flyer
URL:https://dreammachineclassics.org/event/southeastern-connecticut-mustang-club-cruise-night-2026-at-the-center-of-montville-2/
LOCATION:South Eastern Connecticut Mustang Club\, 601 Rt. 32\, Uncasville\, Ct.\, 06382
CATEGORIES:Cruise Night
END:VEVENT
BEGIN:VEVENT
DTSTART;TZID=America/New_York:20260622T163000
DTEND;TZID=America/New_York:20260622T193000
DTSTAMP:20260422T184126
CREATED:20260318T230311Z
LAST-MODIFIED:20260414T020546Z
UID:4431-1782145800-1782156600@dreammachineclassics.org
SUMMARY:Monday Night Weekly Cruise Thompson Ct.
DESCRIPTION:Where: River Side Park Across from Thompson Town Hall . 315 River side Drive Tompson Ct. \nA Weekly Classic Car Cruise Open to the Public. \nStarting April 20\, 2026\, and every Monday 4:30 till Dark \nclick for flyer
URL:https://dreammachineclassics.org/event/monday-night-weekly-cruise-thompson-ct-17/
LOCATION:Thompson Riverside Park\, 315 Riverside drive Park\, Thompson\, CT\, United States
CATEGORIES:Cruise Night
END:VEVENT
BEGIN:VEVENT
DTSTART;TZID=America/New_York:20260622T170000
DTEND;TZID=America/New_York:20260622T190000
DTSTAMP:20260422T184126
CREATED:20260323T012757Z
LAST-MODIFIED:20260323T170348Z
UID:4654-1782147600-1782154800@dreammachineclassics.org
SUMMARY:Fish Family Farm Creamery and Dairy Car Cruise Every Monday Night 2026
DESCRIPTION:Every Monday\, weather permitting\, 5pm till 7 pm \nAll Makes and Models Welcome\, \nRaising Money for Lymphoma doing a 50/50 \nFood Truck\, Ice Cream \nclick for flyer
URL:https://dreammachineclassics.org/event/fish-family-farm-creamery-and-dairy-car-cruise-every-monday-night-2026-7/
LOCATION:Fish Family Farm Creamery\, 20 Dimock Ln\, Bolton\, CT\, 06043\, United States
CATEGORIES:Cruise Night
END:VEVENT
BEGIN:VEVENT
DTSTART;TZID=America/New_York:20260622T170000
DTEND;TZID=America/New_York:20260622T200000
DTSTAMP:20260422T184126
CREATED:20260322T173012Z
LAST-MODIFIED:20260322T173012Z
UID:4564-1782147600-1782158400@dreammachineclassics.org
SUMMARY:Ocean Beach Park every Monday Cruise Nite New London Ct.
DESCRIPTION:Admission is Free to all after 5pm
URL:https://dreammachineclassics.org/event/ocean-beach-park-every-monday-cruise-nite-new-london-ct-7/
LOCATION:Ocean Beach Park Monday night Cruise 2026\, 98 Neptune Avenue\, New London\, CT\, 06320
CATEGORIES:Cruise Night
END:VEVENT
END:VCALENDAR