BEGIN:VCALENDAR
VERSION:2.0
PRODID:-//Dream Machine Classics Auto Club Eastern CT - ECPv6.15.20//NONSGML v1.0//EN
CALSCALE:GREGORIAN
METHOD:PUBLISH
X-ORIGINAL-URL:https://dreammachineclassics.org
X-WR-CALDESC:Events for Dream Machine Classics Auto Club Eastern CT
REFRESH-INTERVAL;VALUE=DURATION:PT1H
X-Robots-Tag:noindex
X-PUBLISHED-TTL:PT1H
BEGIN:VTIMEZONE
TZID:America/New_York
BEGIN:DAYLIGHT
TZOFFSETFROM:-0500
TZOFFSETTO:-0400
TZNAME:EDT
DTSTART:20250309T070000
END:DAYLIGHT
BEGIN:STANDARD
TZOFFSETFROM:-0400
TZOFFSETTO:-0500
TZNAME:EST
DTSTART:20251102T060000
END:STANDARD
BEGIN:DAYLIGHT
TZOFFSETFROM:-0500
TZOFFSETTO:-0400
TZNAME:EDT
DTSTART:20260308T070000
END:DAYLIGHT
BEGIN:STANDARD
TZOFFSETFROM:-0400
TZOFFSETTO:-0500
TZNAME:EST
DTSTART:20261101T060000
END:STANDARD
BEGIN:DAYLIGHT
TZOFFSETFROM:-0500
TZOFFSETTO:-0400
TZNAME:EDT
DTSTART:20270314T070000
END:DAYLIGHT
BEGIN:STANDARD
TZOFFSETFROM:-0400
TZOFFSETTO:-0500
TZNAME:EST
DTSTART:20271107T060000
END:STANDARD
END:VTIMEZONE
BEGIN:VEVENT
DTSTART;TZID=America/New_York:20260721T173000
DTEND;TZID=America/New_York:20260721T203000
DTSTAMP:20260422T184317
CREATED:20260324T144811Z
LAST-MODIFIED:20260324T144947Z
UID:4839-1784655000-1784665800@dreammachineclassics.org
SUMMARY:Misquamicut RI. 2026 Classic Car Cruise Nights
DESCRIPTION:Held At the Drive -In Movie Lot. \nEvery Tuesday Night July thru August.     5:30 PM till Dusk \nMusic by DJ the Doc \nclick for flyer
URL:https://dreammachineclassics.org/event/misquamicut-ri-2026-classic-car-cruise-nights-2/
LOCATION:Misquamicut-316 Atlantic Ave the Pond Lot\, 316 Atlantic Avenue the Pond Lot\, Westerly\, RI
CATEGORIES:Cruise Night
END:VEVENT
END:VCALENDAR