BEGIN:VCALENDAR
VERSION:2.0
PRODID:-//Dream Machine Classics Auto Club Eastern CT - ECPv6.15.20//NONSGML v1.0//EN
CALSCALE:GREGORIAN
METHOD:PUBLISH
X-ORIGINAL-URL:https://dreammachineclassics.org
X-WR-CALDESC:Events for Dream Machine Classics Auto Club Eastern CT
REFRESH-INTERVAL;VALUE=DURATION:PT1H
X-Robots-Tag:noindex
X-PUBLISHED-TTL:PT1H
BEGIN:VTIMEZONE
TZID:America/New_York
BEGIN:DAYLIGHT
TZOFFSETFROM:-0500
TZOFFSETTO:-0400
TZNAME:EDT
DTSTART:20250309T070000
END:DAYLIGHT
BEGIN:STANDARD
TZOFFSETFROM:-0400
TZOFFSETTO:-0500
TZNAME:EST
DTSTART:20251102T060000
END:STANDARD
BEGIN:DAYLIGHT
TZOFFSETFROM:-0500
TZOFFSETTO:-0400
TZNAME:EDT
DTSTART:20260308T070000
END:DAYLIGHT
BEGIN:STANDARD
TZOFFSETFROM:-0400
TZOFFSETTO:-0500
TZNAME:EST
DTSTART:20261101T060000
END:STANDARD
BEGIN:DAYLIGHT
TZOFFSETFROM:-0500
TZOFFSETTO:-0400
TZNAME:EDT
DTSTART:20270314T070000
END:DAYLIGHT
BEGIN:STANDARD
TZOFFSETFROM:-0400
TZOFFSETTO:-0500
TZNAME:EST
DTSTART:20271107T060000
END:STANDARD
END:VTIMEZONE
BEGIN:VEVENT
DTSTART;TZID=America/New_York:20260720T163000
DTEND;TZID=America/New_York:20260720T193000
DTSTAMP:20260422T184317
CREATED:20260318T220404Z
LAST-MODIFIED:20260414T020956Z
UID:4387-1784565000-1784575800@dreammachineclassics.org
SUMMARY:Monday Night Weekly Cruise Thompson Ct.
DESCRIPTION:  \nWhere: River Side Park Across from Thompson Town Hall. 315 River side Drive Tompson Ct. \nA Weekly Classic Car Cruise Open to the Public. \nStarting April 20\, 2026\, and every Monday 4:30 till Dark \n  \nclick for flyer
URL:https://dreammachineclassics.org/event/monday-night-weekly-cruise-thompson-ct-12/
LOCATION:Thompson Riverside Park\, 315 Riverside drive Park\, Thompson\, CT\, United States
CATEGORIES:Cruise Night
END:VEVENT
BEGIN:VEVENT
DTSTART;TZID=America/New_York:20260720T170000
DTEND;TZID=America/New_York:20260720T190000
DTSTAMP:20260422T184317
CREATED:20260323T015537Z
LAST-MODIFIED:20260323T015537Z
UID:4664-1784566800-1784574000@dreammachineclassics.org
SUMMARY:Fish Family Farm Creamery and Dairy Car Cruise Every Monday Night 2026
DESCRIPTION:Every Monday\, weather permitting\, 5pm till 7 pm \nAll Makes and Models Welcome\, \nRaising Money for Lymphoma doing a 50/50 \nFood Truck\, Ice Cream \nclick here for flyer
URL:https://dreammachineclassics.org/event/fish-family-farm-creamery-and-dairy-car-cruise-every-monday-night-2026-11/
LOCATION:Fish Family Farm Creamery\, 20 Dimock Ln\, Bolton\, CT\, 06043\, United States
CATEGORIES:Cruise Night
END:VEVENT
BEGIN:VEVENT
DTSTART;TZID=America/New_York:20260720T170000
DTEND;TZID=America/New_York:20260720T190000
DTSTAMP:20260422T184317
CREATED:20260411T213046Z
LAST-MODIFIED:20260411T213925Z
UID:5239-1784566800-1784574000@dreammachineclassics.org
SUMMARY:Cruise Nights at Elks of Willimantic 2026
DESCRIPTION:Open to all Classic Cars\, Awards\, Free to participants and Spectators\, Music by Gary Pomo: THE P’OM \nNo animals Allowed Except Registered Service Dogs \nQuestions Call Dan Arnini at 860 428 1420 \nclick for flyer
URL:https://dreammachineclassics.org/event/cruise-nights-at-elks-of-willimantic-3/
LOCATION:Elks of Willimantic\, 198 Pleasant Street\, Willimantic\, CT
CATEGORIES:Cruise Night
END:VEVENT
BEGIN:VEVENT
DTSTART;TZID=America/New_York:20260720T170000
DTEND;TZID=America/New_York:20260720T200000
DTSTAMP:20260422T184317
CREATED:20260322T183641Z
LAST-MODIFIED:20260322T183641Z
UID:4577-1784566800-1784577600@dreammachineclassics.org
SUMMARY:Ocean Beach Park every Monday Cruise Nite New London Ct.
DESCRIPTION:Admission is Free to all after 5pm
URL:https://dreammachineclassics.org/event/ocean-beach-park-every-monday-cruise-nite-new-london-ct-11/
LOCATION:Ocean Beach Park Monday night Cruise 2026\, 98 Neptune Avenue\, New London\, CT\, 06320
CATEGORIES:Cruise Night
END:VEVENT
BEGIN:VEVENT
DTSTART;TZID=America/New_York:20260720T170000
DTEND;TZID=America/New_York:20260720T200000
DTSTAMP:20260422T184317
CREATED:20260322T192611Z
LAST-MODIFIED:20260322T192611Z
UID:4601-1784566800-1784577600@dreammachineclassics.org
SUMMARY:Ocean Beach Park every Monday Cruise Nite New London Ct.
DESCRIPTION:Admission is Free to all after 5pm
URL:https://dreammachineclassics.org/event/ocean-beach-park-every-monday-cruise-nite-new-london-ct-19/
LOCATION:Ocean Beach Park Monday night Cruise 2026\, 98 Neptune Avenue\, New London\, CT\, 06320
CATEGORIES:Cruise Night
END:VEVENT
BEGIN:VEVENT
DTSTART;TZID=America/New_York:20260720T173000
DTEND;TZID=America/New_York:20260720T193000
DTSTAMP:20260422T184317
CREATED:20260319T162427Z
LAST-MODIFIED:20260405T144239Z
UID:4472-1784568600-1784575800@dreammachineclassics.org
SUMMARY:Cruise Nights at Elks of Willimantic
DESCRIPTION:5:30pm ’til Dark \nOpen to all Classic Cars\, Awards\, Free to participants and Spectators\, Music by Gary Pomo: THE P’OM \nNo animals Allowed Except Registered Service Dogs \nclick here for flyer
URL:https://dreammachineclassics.org/event/cruise-nights-at-elks-of-willimantic-7/
LOCATION:Elks of Willimantic\, 198 Pleasant Street\, Willimantic\, CT
CATEGORIES:Cruise Night
END:VEVENT
END:VCALENDAR