BEGIN:VCALENDAR
VERSION:2.0
PRODID:-//Dream Machine Classics Auto Club Eastern CT - ECPv6.15.20//NONSGML v1.0//EN
CALSCALE:GREGORIAN
METHOD:PUBLISH
X-WR-CALNAME:Dream Machine Classics Auto Club Eastern CT
X-ORIGINAL-URL:https://dreammachineclassics.org
X-WR-CALDESC:Events for Dream Machine Classics Auto Club Eastern CT
REFRESH-INTERVAL;VALUE=DURATION:PT1H
X-Robots-Tag:noindex
X-PUBLISHED-TTL:PT1H
BEGIN:VTIMEZONE
TZID:America/New_York
BEGIN:DAYLIGHT
TZOFFSETFROM:-0500
TZOFFSETTO:-0400
TZNAME:EDT
DTSTART:20250309T070000
END:DAYLIGHT
BEGIN:STANDARD
TZOFFSETFROM:-0400
TZOFFSETTO:-0500
TZNAME:EST
DTSTART:20251102T060000
END:STANDARD
BEGIN:DAYLIGHT
TZOFFSETFROM:-0500
TZOFFSETTO:-0400
TZNAME:EDT
DTSTART:20260308T070000
END:DAYLIGHT
BEGIN:STANDARD
TZOFFSETFROM:-0400
TZOFFSETTO:-0500
TZNAME:EST
DTSTART:20261101T060000
END:STANDARD
BEGIN:DAYLIGHT
TZOFFSETFROM:-0500
TZOFFSETTO:-0400
TZNAME:EDT
DTSTART:20270314T070000
END:DAYLIGHT
BEGIN:STANDARD
TZOFFSETFROM:-0400
TZOFFSETTO:-0500
TZNAME:EST
DTSTART:20271107T060000
END:STANDARD
END:VTIMEZONE
BEGIN:VEVENT
DTSTART;TZID=America/New_York:20260718T080000
DTEND;TZID=America/New_York:20260718T170000
DTSTAMP:20260422T184259
CREATED:20260316T201449Z
LAST-MODIFIED:20260405T143120Z
UID:4264-1784361600-1784394000@dreammachineclassics.org
SUMMARY:Pomfret Cruise Season 2026 by Tri State Cruisers
DESCRIPTION:Every Saturday Night April thru September 2026 \nAt the corner of Rt. 169 & Rt. 101 Pomfret Center. \nEnter Cruise from behind Pizza 101. \nClick here for flyer
URL:https://dreammachineclassics.org/event/pomfret-cruise-season-2026-by-tri-state-cruisers-11/
LOCATION:Pizza 101\, 16 Mashamoquct Rd.#A\, Pomfret\, CT\, 06259\, United States
CATEGORIES:Cruise Night
END:VEVENT
BEGIN:VEVENT
DTSTART;TZID=America/New_York:20260718T150000
DTEND;TZID=America/New_York:20260718T190000
DTSTAMP:20260422T184259
CREATED:20250428T191357Z
LAST-MODIFIED:20260405T143128Z
UID:2062-1784386800-1784401200@dreammachineclassics.org
SUMMARY:Bristol Auto Club-Cruise Nights
DESCRIPTION:No Rain Dates \nEvery 1st & 3rd Saturday Nights May 2nd through October 3rd \nFree Admission\, No Cut-Off\, 3 Awards Each Night\, Raffle Prizes\, Oldies Music \nSpecial Thanks to The D’Amato Family \nclick here for flyer
URL:https://dreammachineclassics.org/event/bristol-auto-club-cruise-nights-5/
LOCATION:Bristol Auto Club\, 10 Main Street\, Bristol\, CT
CATEGORIES:Cruise Night
END:VEVENT
BEGIN:VEVENT
DTSTART;TZID=America/New_York:20260718T160000
DTEND;TZID=America/New_York:20260718T190000
DTSTAMP:20260422T184259
CREATED:20260326T013709Z
LAST-MODIFIED:20260326T013709Z
UID:4937-1784390400-1784401200@dreammachineclassics.org
SUMMARY:Southeastern Connecticut Mustang Club Cruise Night 2026 at The Center of Montville.
DESCRIPTION:2026 May thru September 3Rd Saturday of each Month. \nRain Date Following Saturday. \nPlease No Alcohol & No Burn Outs Booze. \nclick for flyer
URL:https://dreammachineclassics.org/event/southeastern-connecticut-mustang-club-cruise-night-2026-at-the-center-of-montville-3/
LOCATION:South Eastern Connecticut Mustang Club\, 601 Rt. 32\, Uncasville\, Ct.\, 06382
CATEGORIES:Cruise Night
END:VEVENT
END:VCALENDAR