BEGIN:VCALENDAR
VERSION:2.0
PRODID:-//Dream Machine Classics Auto Club Eastern CT - ECPv6.15.20//NONSGML v1.0//EN
CALSCALE:GREGORIAN
METHOD:PUBLISH
X-ORIGINAL-URL:https://dreammachineclassics.org
X-WR-CALDESC:Events for Dream Machine Classics Auto Club Eastern CT
REFRESH-INTERVAL;VALUE=DURATION:PT1H
X-Robots-Tag:noindex
X-PUBLISHED-TTL:PT1H
BEGIN:VTIMEZONE
TZID:America/New_York
BEGIN:DAYLIGHT
TZOFFSETFROM:-0500
TZOFFSETTO:-0400
TZNAME:EDT
DTSTART:20250309T070000
END:DAYLIGHT
BEGIN:STANDARD
TZOFFSETFROM:-0400
TZOFFSETTO:-0500
TZNAME:EST
DTSTART:20251102T060000
END:STANDARD
BEGIN:DAYLIGHT
TZOFFSETFROM:-0500
TZOFFSETTO:-0400
TZNAME:EDT
DTSTART:20260308T070000
END:DAYLIGHT
BEGIN:STANDARD
TZOFFSETFROM:-0400
TZOFFSETTO:-0500
TZNAME:EST
DTSTART:20261101T060000
END:STANDARD
BEGIN:DAYLIGHT
TZOFFSETFROM:-0500
TZOFFSETTO:-0400
TZNAME:EDT
DTSTART:20270314T070000
END:DAYLIGHT
BEGIN:STANDARD
TZOFFSETFROM:-0400
TZOFFSETTO:-0500
TZNAME:EST
DTSTART:20271107T060000
END:STANDARD
END:VTIMEZONE
BEGIN:VEVENT
DTSTART;TZID=America/New_York:20260710T170000
DTEND;TZID=America/New_York:20260710T170000
DTSTAMP:20260422T184316
CREATED:20260319T183417Z
LAST-MODIFIED:20260410T122634Z
UID:4492-1783702800-1783702800@dreammachineclassics.org
SUMMARY:Aero Diner Cruise Rt 6 North Windham Ct.
DESCRIPTION:Aero Diner Cruise 2026 5PM till 7PM \nMusic By the Pom \n  \nclick for flyer
URL:https://dreammachineclassics.org/event/aero-diner-cruise-rt-6-north-windham-3/
LOCATION:Aero Diner\, 361 Boston Post Rd # 13\, North Windham\, CT\, 06256
CATEGORIES:Cruise Night
END:VEVENT
BEGIN:VEVENT
DTSTART;TZID=America/New_York:20260710T170000
DTEND;TZID=America/New_York:20260710T200000
DTSTAMP:20260422T184316
CREATED:20260323T221348Z
LAST-MODIFIED:20260323T221348Z
UID:4763-1783702800-1783713600@dreammachineclassics.org
SUMMARY:Cruisin’ @ CT Golf Land 2026
DESCRIPTION:Every Friday\, 5pm – Dark \nWeekly Trophy \nCar Show at Golf Land in Vernon\, CT on Rte. 30 / 83 \nBrought to you by: Rocking Horse Bar & Grill \nclick for flyer
URL:https://dreammachineclassics.org/event/cruisin-ct-golf-land-2026-10/
LOCATION:CT Golf Land\, 95 Hartford Turnpike\, Vernon\, CT\, 06066
CATEGORIES:Cruise Night
END:VEVENT
END:VCALENDAR