BEGIN:VCALENDAR
VERSION:2.0
PRODID:-//Dream Machine Classics Auto Club Eastern CT - ECPv6.15.20//NONSGML v1.0//EN
CALSCALE:GREGORIAN
METHOD:PUBLISH
X-WR-CALNAME:Dream Machine Classics Auto Club Eastern CT
X-ORIGINAL-URL:https://dreammachineclassics.org
X-WR-CALDESC:Events for Dream Machine Classics Auto Club Eastern CT
REFRESH-INTERVAL;VALUE=DURATION:PT1H
X-Robots-Tag:noindex
X-PUBLISHED-TTL:PT1H
BEGIN:VTIMEZONE
TZID:America/New_York
BEGIN:DAYLIGHT
TZOFFSETFROM:-0500
TZOFFSETTO:-0400
TZNAME:EDT
DTSTART:20250309T070000
END:DAYLIGHT
BEGIN:STANDARD
TZOFFSETFROM:-0400
TZOFFSETTO:-0500
TZNAME:EST
DTSTART:20251102T060000
END:STANDARD
BEGIN:DAYLIGHT
TZOFFSETFROM:-0500
TZOFFSETTO:-0400
TZNAME:EDT
DTSTART:20260308T070000
END:DAYLIGHT
BEGIN:STANDARD
TZOFFSETFROM:-0400
TZOFFSETTO:-0500
TZNAME:EST
DTSTART:20261101T060000
END:STANDARD
BEGIN:DAYLIGHT
TZOFFSETFROM:-0500
TZOFFSETTO:-0400
TZNAME:EDT
DTSTART:20270314T070000
END:DAYLIGHT
BEGIN:STANDARD
TZOFFSETFROM:-0400
TZOFFSETTO:-0500
TZNAME:EST
DTSTART:20271107T060000
END:STANDARD
END:VTIMEZONE
BEGIN:VEVENT
DTSTART;TZID=America/New_York:20260707T170000
DTEND;TZID=America/New_York:20260707T200000
DTSTAMP:20260422T184300
CREATED:20260326T004635Z
LAST-MODIFIED:20260326T004635Z
UID:4917-1783443600-1783454400@dreammachineclassics.org
SUMMARY:Hank’s Dairy Bar Car Cruise
DESCRIPTION:monthly Car Cruise on the Lawn \n\n\n\n\n\n\n\nEvent is free and open to all car enthusiasts. Parking will be on the back lawn\, unless the ground is too soft and then other accommodations will be made. Live Music on the Stage\, along with some event only specials. \nFirst Tuesday Each Month Rain Date Following Tuesday. \nclick for flyer
URL:https://dreammachineclassics.org/event/hanks-dairy-bar-car-cruise-6/
LOCATION:Hank’s Dairy Bar\, 1006 Norwich Road (Route 12)\, Plainfield\, CT\, 06354
CATEGORIES:Cruise Night
END:VEVENT
BEGIN:VEVENT
DTSTART;TZID=America/New_York:20260707T173000
DTEND;TZID=America/New_York:20260707T203000
DTSTAMP:20260422T184300
CREATED:20260324T144241Z
LAST-MODIFIED:20260324T144405Z
UID:4834-1783445400-1783456200@dreammachineclassics.org
SUMMARY:Misquamicut RI. 2026 Classic Car Cruise Nights
DESCRIPTION:Held At the Drive -In Movie Lot. \nEvery Tuesday Night July thru August.     5:30 PM till Dusk \nMusic by DJ the Doc \nNo Entry Fee. \nClick for flyer
URL:https://dreammachineclassics.org/event/misquamicut-ri-2026-classic-car-cruise-nights/
LOCATION:Misquamicut-316 Atlantic Ave the Pond Lot\, 316 Atlantic Avenue the Pond Lot\, Westerly\, RI
CATEGORIES:Cruise Night
END:VEVENT
BEGIN:VEVENT
DTSTART;TZID=America/New_York:20260707T180000
DTEND;TZID=America/New_York:20260707T200000
DTSTAMP:20260422T184300
CREATED:20260325T154914Z
LAST-MODIFIED:20260325T155704Z
UID:4900-1783447200-1783454400@dreammachineclassics.org
SUMMARY:Natures Art (The Dinosaur Place) Cruise Night 2026 by Yesteryear Auto Club.
DESCRIPTION:First Tuesday of each month May thru September Rain Date following Thursday. \nPre 1978 Classics and Antiques Car and Trucks. \nConcession: Food\, Beverages\, Ice-cream\, Trophies\, Live DJ\, and Fantastic Raffle Prizes
URL:https://dreammachineclassics.org/event/natures-art-the-dinosaur-place-cruise-night-2026-by-yesteryear-auto-club-3/
LOCATION:Nature’s Art Cruise Nights 2026 at the (Dinosaurs Place)\, 1650 Hartford-New London Turnpike\, Rt 85\, Oakdale\, CT\, 06370\, United States
CATEGORIES:Cruise Night
END:VEVENT
END:VCALENDAR