BEGIN:VCALENDAR
VERSION:2.0
PRODID:-//Dream Machine Classics Auto Club Eastern CT - ECPv6.15.20//NONSGML v1.0//EN
CALSCALE:GREGORIAN
METHOD:PUBLISH
X-ORIGINAL-URL:https://dreammachineclassics.org
X-WR-CALDESC:Events for Dream Machine Classics Auto Club Eastern CT
REFRESH-INTERVAL;VALUE=DURATION:PT1H
X-Robots-Tag:noindex
X-PUBLISHED-TTL:PT1H
BEGIN:VTIMEZONE
TZID:America/New_York
BEGIN:DAYLIGHT
TZOFFSETFROM:-0500
TZOFFSETTO:-0400
TZNAME:EDT
DTSTART:20250309T070000
END:DAYLIGHT
BEGIN:STANDARD
TZOFFSETFROM:-0400
TZOFFSETTO:-0500
TZNAME:EST
DTSTART:20251102T060000
END:STANDARD
BEGIN:DAYLIGHT
TZOFFSETFROM:-0500
TZOFFSETTO:-0400
TZNAME:EDT
DTSTART:20260308T070000
END:DAYLIGHT
BEGIN:STANDARD
TZOFFSETFROM:-0400
TZOFFSETTO:-0500
TZNAME:EST
DTSTART:20261101T060000
END:STANDARD
BEGIN:DAYLIGHT
TZOFFSETFROM:-0500
TZOFFSETTO:-0400
TZNAME:EDT
DTSTART:20270314T070000
END:DAYLIGHT
BEGIN:STANDARD
TZOFFSETFROM:-0400
TZOFFSETTO:-0500
TZNAME:EST
DTSTART:20271107T060000
END:STANDARD
END:VTIMEZONE
BEGIN:VEVENT
DTSTART;TZID=America/New_York:20260602T170000
DTEND;TZID=America/New_York:20260602T200000
DTSTAMP:20260422T155333
CREATED:20250327T160529Z
LAST-MODIFIED:20260326T003831Z
UID:1167-1780419600-1780430400@dreammachineclassics.org
SUMMARY:Hank's Dairy Bar Car Cruise
DESCRIPTION:Rain date following Tuesday\, \nMonthly Car Cruise on the Lawn \n\n\n\n\n\n\n\nEvent is free and open to all car enthusiasts. Parking will be on the back lawn\, unless the ground is too soft and then other accommodations will be made. Live Music on the Stage\, along with some event only specials. \nclick for flyer
URL:https://dreammachineclassics.org/event/hanks-dairy-bar-car-cruise-2/
LOCATION:Hank’s Dairy Bar\, 1006 Norwich Road (Route 12)\, Plainfield\, CT\, 06354
CATEGORIES:Cruise Night
END:VEVENT
BEGIN:VEVENT
DTSTART;TZID=America/New_York:20260602T180000
DTEND;TZID=America/New_York:20260602T200000
DTSTAMP:20260422T155333
CREATED:20260325T154609Z
LAST-MODIFIED:20260325T154609Z
UID:4897-1780423200-1780430400@dreammachineclassics.org
SUMMARY:Natures Art (The Dinosaur Place) Cruise Night 2026 by Yesteryear Auto Club.
DESCRIPTION:First Tuesday of each month May thru September Rain Date following Thursday. \nPre 1978 Classics and Antiques Car and Trucks. \nConcession: Food\, Beverages\, Ice-cream\, Trophies\, Live DJ\, and Fantastic Raffle Prizes\,
URL:https://dreammachineclassics.org/event/natures-art-the-dinosaur-place-cruise-night-2026-by-yesteryear-auto-club-2/
LOCATION:Nature’s Art Cruise Nights 2026 at the (Dinosaurs Place)\, 1650 Hartford-New London Turnpike\, Rt 85\, Oakdale\, CT\, 06370\, United States
CATEGORIES:Cruise Night
END:VEVENT
END:VCALENDAR