BEGIN:VCALENDAR
VERSION:2.0
PRODID:-//Dream Machine Classics Auto Club Eastern CT - ECPv6.15.20//NONSGML v1.0//EN
CALSCALE:GREGORIAN
METHOD:PUBLISH
X-ORIGINAL-URL:https://dreammachineclassics.org
X-WR-CALDESC:Events for Dream Machine Classics Auto Club Eastern CT
REFRESH-INTERVAL;VALUE=DURATION:PT1H
X-Robots-Tag:noindex
X-PUBLISHED-TTL:PT1H
BEGIN:VTIMEZONE
TZID:America/New_York
BEGIN:DAYLIGHT
TZOFFSETFROM:-0500
TZOFFSETTO:-0400
TZNAME:EDT
DTSTART:20240310T070000
END:DAYLIGHT
BEGIN:STANDARD
TZOFFSETFROM:-0400
TZOFFSETTO:-0500
TZNAME:EST
DTSTART:20241103T060000
END:STANDARD
BEGIN:DAYLIGHT
TZOFFSETFROM:-0500
TZOFFSETTO:-0400
TZNAME:EDT
DTSTART:20250309T070000
END:DAYLIGHT
BEGIN:STANDARD
TZOFFSETFROM:-0400
TZOFFSETTO:-0500
TZNAME:EST
DTSTART:20251102T060000
END:STANDARD
BEGIN:DAYLIGHT
TZOFFSETFROM:-0500
TZOFFSETTO:-0400
TZNAME:EDT
DTSTART:20260308T070000
END:DAYLIGHT
BEGIN:STANDARD
TZOFFSETFROM:-0400
TZOFFSETTO:-0500
TZNAME:EST
DTSTART:20261101T060000
END:STANDARD
END:VTIMEZONE
BEGIN:VEVENT
DTSTART;TZID=America/New_York:20250426T040000
DTEND;TZID=America/New_York:20250426T070000
DTSTAMP:20260423T080524
CREATED:20250326T011533Z
LAST-MODIFIED:20260329T164251Z
UID:1015-1745640000-1745650800@dreammachineclassics.org
SUMMARY:Cars-N-Coffee-NAPA Auto Parts Windsor Locks
DESCRIPTION:Donuts/Cars/Coffee\, \nclick here for flyer
URL:https://dreammachineclassics.org/event/car-n-coffee/
LOCATION:Napa Auto Parts Windsor Locks\, 508 Spring Street\, Windsor Locks\, CT\, 06096
CATEGORIES:Cruise Night
END:VEVENT
BEGIN:VEVENT
DTSTART;TZID=America/New_York:20250426T100000
DTEND;TZID=America/New_York:20250426T100000
DTSTAMP:20260423T080524
CREATED:20250325T190500Z
LAST-MODIFIED:20260329T164306Z
UID:995-1745661600-1745661600@dreammachineclassics.org
SUMMARY:Tri-State Cruisers Saturday Night Cruise
DESCRIPTION:Cruise time\, 2pm ’till dark\, \nPomfret Center\, Junction of Rt 169 and Rt 101\, Enter by Pizza 101 \nclick here for flyer \n 
URL:https://dreammachineclassics.org/event/tri-state-cruisers-saturday-night-cruise/
LOCATION:Loos & Co. Inc.\, 16B Mashamoquet Rd\, Pomfret\, CT
CATEGORIES:Cruise Night
END:VEVENT
BEGIN:VEVENT
DTSTART;TZID=America/New_York:20250426T110000
DTEND;TZID=America/New_York:20250426T150000
DTSTAMP:20260423T080524
CREATED:20250320T015458Z
LAST-MODIFIED:20260329T164316Z
UID:900-1745665200-1745679600@dreammachineclassics.org
SUMMARY:Annual Kenny Fletcher Memorial Cruise Night
DESCRIPTION:In memory of Veteran Kenny Fletcher \nTrophies\, Dash Plaques to the first 200 cars \nFor more info call Michael Bellobuono (860) 707-4231 or Michael Brown (860) 982-3227
URL:https://dreammachineclassics.org/event/annual-kenny-fletcher-memorial-cruise-night/
LOCATION:Valli Construction\, 22 Sand Hill Road\, Portland\, CT
CATEGORIES:Cruise Night
END:VEVENT
END:VCALENDAR