BEGIN:VCALENDAR
VERSION:2.0
PRODID:-//Dream Machine Classics Auto Club Eastern CT - ECPv6.15.20//NONSGML v1.0//EN
CALSCALE:GREGORIAN
METHOD:PUBLISH
X-WR-CALNAME:Dream Machine Classics Auto Club Eastern CT
X-ORIGINAL-URL:https://dreammachineclassics.org
X-WR-CALDESC:Events for Dream Machine Classics Auto Club Eastern CT
REFRESH-INTERVAL;VALUE=DURATION:PT1H
X-Robots-Tag:noindex
X-PUBLISHED-TTL:PT1H
BEGIN:VTIMEZONE
TZID:America/New_York
BEGIN:DAYLIGHT
TZOFFSETFROM:-0500
TZOFFSETTO:-0400
TZNAME:EDT
DTSTART:20250309T070000
END:DAYLIGHT
BEGIN:STANDARD
TZOFFSETFROM:-0400
TZOFFSETTO:-0500
TZNAME:EST
DTSTART:20251102T060000
END:STANDARD
BEGIN:DAYLIGHT
TZOFFSETFROM:-0500
TZOFFSETTO:-0400
TZNAME:EDT
DTSTART:20260308T070000
END:DAYLIGHT
BEGIN:STANDARD
TZOFFSETFROM:-0400
TZOFFSETTO:-0500
TZNAME:EST
DTSTART:20261101T060000
END:STANDARD
BEGIN:DAYLIGHT
TZOFFSETFROM:-0500
TZOFFSETTO:-0400
TZNAME:EDT
DTSTART:20270314T070000
END:DAYLIGHT
BEGIN:STANDARD
TZOFFSETFROM:-0400
TZOFFSETTO:-0500
TZNAME:EST
DTSTART:20271107T060000
END:STANDARD
END:VTIMEZONE
BEGIN:VEVENT
DTSTART;TZID=America/New_York:20260315T080000
DTEND;TZID=America/New_York:20260315T120000
DTSTAMP:20260422T141933
CREATED:20260304T215345Z
LAST-MODIFIED:20260329T164828Z
UID:4044-1773561600-1773576000@dreammachineclassics.org
SUMMARY:Cars And Coffee
DESCRIPTION:Hot Rods\, Kustoms\, Muscle Cars\, Beaters\, Or Whatever \nFree Coffee\, Donuts\, & Bagels \n 
URL:https://dreammachineclassics.org/event/cars-and-coffee/
LOCATION:CSRA Clubhouse\, 316 Woodhouse Ave\, Wallingford\, CT\, 06492\, United States
CATEGORIES:Cruise Night
END:VEVENT
END:VCALENDAR