BEGIN:VCALENDAR
VERSION:2.0
PRODID:-//Dream Machine Classics Auto Club Eastern CT - ECPv6.15.20//NONSGML v1.0//EN
CALSCALE:GREGORIAN
METHOD:PUBLISH
X-WR-CALNAME:Dream Machine Classics Auto Club Eastern CT
X-ORIGINAL-URL:https://dreammachineclassics.org
X-WR-CALDESC:Events for Dream Machine Classics Auto Club Eastern CT
REFRESH-INTERVAL;VALUE=DURATION:PT1H
X-Robots-Tag:noindex
X-PUBLISHED-TTL:PT1H
BEGIN:VTIMEZONE
TZID:America/New_York
BEGIN:DAYLIGHT
TZOFFSETFROM:-0500
TZOFFSETTO:-0400
TZNAME:EDT
DTSTART:20250309T070000
END:DAYLIGHT
BEGIN:STANDARD
TZOFFSETFROM:-0400
TZOFFSETTO:-0500
TZNAME:EST
DTSTART:20251102T060000
END:STANDARD
BEGIN:DAYLIGHT
TZOFFSETFROM:-0500
TZOFFSETTO:-0400
TZNAME:EDT
DTSTART:20260308T070000
END:DAYLIGHT
BEGIN:STANDARD
TZOFFSETFROM:-0400
TZOFFSETTO:-0500
TZNAME:EST
DTSTART:20261101T060000
END:STANDARD
BEGIN:DAYLIGHT
TZOFFSETFROM:-0500
TZOFFSETTO:-0400
TZNAME:EDT
DTSTART:20270314T070000
END:DAYLIGHT
BEGIN:STANDARD
TZOFFSETFROM:-0400
TZOFFSETTO:-0500
TZNAME:EST
DTSTART:20271107T060000
END:STANDARD
END:VTIMEZONE
BEGIN:VEVENT
DTSTART;TZID=America/New_York:20260711T090000
DTEND;TZID=America/New_York:20260711T170000
DTSTAMP:20260422T185807
CREATED:20260405T153702Z
LAST-MODIFIED:20260405T153939Z
UID:5148-1783760400-1783789200@dreammachineclassics.org
SUMMARY:Preston VFW Post 9452 2026 Car Show
DESCRIPTION:Sat July 11 2026 Rain Date July 12 \nCheck in 9Am Show starts at 10Am till 2Pm Raffle Prizes at 3pm \n$25. per Car Please Register by June 11. 860 786 8008 \nPrizes Awarded At the Preston VFW Post 9452 at 3Pm \nFood Available/ Music / Family Fun. \nInformation Josh Whitford 860 786 8008 \njosh.whitford.91@gmail.com \nclick for flyer \n 
URL:https://dreammachineclassics.org/event/preston-vfw-post-9452-2026-car-show/
LOCATION:Preston Community Park\, 13 CT-117\, Preston\, CT\, 06365
CATEGORIES:Car Show
END:VEVENT
BEGIN:VEVENT
DTSTART;TZID=America/New_York:20260711T100000
DTEND;TZID=America/New_York:20260711T140000
DTSTAMP:20260422T185807
CREATED:20260319T213624Z
LAST-MODIFIED:20260405T144125Z
UID:4508-1783764000-1783778400@dreammachineclassics.org
SUMMARY:Preston Car Show Fund Raiser
DESCRIPTION:Fund Raiser For Rebuilding Efforts After The Fire Of August 2022 \nCheck in 9am    Show Time 10am to 2pm \nCategories 1950’s 60’s 70’s 80’s to current \nRaffle Drawings at 3pm at VFW Post 9452 \nPrizes For Various Categories \nRegister by June 11 \nJosh Whitford 860-786-8008 \njosh.whitford.91@gmail.com
URL:https://dreammachineclassics.org/event/preston-car-show-fund-raiser/
LOCATION:Preston Community Park\, 13 CT-117\, Preston\, CT\, 06365
CATEGORIES:Car Show
END:VEVENT
END:VCALENDAR