BEGIN:VCALENDAR
VERSION:2.0
PRODID:-//Dream Machine Classics Auto Club Eastern CT - ECPv6.15.20//NONSGML v1.0//EN
CALSCALE:GREGORIAN
METHOD:PUBLISH
X-ORIGINAL-URL:https://dreammachineclassics.org
X-WR-CALDESC:Events for Dream Machine Classics Auto Club Eastern CT
REFRESH-INTERVAL;VALUE=DURATION:PT1H
X-Robots-Tag:noindex
X-PUBLISHED-TTL:PT1H
BEGIN:VTIMEZONE
TZID:America/New_York
BEGIN:DAYLIGHT
TZOFFSETFROM:-0500
TZOFFSETTO:-0400
TZNAME:EDT
DTSTART:20240310T070000
END:DAYLIGHT
BEGIN:STANDARD
TZOFFSETFROM:-0400
TZOFFSETTO:-0500
TZNAME:EST
DTSTART:20241103T060000
END:STANDARD
BEGIN:DAYLIGHT
TZOFFSETFROM:-0500
TZOFFSETTO:-0400
TZNAME:EDT
DTSTART:20250309T070000
END:DAYLIGHT
BEGIN:STANDARD
TZOFFSETFROM:-0400
TZOFFSETTO:-0500
TZNAME:EST
DTSTART:20251102T060000
END:STANDARD
BEGIN:DAYLIGHT
TZOFFSETFROM:-0500
TZOFFSETTO:-0400
TZNAME:EDT
DTSTART:20260308T070000
END:DAYLIGHT
BEGIN:STANDARD
TZOFFSETFROM:-0400
TZOFFSETTO:-0500
TZNAME:EST
DTSTART:20261101T060000
END:STANDARD
END:VTIMEZONE
BEGIN:VEVENT
DTSTART;TZID=America/New_York:20250427T050000
DTEND;TZID=America/New_York:20250427T100000
DTSTAMP:20260423T064404
CREATED:20250326T165938Z
LAST-MODIFIED:20260329T164351Z
UID:1060-1745730000-1745748000@dreammachineclassics.org
SUMMARY:Classic Car Show
DESCRIPTION:Location: Walpole Public Parking Lot next to Stone Field\, Walpole\, MA
URL:https://dreammachineclassics.org/event/classic-car-show/
LOCATION:Walpole Public Parking Lot\, Stone Street\, Walpole\, MA\, 02081
CATEGORIES:Car Show
END:VEVENT
BEGIN:VEVENT
DTSTART;TZID=America/New_York:20250427T050000
DTEND;TZID=America/New_York:20250427T110000
DTSTAMP:20260423T064404
CREATED:20250320T043750Z
LAST-MODIFIED:20260329T164403Z
UID:907-1745730000-1745751600@dreammachineclassics.org
SUMMARY:19th Annual Spring Show
DESCRIPTION:$20 per Car\, $10 Passenger
URL:https://dreammachineclassics.org/event/19th-annual-spring-show/
LOCATION:Rentschler Field\, 615 Silver Lane\, East Hartford\, CT
CATEGORIES:Car Show
END:VEVENT
END:VCALENDAR