BEGIN:VCALENDAR
VERSION:2.0
PRODID:-//Dream Machine Classics Auto Club Eastern CT - ECPv6.15.20//NONSGML v1.0//EN
CALSCALE:GREGORIAN
METHOD:PUBLISH
X-WR-CALNAME:Dream Machine Classics Auto Club Eastern CT
X-ORIGINAL-URL:https://dreammachineclassics.org
X-WR-CALDESC:Events for Dream Machine Classics Auto Club Eastern CT
REFRESH-INTERVAL;VALUE=DURATION:PT1H
X-Robots-Tag:noindex
X-PUBLISHED-TTL:PT1H
BEGIN:VTIMEZONE
TZID:America/New_York
BEGIN:DAYLIGHT
TZOFFSETFROM:-0500
TZOFFSETTO:-0400
TZNAME:EDT
DTSTART:20250309T070000
END:DAYLIGHT
BEGIN:STANDARD
TZOFFSETFROM:-0400
TZOFFSETTO:-0500
TZNAME:EST
DTSTART:20251102T060000
END:STANDARD
BEGIN:DAYLIGHT
TZOFFSETFROM:-0500
TZOFFSETTO:-0400
TZNAME:EDT
DTSTART:20260308T070000
END:DAYLIGHT
BEGIN:STANDARD
TZOFFSETFROM:-0400
TZOFFSETTO:-0500
TZNAME:EST
DTSTART:20261101T060000
END:STANDARD
BEGIN:DAYLIGHT
TZOFFSETFROM:-0500
TZOFFSETTO:-0400
TZNAME:EDT
DTSTART:20270314T070000
END:DAYLIGHT
BEGIN:STANDARD
TZOFFSETFROM:-0400
TZOFFSETTO:-0500
TZNAME:EST
DTSTART:20271107T060000
END:STANDARD
END:VTIMEZONE
BEGIN:VEVENT
DTSTART;TZID=America/New_York:20260809T090000
DTEND;TZID=America/New_York:20260809T090000
DTSTAMP:20260422T185104
CREATED:20260215T175349Z
LAST-MODIFIED:20260405T141143Z
UID:3832-1786266000-1786266000@dreammachineclassics.org
SUMMARY:Seafood Festival Car And Bike Show
DESCRIPTION:$20 Admission Fee For Car And One Passenger – Additional Passengers Are Subject to $12 Entrance Fee \nAll Cars And Bikes Are Welcome \nMusical Entertainment \, Rides\, And Many Other Events \nWide Variety Of Foods \nWide Variety Of Arts And Crafts \nFor More Information Call Joe @ 401-499-9877 or visit www.ristreetrodding.org
URL:https://dreammachineclassics.org/event/seafood-festival-car-and-bike-show/
LOCATION:Ninigret Park\, Charlestown\, RI\, 02813
CATEGORIES:Car Show
END:VEVENT
BEGIN:VEVENT
DTSTART;TZID=America/New_York:20260815T100000
DTEND;TZID=America/New_York:20260815T140000
DTSTAMP:20260422T185104
CREATED:20260401T003700Z
LAST-MODIFIED:20260422T222656Z
UID:5050-1786788000-1786802400@dreammachineclassics.org
SUMMARY:Annual Community Fundraiser Car Show-Cruise for a Cause
DESCRIPTION:Free Admission       No Rain Date \n\nDonations welcome\, all proceeds go to local families in critical need \nDoor Prizes & Refreshments \nOpen to all years of cars\, trucks\, race cars and vintage stock cars \nPlease no motorcycles – The Staff has the right to refuse any entry – Please no alcohol or burnouts \nFor more info contact Ted Grey (860) 608-1089\, Al Wlodarczyk (959) 239-1598 or Don Smith (860) 443-7837 \n\nclick here for flyer
URL:https://dreammachineclassics.org/event/annual-community-fundraiser-car-show-cruise-for-a-cause/
LOCATION:Salem Town Green\, 244 Hartford Road\, Salem\, CT
CATEGORIES:Car Show
END:VEVENT
BEGIN:VEVENT
DTSTART;TZID=America/New_York:20260822T090000
DTEND;TZID=America/New_York:20260822T140000
DTSTAMP:20260422T185104
CREATED:20260415T012500Z
LAST-MODIFIED:20260415T013651Z
UID:5328-1787389200-1787407200@dreammachineclassics.org
SUMMARY:Car Show at Four Season by the Lake. By VFW Post 9990 Stafford Ct.
DESCRIPTION:Loc Four Season by the Lake Stafford Ct. \nSaturday Aug 22\, 2026\, Line up at 9:00Am Judging at 11:00Am. \nRain Date Aug 23\, 2026. \nAll Proceeds Supports Veterans Programs. \nDetails Contact Bob Titus 860 324 \n  \nclick for flyer
URL:https://dreammachineclassics.org/event/car-show-at-vfw-post-9990-stafford-ct/
LOCATION:Four Seasons By The Lake\, 51 Old Springfield Road\, Stafford Springs\, CT
CATEGORIES:Car Show
END:VEVENT
END:VCALENDAR