BEGIN:VCALENDAR
VERSION:2.0
PRODID:-//Dream Machine Classics Auto Club Eastern CT - ECPv6.15.20//NONSGML v1.0//EN
CALSCALE:GREGORIAN
METHOD:PUBLISH
X-ORIGINAL-URL:https://dreammachineclassics.org
X-WR-CALDESC:Events for Dream Machine Classics Auto Club Eastern CT
REFRESH-INTERVAL;VALUE=DURATION:PT1H
X-Robots-Tag:noindex
X-PUBLISHED-TTL:PT1H
BEGIN:VTIMEZONE
TZID:America/New_York
BEGIN:DAYLIGHT
TZOFFSETFROM:-0500
TZOFFSETTO:-0400
TZNAME:EDT
DTSTART:20250309T070000
END:DAYLIGHT
BEGIN:STANDARD
TZOFFSETFROM:-0400
TZOFFSETTO:-0500
TZNAME:EST
DTSTART:20251102T060000
END:STANDARD
BEGIN:DAYLIGHT
TZOFFSETFROM:-0500
TZOFFSETTO:-0400
TZNAME:EDT
DTSTART:20260308T070000
END:DAYLIGHT
BEGIN:STANDARD
TZOFFSETFROM:-0400
TZOFFSETTO:-0500
TZNAME:EST
DTSTART:20261101T060000
END:STANDARD
BEGIN:DAYLIGHT
TZOFFSETFROM:-0500
TZOFFSETTO:-0400
TZNAME:EDT
DTSTART:20270314T070000
END:DAYLIGHT
BEGIN:STANDARD
TZOFFSETFROM:-0400
TZOFFSETTO:-0500
TZNAME:EST
DTSTART:20271107T060000
END:STANDARD
END:VTIMEZONE
BEGIN:VEVENT
DTSTART;TZID=America/New_York:20260703T080000
DTEND;TZID=America/New_York:20260705T220000
DTSTAMP:20260422T173142
CREATED:20260406T025959Z
LAST-MODIFIED:20260411T222857Z
UID:5156-1783065600-1783288800@dreammachineclassics.org
SUMMARY:East Coast Hot Rod Nationals 2026 Green Hill Park July 3rd / 4th / 5th.
DESCRIPTION:Day 1 $30. per Car/ Day 2 $30. per Car/ Day 3 $30. per Car see Web site for three day Prices https://www.eastcoastnationals.com \nLive Bands Car Shows \nclick for flyer \n\n\n\n3 Day Pass – Vehicle Entry\nCar \n\n$70.00 \nclick for info
URL:https://dreammachineclassics.org/event/east-coast-hot-rod-nationals-2026-green-hill-park-july-3rd-4th-5th/
LOCATION:Green Hill Park Worcester Ma.\, 50 officer Manny Familia Wy.\, Worcester\, Ma.\, 01605
CATEGORIES:Car Show
END:VEVENT
BEGIN:VEVENT
DTSTART;TZID=America/New_York:20260711T090000
DTEND;TZID=America/New_York:20260711T170000
DTSTAMP:20260422T173142
CREATED:20260405T153702Z
LAST-MODIFIED:20260405T153939Z
UID:5148-1783760400-1783789200@dreammachineclassics.org
SUMMARY:Preston VFW Post 9452 2026 Car Show
DESCRIPTION:Sat July 11 2026 Rain Date July 12 \nCheck in 9Am Show starts at 10Am till 2Pm Raffle Prizes at 3pm \n$25. per Car Please Register by June 11. 860 786 8008 \nPrizes Awarded At the Preston VFW Post 9452 at 3Pm \nFood Available/ Music / Family Fun. \nInformation Josh Whitford 860 786 8008 \njosh.whitford.91@gmail.com \nclick for flyer \n 
URL:https://dreammachineclassics.org/event/preston-vfw-post-9452-2026-car-show/
LOCATION:Preston Community Park\, 13 CT-117\, Preston\, CT\, 06365
CATEGORIES:Car Show
END:VEVENT
BEGIN:VEVENT
DTSTART;TZID=America/New_York:20260711T100000
DTEND;TZID=America/New_York:20260711T140000
DTSTAMP:20260422T173142
CREATED:20260319T213624Z
LAST-MODIFIED:20260405T144125Z
UID:4508-1783764000-1783778400@dreammachineclassics.org
SUMMARY:Preston Car Show Fund Raiser
DESCRIPTION:Fund Raiser For Rebuilding Efforts After The Fire Of August 2022 \nCheck in 9am    Show Time 10am to 2pm \nCategories 1950’s 60’s 70’s 80’s to current \nRaffle Drawings at 3pm at VFW Post 9452 \nPrizes For Various Categories \nRegister by June 11 \nJosh Whitford 860-786-8008 \njosh.whitford.91@gmail.com
URL:https://dreammachineclassics.org/event/preston-car-show-fund-raiser/
LOCATION:Preston Community Park\, 13 CT-117\, Preston\, CT\, 06365
CATEGORIES:Car Show
END:VEVENT
BEGIN:VEVENT
DTSTART;TZID=America/New_York:20260712T000000
DTEND;TZID=America/New_York:20260712T235959
DTSTAMP:20260422T173142
CREATED:20260226T001410Z
LAST-MODIFIED:20260405T144150Z
UID:4000-1783814400-1783900799@dreammachineclassics.org
SUMMARY:General Motors Car Show
DESCRIPTION:General Motors Vehicles Only.  Any Year \nFood Trucks.  Trophies.  Raffle \nMusic and More \n  \n 
URL:https://dreammachineclassics.org/event/general-motors-car-show/
LOCATION:Location to be announced later
CATEGORIES:Car Show
END:VEVENT
BEGIN:VEVENT
DTSTART;TZID=America/New_York:20260712T090000
DTEND;TZID=America/New_York:20260712T150000
DTSTAMP:20260422T173142
CREATED:20260120T195836Z
LAST-MODIFIED:20260405T144158Z
UID:3679-1783846800-1783868400@dreammachineclassics.org
SUMMARY:MCCNE Massachusetts All Wheels Car Show
DESCRIPTION:All Makes\, Models\, & Vintages Of Both Foreign & Domestic Automobiles Are Welcome \nAll Show Cars Will Be Judged on Cleanliness\, Workmanship\, Condition\, Fit\, & Finish (except 2024 and newer will be peer vote) \nSpectators Are Welcome Admission & Parking Are Free  ( Sorry No Vendor Spaces) \n50/50 Raffle To Benefit Our Designated 2026 Charity \nCar Registrations From 9am to 12pm
URL:https://dreammachineclassics.org/event/mccne-massachusetts-all-wheels-car-show/
LOCATION:Chelmsford Elks Lodge\, 300 Littleton Rd\, Chelmsford\, MA\, 01824
CATEGORIES:Car Show
END:VEVENT
BEGIN:VEVENT
DTSTART;TZID=America/New_York:20260712T100000
DTEND;TZID=America/New_York:20260712T150000
DTSTAMP:20260422T173142
CREATED:20260215T163018Z
LAST-MODIFIED:20260405T144215Z
UID:3822-1783850400-1783868400@dreammachineclassics.org
SUMMARY:2nd Annual Motor-Mania Car Show
DESCRIPTION:Admission is $10 Per Person \nCars And Trucks Welcome – No Cutoff Year \nTrophies\, DJ\, 50/50 Raffle \nFood Trucks \nTrophies Are Best Hot Rod\, Best Custom\, Best Street Rod\, Best Muscle Car\, Best Truck\, Best Engine\, Best Interior\, Best Paint \nPeoples Choice and Best in Show \nRain Date July 18th \nFor More Info Contact Dave Goduti Sr. @ 203-506-1210 or via email @ godutidavid@sbcglobal.net
URL:https://dreammachineclassics.org/event/2nd-annual-motor-mania-car-show/
LOCATION:CSRA Clubhouse\, 316 Woodhouse Ave\, Wallingford\, CT\, 06492\, United States
CATEGORIES:Car Show
END:VEVENT
BEGIN:VEVENT
DTSTART;TZID=America/New_York:20260718T130000
DTEND;TZID=America/New_York:20260718T160000
DTSTAMP:20260422T173142
CREATED:20260403T234934Z
LAST-MODIFIED:20260403T235132Z
UID:5111-1784379600-1784390400@dreammachineclassics.org
SUMMARY:Hillyland Car Show Scotland Ct.
DESCRIPTION:Music by The POM.
URL:https://dreammachineclassics.org/event/hillyland-car-show-scotland-ct/
LOCATION:The Vineyard at Hillyland\, 75 Murphy Road\, Scotland\, CT\, 06264
CATEGORIES:Car Show
END:VEVENT
BEGIN:VEVENT
DTSTART;TZID=America/New_York:20260719T090000
DTEND;TZID=America/New_York:20260719T123000
DTSTAMP:20260422T173142
CREATED:20260401T144248Z
LAST-MODIFIED:20260401T144248Z
UID:5063-1784451600-1784464200@dreammachineclassics.org
SUMMARY:RI. Cowboy Cruisers Famous Super Show at Ballys Lincoln Casino Resort.
DESCRIPTION:Registration is 9am till 12:30. $25 cash only entry fee plus non perishable food items. Raffles\, 50/50 and free door prizes. 69 huge trophies! Food & ice cream available. Fun day for everyone. \nEvent by Alfred Korsak
URL:https://dreammachineclassics.org/event/ri-cowboy-cruisers-famous-super-show-at-ballys-lincoln-casino-resort/
LOCATION:ballys casino Resort\, 100 Twin River Rd.\, Lincoln\, Ri.
CATEGORIES:Car Show
END:VEVENT
END:VCALENDAR