BEGIN:VCALENDAR
VERSION:2.0
PRODID:-//Dream Machine Classics Auto Club Eastern CT - ECPv6.15.20//NONSGML v1.0//EN
CALSCALE:GREGORIAN
METHOD:PUBLISH
X-ORIGINAL-URL:https://dreammachineclassics.org
X-WR-CALDESC:Events for Dream Machine Classics Auto Club Eastern CT
REFRESH-INTERVAL;VALUE=DURATION:PT1H
X-Robots-Tag:noindex
X-PUBLISHED-TTL:PT1H
BEGIN:VTIMEZONE
TZID:America/New_York
BEGIN:DAYLIGHT
TZOFFSETFROM:-0500
TZOFFSETTO:-0400
TZNAME:EDT
DTSTART:20250309T070000
END:DAYLIGHT
BEGIN:STANDARD
TZOFFSETFROM:-0400
TZOFFSETTO:-0500
TZNAME:EST
DTSTART:20251102T060000
END:STANDARD
BEGIN:DAYLIGHT
TZOFFSETFROM:-0500
TZOFFSETTO:-0400
TZNAME:EDT
DTSTART:20260308T070000
END:DAYLIGHT
BEGIN:STANDARD
TZOFFSETFROM:-0400
TZOFFSETTO:-0500
TZNAME:EST
DTSTART:20261101T060000
END:STANDARD
BEGIN:DAYLIGHT
TZOFFSETFROM:-0500
TZOFFSETTO:-0400
TZNAME:EDT
DTSTART:20270314T070000
END:DAYLIGHT
BEGIN:STANDARD
TZOFFSETFROM:-0400
TZOFFSETTO:-0500
TZNAME:EST
DTSTART:20271107T060000
END:STANDARD
END:VTIMEZONE
BEGIN:VEVENT
DTSTART;TZID=America/New_York:20261003T130000
DTEND;TZID=America/New_York:20261003T130000
DTSTAMP:20260422T201723
CREATED:20260417T004039Z
LAST-MODIFIED:20260417T004039Z
UID:5347-1791032400-1791032400@dreammachineclassics.org
SUMMARY:4th Annual C10's In The Vineyard
DESCRIPTION:Open To All GM Trucks to 06 \nFood And Drinks On Site \nScenic Vineyard Setting \nJoin Us At Arrowhead Acres
URL:https://dreammachineclassics.org/event/4th-annual-c10s-in-the-vineyard/
LOCATION:Arrowhead Acre LLC\, 515 Pond Rd\, North Franklin\, CT\, 06254\, United States
END:VEVENT
BEGIN:VEVENT
DTSTART;TZID=America/New_York:20261003T150000
DTEND;TZID=America/New_York:20261003T190000
DTSTAMP:20260422T201723
CREATED:20250428T191848Z
LAST-MODIFIED:20260329T163807Z
UID:2073-1791039600-1791054000@dreammachineclassics.org
SUMMARY:Bristol Auto Club-Cruise Nights
DESCRIPTION:No Rain Dates \nEvery 1st & 3rd Saturday Nights May 2nd through October 3rd \nFree Admission\, No Cut-Off\, 3 Awards Each Night\, Raffle Prizes\, Oldies Music \nSpecial Thanks to The D’Amato Family \nclick here for flyer
URL:https://dreammachineclassics.org/event/bristol-auto-club-cruise-nights-10/
LOCATION:Bristol Auto Club\, 10 Main Street\, Bristol\, CT
CATEGORIES:Cruise Night
END:VEVENT
END:VCALENDAR