BEGIN:VCALENDAR
VERSION:2.0
PRODID:-//Dream Machine Classics Auto Club Eastern CT - ECPv6.15.20//NONSGML v1.0//EN
CALSCALE:GREGORIAN
METHOD:PUBLISH
X-WR-CALNAME:Dream Machine Classics Auto Club Eastern CT
X-ORIGINAL-URL:https://dreammachineclassics.org
X-WR-CALDESC:Events for Dream Machine Classics Auto Club Eastern CT
REFRESH-INTERVAL;VALUE=DURATION:PT1H
X-Robots-Tag:noindex
X-PUBLISHED-TTL:PT1H
BEGIN:VTIMEZONE
TZID:America/New_York
BEGIN:DAYLIGHT
TZOFFSETFROM:-0500
TZOFFSETTO:-0400
TZNAME:EDT
DTSTART:20250309T070000
END:DAYLIGHT
BEGIN:STANDARD
TZOFFSETFROM:-0400
TZOFFSETTO:-0500
TZNAME:EST
DTSTART:20251102T060000
END:STANDARD
BEGIN:DAYLIGHT
TZOFFSETFROM:-0500
TZOFFSETTO:-0400
TZNAME:EDT
DTSTART:20260308T070000
END:DAYLIGHT
BEGIN:STANDARD
TZOFFSETFROM:-0400
TZOFFSETTO:-0500
TZNAME:EST
DTSTART:20261101T060000
END:STANDARD
BEGIN:DAYLIGHT
TZOFFSETFROM:-0500
TZOFFSETTO:-0400
TZNAME:EDT
DTSTART:20270314T070000
END:DAYLIGHT
BEGIN:STANDARD
TZOFFSETFROM:-0400
TZOFFSETTO:-0500
TZNAME:EST
DTSTART:20271107T060000
END:STANDARD
END:VTIMEZONE
BEGIN:VEVENT
DTSTART;TZID=America/New_York:20260918T000000
DTEND;TZID=America/New_York:20260919T235959
DTSTAMP:20260422T202001
CREATED:20260215T170404Z
LAST-MODIFIED:20260215T170404Z
UID:3826-1789689600-1789862399@dreammachineclassics.org
SUMMARY:NSRA Northeast Nationals
DESCRIPTION:Burlington\, Vt. \nHeld At The Champlain Valley Exposition Fairgrounds \nOnly Vehicles Of 1996 Or Earlier Manufacture Are Accepted For Participation And Entry \nNo Mail in Entries Accepted After Friday August 28th \nDiscount Available Through Friday August 28th \nContact NSRA Website  www.nsra-usa.com For Prices or Call 901-452-4030 \n  \n  \n 
URL:https://dreammachineclassics.org/event/nsra-northeast-nationals/
LOCATION:Champlain Valley Exposition Center\, Burlington\, VT
END:VEVENT
BEGIN:VEVENT
DTSTART;TZID=America/New_York:20260918T163000
DTEND;TZID=America/New_York:20260918T190000
DTSTAMP:20260422T202001
CREATED:20260401T002328Z
LAST-MODIFIED:20260405T140451Z
UID:5047-1789749000-1789758000@dreammachineclassics.org
SUMMARY:Bozrah Farmer Market Cruise Night 2026
DESCRIPTION:Bozrah Farmers Market Cruise Night \nMusic by the Pom\, Food and Drinks\, Ice cream \nDirections: \nExit 23 off Rt 2\, follow Sheep signs to Maples Farm Park\, for more info visit www.bozrahfarmersmarket.org
URL:https://dreammachineclassics.org/event/bozrah-farmer-market-cruise-night-2026-2/
LOCATION:Bozrah Farmers Market\, 45 Bozrah Street (Rt 163)\, Bozrah\, CT
CATEGORIES:Cruise Night
END:VEVENT
BEGIN:VEVENT
DTSTART;TZID=America/New_York:20260918T170000
DTEND;TZID=America/New_York:20260918T200000
DTSTAMP:20260422T202001
CREATED:20260323T221024Z
LAST-MODIFIED:20260323T232527Z
UID:4760-1789750800-1789761600@dreammachineclassics.org
SUMMARY:Cruisin’ @ CT Golf Land 2026
DESCRIPTION:Every Friday\, 5pm – Dark \nWeekly Trophy \nCar Show at Golf Land in Vernon\, CT on Rte. 30 / 83 \nBrought to you by: Rocking Horse Bar & Grill \nclick for flyer
URL:https://dreammachineclassics.org/event/cruisin-ct-golf-land-2026-9/
LOCATION:CT Golf Land\, 95 Hartford Turnpike\, Vernon\, CT\, 06066
CATEGORIES:Cruise Night
END:VEVENT
END:VCALENDAR