BEGIN:VCALENDAR
VERSION:2.0
PRODID:-//Dream Machine Classics Auto Club Eastern CT - ECPv6.15.20//NONSGML v1.0//EN
CALSCALE:GREGORIAN
METHOD:PUBLISH
X-ORIGINAL-URL:https://dreammachineclassics.org
X-WR-CALDESC:Events for Dream Machine Classics Auto Club Eastern CT
REFRESH-INTERVAL;VALUE=DURATION:PT1H
X-Robots-Tag:noindex
X-PUBLISHED-TTL:PT1H
BEGIN:VTIMEZONE
TZID:America/New_York
BEGIN:DAYLIGHT
TZOFFSETFROM:-0500
TZOFFSETTO:-0400
TZNAME:EDT
DTSTART:20250309T070000
END:DAYLIGHT
BEGIN:STANDARD
TZOFFSETFROM:-0400
TZOFFSETTO:-0500
TZNAME:EST
DTSTART:20251102T060000
END:STANDARD
BEGIN:DAYLIGHT
TZOFFSETFROM:-0500
TZOFFSETTO:-0400
TZNAME:EDT
DTSTART:20260308T070000
END:DAYLIGHT
BEGIN:STANDARD
TZOFFSETFROM:-0400
TZOFFSETTO:-0500
TZNAME:EST
DTSTART:20261101T060000
END:STANDARD
BEGIN:DAYLIGHT
TZOFFSETFROM:-0500
TZOFFSETTO:-0400
TZNAME:EDT
DTSTART:20270314T070000
END:DAYLIGHT
BEGIN:STANDARD
TZOFFSETFROM:-0400
TZOFFSETTO:-0500
TZNAME:EST
DTSTART:20271107T060000
END:STANDARD
END:VTIMEZONE
BEGIN:VEVENT
DTSTART;TZID=America/New_York:20260902T043000
DTEND;TZID=America/New_York:20260902T200000
DTSTAMP:20260422T185106
CREATED:20260317T225351Z
LAST-MODIFIED:20260405T140739Z
UID:4299-1788323400-1788379200@dreammachineclassics.org
SUMMARY:29th Annual Cruise Night on Main Street Middletown Ct.
DESCRIPTION:Wednesday\, September 2\, 2026 • 4:30 PM – 8:00 PM\nMain Street • Middletown\, CT \nA beloved Middletown tradition returns for its 29th year—now with a new date! Enjoy an evening packed with classic cars\, community energy\, and family‑friendly fun right in the heart of downtown. \n$10.00 per show Vehicle   Free to Spectators \ninfo at Middlesex chamber of commerce    860 347 6924 \nclick here for flyer
URL:https://dreammachineclassics.org/event/29-th-annual-cruise-night-on-main-street-middle-town/
LOCATION:Middletown-Main Street\, Main Street\, Middletown\, CT
CATEGORIES:Cruise Night
END:VEVENT
BEGIN:VEVENT
DTSTART;TZID=America/New_York:20260902T170000
DTEND;TZID=America/New_York:20260902T190000
DTSTAMP:20260422T185106
CREATED:20260403T145051Z
LAST-MODIFIED:20260403T145051Z
UID:5098-1788368400-1788375600@dreammachineclassics.org
SUMMARY:Moose Lodge 950 2026 Cruise
DESCRIPTION:New Date 1st Wednesday Each Month Starting May 6th .  5PM till 7PM \nRods / Customs / Antiques / Muscle Cars / Special Interest \nFood Services and Beverages Available at the Moose Club Bozrah CT \nFor more info call (860) 889-6856 \nclick for flyers
URL:https://dreammachineclassics.org/event/moose-lodge-950-2026-cruise/
LOCATION:Bozrah Moose Lodge 950\, 115 Fitchville Rd\, Bozrah\, CT
CATEGORIES:Cruise Night
END:VEVENT
END:VCALENDAR