BEGIN:VCALENDAR
VERSION:2.0
PRODID:-//Dream Machine Classics Auto Club Eastern CT - ECPv6.15.20//NONSGML v1.0//EN
CALSCALE:GREGORIAN
METHOD:PUBLISH
X-WR-CALNAME:Dream Machine Classics Auto Club Eastern CT
X-ORIGINAL-URL:https://dreammachineclassics.org
X-WR-CALDESC:Events for Dream Machine Classics Auto Club Eastern CT
REFRESH-INTERVAL;VALUE=DURATION:PT1H
X-Robots-Tag:noindex
X-PUBLISHED-TTL:PT1H
BEGIN:VTIMEZONE
TZID:America/New_York
BEGIN:DAYLIGHT
TZOFFSETFROM:-0500
TZOFFSETTO:-0400
TZNAME:EDT
DTSTART:20250309T070000
END:DAYLIGHT
BEGIN:STANDARD
TZOFFSETFROM:-0400
TZOFFSETTO:-0500
TZNAME:EST
DTSTART:20251102T060000
END:STANDARD
BEGIN:DAYLIGHT
TZOFFSETFROM:-0500
TZOFFSETTO:-0400
TZNAME:EDT
DTSTART:20260308T070000
END:DAYLIGHT
BEGIN:STANDARD
TZOFFSETFROM:-0400
TZOFFSETTO:-0500
TZNAME:EST
DTSTART:20261101T060000
END:STANDARD
BEGIN:DAYLIGHT
TZOFFSETFROM:-0500
TZOFFSETTO:-0400
TZNAME:EDT
DTSTART:20270314T070000
END:DAYLIGHT
BEGIN:STANDARD
TZOFFSETFROM:-0400
TZOFFSETTO:-0500
TZNAME:EST
DTSTART:20271107T060000
END:STANDARD
END:VTIMEZONE
BEGIN:VEVENT
DTSTART;TZID=America/New_York:20260821T163000
DTEND;TZID=America/New_York:20260821T193000
DTSTAMP:20260422T184803
CREATED:20260401T001056Z
LAST-MODIFIED:20260401T001634Z
UID:5035-1787329800-1787340600@dreammachineclassics.org
SUMMARY:Bozrah Farmer Market Cruise Night
DESCRIPTION:Bozrah Farmers Market Cruise Night \nMusic by the Pom\, Food and Drinks\, Ice cream \nDirections: \nExit 23 off Rt 2\, follow Sheep signs to Maples Farm Park\, for more info visit www.bozrahfarmersmarket.org
URL:https://dreammachineclassics.org/event/bozrah-farmer-market-cruise-night/
LOCATION:Bozrah Farmers Market\, 45 Bozrah Street (Rt 163)\, Bozrah\, CT
CATEGORIES:Cruise Night
END:VEVENT
BEGIN:VEVENT
DTSTART;TZID=America/New_York:20260821T170000
DTEND;TZID=America/New_York:20260821T200000
DTSTAMP:20260422T184803
CREATED:20260323T225356Z
LAST-MODIFIED:20260323T225356Z
UID:4789-1787331600-1787342400@dreammachineclassics.org
SUMMARY:Cruisin’ @ CT Golf Land 2026
DESCRIPTION:Every Friday\, 5pm – Dark \nWeekly Trophy \nCar Show at Golf Land in Vernon\, CT on Rte. 30 / 83 \nBrought to you by: Rocking Horse Bar & Grill \nclick for flyer
URL:https://dreammachineclassics.org/event/cruisin-ct-golf-land-2026-16/
LOCATION:CT Golf Land\, 95 Hartford Turnpike\, Vernon\, CT\, 06066
CATEGORIES:Cruise Night
END:VEVENT
END:VCALENDAR