BEGIN:VCALENDAR
VERSION:2.0
PRODID:-//Dream Machine Classics Auto Club Eastern CT - ECPv6.15.20//NONSGML v1.0//EN
CALSCALE:GREGORIAN
METHOD:PUBLISH
X-ORIGINAL-URL:https://dreammachineclassics.org
X-WR-CALDESC:Events for Dream Machine Classics Auto Club Eastern CT
REFRESH-INTERVAL;VALUE=DURATION:PT1H
X-Robots-Tag:noindex
X-PUBLISHED-TTL:PT1H
BEGIN:VTIMEZONE
TZID:America/New_York
BEGIN:DAYLIGHT
TZOFFSETFROM:-0500
TZOFFSETTO:-0400
TZNAME:EDT
DTSTART:20250309T070000
END:DAYLIGHT
BEGIN:STANDARD
TZOFFSETFROM:-0400
TZOFFSETTO:-0500
TZNAME:EST
DTSTART:20251102T060000
END:STANDARD
BEGIN:DAYLIGHT
TZOFFSETFROM:-0500
TZOFFSETTO:-0400
TZNAME:EDT
DTSTART:20260308T070000
END:DAYLIGHT
BEGIN:STANDARD
TZOFFSETFROM:-0400
TZOFFSETTO:-0500
TZNAME:EST
DTSTART:20261101T060000
END:STANDARD
BEGIN:DAYLIGHT
TZOFFSETFROM:-0500
TZOFFSETTO:-0400
TZNAME:EDT
DTSTART:20270314T070000
END:DAYLIGHT
BEGIN:STANDARD
TZOFFSETFROM:-0400
TZOFFSETTO:-0500
TZNAME:EST
DTSTART:20271107T060000
END:STANDARD
END:VTIMEZONE
BEGIN:VEVENT
DTSTART;TZID=America/New_York:20260819T170000
DTEND;TZID=America/New_York:20260819T200000
DTSTAMP:20260422T185056
CREATED:20260331T004520Z
LAST-MODIFIED:20260410T145016Z
UID:4995-1787158800-1787169600@dreammachineclassics.org
SUMMARY:Colchester Cruise On the Green by Good Time Motoring Club
DESCRIPTION:Third Wednesday of each month Rain Date 4th Wednesday of each month May thru September. \nNo 1988 or newer Vehicles allowed on the Show Field Due to lack of Room. \nPlease No Burn outs and No Alcohol \nDue to limited space on the green GTMC reserves the right to deny any vehicle admission to the Green. Personnel on duty at the entrance have the final decision to grant or deny access. \nClick to view flyer
URL:https://dreammachineclassics.org/event/colchester-cruise-on-the-green-by-good-time-motoring-club-4/
LOCATION:Colchester on the Green\, 98 Hayward Avenue\, Colchester\, CT\, 06415
CATEGORIES:Cruise Night
END:VEVENT
END:VCALENDAR