BEGIN:VCALENDAR
VERSION:2.0
PRODID:-//Dream Machine Classics Auto Club Eastern CT - ECPv6.15.20//NONSGML v1.0//EN
CALSCALE:GREGORIAN
METHOD:PUBLISH
X-ORIGINAL-URL:https://dreammachineclassics.org
X-WR-CALDESC:Events for Dream Machine Classics Auto Club Eastern CT
REFRESH-INTERVAL;VALUE=DURATION:PT1H
X-Robots-Tag:noindex
X-PUBLISHED-TTL:PT1H
BEGIN:VTIMEZONE
TZID:America/New_York
BEGIN:DAYLIGHT
TZOFFSETFROM:-0500
TZOFFSETTO:-0400
TZNAME:EDT
DTSTART:20250309T070000
END:DAYLIGHT
BEGIN:STANDARD
TZOFFSETFROM:-0400
TZOFFSETTO:-0500
TZNAME:EST
DTSTART:20251102T060000
END:STANDARD
BEGIN:DAYLIGHT
TZOFFSETFROM:-0500
TZOFFSETTO:-0400
TZNAME:EDT
DTSTART:20260308T070000
END:DAYLIGHT
BEGIN:STANDARD
TZOFFSETFROM:-0400
TZOFFSETTO:-0500
TZNAME:EST
DTSTART:20261101T060000
END:STANDARD
BEGIN:DAYLIGHT
TZOFFSETFROM:-0500
TZOFFSETTO:-0400
TZNAME:EDT
DTSTART:20270314T070000
END:DAYLIGHT
BEGIN:STANDARD
TZOFFSETFROM:-0400
TZOFFSETTO:-0500
TZNAME:EST
DTSTART:20271107T060000
END:STANDARD
END:VTIMEZONE
BEGIN:VEVENT
DTSTART;TZID=America/New_York:20260703T080000
DTEND;TZID=America/New_York:20260705T220000
DTSTAMP:20260422T160359
CREATED:20260406T025959Z
LAST-MODIFIED:20260411T222857Z
UID:5156-1783065600-1783288800@dreammachineclassics.org
SUMMARY:East Coast Hot Rod Nationals 2026 Green Hill Park July 3rd / 4th / 5th.
DESCRIPTION:Day 1 $30. per Car/ Day 2 $30. per Car/ Day 3 $30. per Car see Web site for three day Prices https://www.eastcoastnationals.com \nLive Bands Car Shows \nclick for flyer \n\n\n\n3 Day Pass – Vehicle Entry\nCar \n\n$70.00 \nclick for info
URL:https://dreammachineclassics.org/event/east-coast-hot-rod-nationals-2026-green-hill-park-july-3rd-4th-5th/
LOCATION:Green Hill Park Worcester Ma.\, 50 officer Manny Familia Wy.\, Worcester\, Ma.\, 01605
CATEGORIES:Car Show
END:VEVENT
BEGIN:VEVENT
DTSTART;TZID=America/New_York:20260703T170000
DTEND;TZID=America/New_York:20260703T200000
DTSTAMP:20260422T160359
CREATED:20260323T220716Z
LAST-MODIFIED:20260323T220716Z
UID:4757-1783098000-1783108800@dreammachineclassics.org
SUMMARY:Cruisin’ @ CT Golf Land 2026
DESCRIPTION:Every Friday\, 5pm – Dark \nWeekly Trophy \nCar Show at Golf Land in Vernon\, CT on Rte. 30 / 83 \nBrought to you by: Rocking Horse Bar & Grill \nclick for flyer
URL:https://dreammachineclassics.org/event/cruisin-ct-golf-land-2026-8/
LOCATION:CT Golf Land\, 95 Hartford Turnpike\, Vernon\, CT\, 06066
CATEGORIES:Cruise Night
END:VEVENT
END:VCALENDAR